PDS_VERSION_ID = PDS3
/* FILE DATA ELEMENTS */
RECORD_TYPE = STREAM
/* POINTERS TO DATA OBJECTS */
^COMPRESSED_FILE = "H1993_0004_SR3.JP2"
/* IDENTIFICATION DATA ELEMENTS */
DATA_SET_ID = "MEX-M-HRSC-5-REFDR-MAPPROJECTED-V3.0"
DATA_SET_NAME = "MARS EXPRESS HRSC MAP PROJECTED REFDR V3.0"
DETECTOR_ID = MEX_HRSC_SRC
EVENT_TYPE = "MARS-REGIONAL-MAPPING-Te-Pf"
INSTRUMENT_HOST_ID = MEX
INSTRUMENT_HOST_NAME = "MARS EXPRESS"
INSTRUMENT_ID = HRSC
INSTRUMENT_NAME = "HIGH RESOLUTION STEREO CAMERA"
MISSION_NAME = "MARS EXPRESS"
MISSION_PHASE_NAME = MR_Phase_7
PROCESSING_LEVEL_ID = 3
PRODUCT_CREATION_TIME = 2016-03-09T16:25:58.000Z
PRODUCT_ID = "H1993_0004_SR3.JP2"
RELEASE_ID = 0025
REVISION_ID = 0000
/* QUALITY DATA ELEMENTS */
DATA_QUALITY_ID = 1
DATA_QUALITY_DESC = "Data calculated based on original SPICE kernels"
/* TIME DATA ELEMENTS */
SPACECRAFT_CLOCK_START_COUNT = "1/0071176851.56195"
SPACECRAFT_CLOCK_STOP_COUNT = "1/0071177239.48027"
IMAGE_TIME = 2005-08-03T19:25:17.664Z
START_TIME = 2005-08-03T19:25:17.662Z
STOP_TIME = 2005-08-03T19:25:17.667Z
/* ORBITAL DATA ELEMENTS */
ASCENDING_NODE_LONGITUDE = 186.49
MAXIMUM_RESOLUTION = 2.762
FOOTPRINT_POINT_LATITUDE = (9.76606,9.76783,9.76913,9.77095, 9.77221,9.77426,9.77716,9.77902,9.7807, 9.78299,9.78439,9.78569,9.78765,9.78952 ,9.79106,9.79278,9.79525,9.79782, 9.79959,9.80174,9.80328,9.80514,9.80659 ,9.80845,9.80981,9.81153,9.81153, 9.81153,9.81153,9.81153,9.81153,9.81153 ,9.81153,9.81153,9.81153,9.81153, 9.81153,9.81153,9.81152,9.81152,9.81152 ,9.81152,9.81152,9.81152,9.81152, 9.81152,9.81152,9.81152,9.81152,9.81152 ,9.81068,9.80914,9.80736,9.80512, 9.80316,9.80078,9.79947,9.79788,9.79564 ,9.79317,9.79078,9.78882,9.78658, 9.78527,9.78336,9.7814,9.78004,9.77813, 9.77631,9.77495,9.77337,9.77173,9.76986 ,9.76716,9.7645,9.7645,9.7645,9.7645, 9.76451,9.76451,9.76451,9.76452,9.76452 ,9.76452,9.76452,9.76453,9.76453, 9.76453,9.76453,9.76454,9.76454,9.76454 ,9.76455,9.76455,9.76455,9.76455, 9.76455,9.76456,9.76456,9.76606)
FOOTPRINT_POINT_LONGITUDE = (131.699,131.699,131.699,131.699, 131.699,131.699,131.699,131.699,131.699 ,131.699,131.699,131.699,131.699, 131.699,131.699,131.699,131.699,131.699 ,131.699,131.699,131.699,131.699, 131.699,131.699,131.699,131.7,131.702, 131.704,131.706,131.708,131.71,131.712, 131.714,131.715,131.717,131.719,131.721 ,131.723,131.725,131.727,131.729, 131.731,131.733,131.735,131.736,131.738 ,131.74,131.742,131.744,131.746,131.748 ,131.748,131.748,131.748,131.748, 131.748,131.748,131.748,131.748,131.748 ,131.748,131.748,131.748,131.748, 131.748,131.748,131.748,131.748,131.748 ,131.748,131.748,131.748,131.748, 131.748,131.746,131.744,131.742,131.74, 131.739,131.737,131.735,131.733,131.731 ,131.729,131.727,131.725,131.723, 131.721,131.72,131.718,131.716,131.714, 131.712,131.71,131.708,131.706,131.704, 131.702,131.7,131.699)
ORBIT_NUMBER = 1993
ORBITAL_ECCENTRICITY = 0.572
ORBITAL_INCLINATION = 86.58
ORBITAL_SEMIMAJOR_AXIS = 8624.96
PERIAPSIS_ALTITUDE = 296.98
PERIAPSIS_ARGUMENT_ANGLE = 8.34
PERIAPSIS_TIME = 2005-08-03T19:24:56.000Z
SPACECRAFT_ORIENTATION = (0.0,1.0,0.0)
^MEX_ORIENTATION_DESC = "MEX_ORIENTATION_DESC.TXT"
SPACECRAFT_POINTING_MODE = ACROSSTRACK
^MEX_POINTING_DESC = "MEX_POINTING_DESC.TXT"
RIGHT_ASCENSION = -1e+32
DECLINATION = -1e+32
OFFSET_ANGLE = -0.55
SPACECRAFT_SOLAR_DISTANCE = 2.06957e+08
TARGET_NAME = MARS
/* CAMERA DATA ELEMENTS */
BUFFER_MODE_ID = BUFFER_8
EXPOSURE_DURATION = 5.04
INST_CMPRS_NAME = NONE
INST_CMPRS_RATIO = 1.0
INST_CMPRS_QUALITY = -2147483648
INST_CMPRS_QUANTZ_TBL_ID = -2147483648
INSTRUMENT_TEMPERATURE = 14.2424
MISSING_FRAMES = 0
START_BIT = 0
/* RADIOMETRIC DATA ELEMENTS */
BANDWIDTH = 250.0
CENTER_FILTER_WAVELENGTH = 600.0
RADIANCE_OFFSET = -9.99e+31
RADIANCE_SCALING_FACTOR = -9.99e+31
REFLECTANCE_SCALING_FACTOR = -9.99e+31
MEX:REFLECTANCE_OFFSET = -9.99e+31
/* IMAGE OBJECT DEFINITIONS */
OBJECT = IMAGE
  INTERCHANGE_FORMAT = BINARY
  LINES = 1158
  LINE_SAMPLES = 1178
  SAMPLE_TYPE = UNSIGNED_INTEGER
  SAMPLE_BITS = 8
  BANDS = 1
  BAND_STORAGE_TYPE = BAND_SEQUENTIAL
  MAXIMUM = 4840
  MEAN = 4426.97
  MINIMUM = 3727
  STANDARD_DEVIATION = 78.4212
END_OBJECT = IMAGE
/* MAP OBJECT DEFINITIONS */
OBJECT = IMAGE_MAP_PROJECTION
  ^DATA_SET_MAP_PROJECTION_CATALOG= "DSMAP.CAT"
  A_AXIS_RADIUS = 3396.19
  B_AXIS_RADIUS = 3396.19
  C_AXIS_RADIUS = 3396.19
  CENTER_LATITUDE = 0.0
  CENTER_LONGITUDE = 132.0
  COORDINATE_SYSTEM_NAME = PLANETOGRAPHIC
  COORDINATE_SYSTEM_TYPE = "BODY-FIXED ROTATING"
  EASTERNMOST_LONGITUDE = 131.748
  FIRST_STANDARD_PARALLEL = "N/A"
  LINE_FIRST_PIXEL = 1
  LINE_LAST_PIXEL = 1158
  LINE_PROJECTION_OFFSET = 232635.0
  MAP_PROJECTION_ROTATION = 0.0
  MAP_PROJECTION_TYPE = SINUSOIDAL
  MAP_RESOLUTION = 23709.8786048756
  MAP_SCALE = 0.0025
  MAXIMUM_LATITUDE = 9.811529999999999
  MINIMUM_LATITUDE = 9.7645
  POSITIVE_LONGITUDE_DIRECTION = EAST
  REFERENCE_LATITUDE = "N/A"
  REFERENCE_LONGITUDE = "N/A"
  SAMPLE_FIRST_PIXEL = 1
  SAMPLE_LAST_PIXEL = 1178
  SAMPLE_PROJECTION_OFFSET = 7029.0
  SECOND_STANDARD_PARALLEL = "N/A"
  WESTERNMOST_LONGITUDE = 131.699
END_OBJECT = IMAGE_MAP_PROJECTION
/* The JPEG2000 image data file associated with this label. */
OBJECT = COMPRESSED_FILE
  FILE_NAME = "H1993_0004_SR3.JP2"
  RECORD_TYPE = UNDEFINED
  FILE_RECORDS = UNK
  ENCODING_TYPE = "JP2"
  INTERCHANGE_FORMAT = BINARY
  UNCOMPRESSED_FILE_NAME = "H1993_0004_SR3.IMG"
  REQUIRED_STORAGE_BYTES = "1382972"
  ^DESCRIPTION = "JP2INFO.TXT"
END_OBJECT = COMPRESSED_FILE
END
