PDS_VERSION_ID = PDS3
/* FILE DATA ELEMENTS */
RECORD_TYPE = STREAM
/* POINTERS TO DATA OBJECTS */
^COMPRESSED_FILE = "H1994_0000_IR3.JP2"
/* IDENTIFICATION DATA ELEMENTS */
DATA_SET_ID = "MEX-M-HRSC-5-REFDR-MAPPROJECTED-V3.0"
DATA_SET_NAME = "MARS EXPRESS HRSC MAP PROJECTED REFDR V3.0"
DETECTOR_ID = MEX_HRSC_IR
EVENT_TYPE = "MARS-REGIONAL-MAPPING-Im-Fl-Lc"
INSTRUMENT_HOST_ID = MEX
INSTRUMENT_HOST_NAME = "MARS EXPRESS"
INSTRUMENT_ID = HRSC
INSTRUMENT_NAME = "HIGH RESOLUTION STEREO CAMERA"
MISSION_NAME = "MARS EXPRESS"
MISSION_PHASE_NAME = MR_Phase_7
PROCESSING_LEVEL_ID = 3
PRODUCT_CREATION_TIME = 2016-03-09T16:25:58.000Z
PRODUCT_ID = "H1994_0000_IR3.JP2"
RELEASE_ID = 0025
REVISION_ID = 0000
/* QUALITY DATA ELEMENTS */
DATA_QUALITY_ID = 1
DATA_QUALITY_DESC = "Data calculated based on original SPICE kernels"
/* TIME DATA ELEMENTS */
SPACECRAFT_CLOCK_START_COUNT = "1/0071201021.57318"
SPACECRAFT_CLOCK_STOP_COUNT = "1/0071201301.40110"
START_TIME = 2005-08-04T02:04:46.438Z
STOP_TIME = 2005-08-04T02:08:22.285Z
/* ORBITAL DATA ELEMENTS */
ASCENDING_NODE_LONGITUDE = 186.48
MAXIMUM_RESOLUTION = 49.5
FOOTPRINT_POINT_LATITUDE = (-6.4712,-6.46569,-6.46026,-6.45498, -6.44986,-6.44485,-6.43024,-6.27483, -5.96517,-5.80915,-5.49886,-5.34346, -5.03632,-4.73619,-4.44033,-3.98534, -3.53611,-3.23587,-2.93518,-2.6385, -2.20451,-1.91441,-1.47902,-1.04422, -0.609434,-0.319582,-0.0292465,0.406109 ,0.830804,1.10903,1.38894,1.66726, 2.08408,2.3641,2.64206,2.92069,3.33803, 3.61627,3.89497,4.17321,4.45051,4.86686 ,5.14514,5.56281,5.97984,6.39725, 6.81378,7.09145,7.36864,7.64503,7.91498 ,7.90461,7.89737,7.88735,7.74001, 7.46418,7.18736,6.91109,6.63412,6.35691 ,6.07866,5.80089,5.52224,5.10281, 4.68743,4.40947,3.99195,3.71302,3.29588 ,3.01738,2.59966,2.32056,2.04244, 1.62442,1.34541,1.0662,0.788137, 0.506326,0.21848,-0.0714114,-0.504844, -0.795525,-1.22928,-1.52335,-1.81337, -2.09961,-2.38972,-2.67936,-3.12601, -3.42574,-3.7256,-4.17548,-4.62481, -4.92463,-5.22755,-5.69109,-6.00078, -6.1561,-6.3113,-6.4712)
FOOTPRINT_POINT_LONGITUDE = (33.9945,33.8156,33.6379,33.4617, 33.2869,33.1134,32.9488,32.9498,32.9517 ,32.9526,32.9544,32.9552,32.9569, 32.9585,32.9601,32.9621,32.9642,32.9654 ,32.9666,32.9678,32.9694,32.9704, 32.9718,32.9731,32.9742,32.975,32.9756, 32.9765,32.9773,32.9779,32.9783,32.9787 ,32.9794,32.9796,32.9799,32.9802, 32.9805,32.9807,32.9808,32.9809,32.981, 32.981,32.9809,32.9807,32.9805,32.9801, 32.9797,32.9794,32.9791,32.9788,33.113, 33.3964,33.5942,33.8544,34.0404,34.039, 34.0384,34.0374,34.0369,34.0365,34.037, 34.0371,34.0378,34.0401,34.0392,34.0394 ,34.0402,34.0412,34.0418,34.0425, 34.0436,34.0449,34.0454,34.0469,34.0483 ,34.0498,34.0505,34.054,34.0544,34.0565 ,34.0586,34.0615,34.0642,34.0699, 34.0726,34.0724,34.0753,34.0779,34.0825 ,34.0853,34.0883,34.0931,34.0978, 34.1013,34.1063,34.1109,34.1147,34.117, 34.1193,33.9945)
ORBIT_NUMBER = 1994
ORBITAL_ECCENTRICITY = 0.572
ORBITAL_INCLINATION = 86.59
ORBITAL_SEMIMAJOR_AXIS = 8627.12
PERIAPSIS_ALTITUDE = 296.62
PERIAPSIS_ARGUMENT_ANGLE = 8.16
PERIAPSIS_TIME = 2005-08-04T02:08:05.000Z
SPACECRAFT_ORIENTATION = (0.0,1.0,0.0)
^MEX_ORIENTATION_DESC = "MEX_ORIENTATION_DESC.TXT"
SPACECRAFT_POINTING_MODE = ACROSSTRACK
^MEX_POINTING_DESC = "MEX_POINTING_DESC.TXT"
RIGHT_ASCENSION = -1e+32
DECLINATION = -1e+32
OFFSET_ANGLE = -0.6
SPACECRAFT_SOLAR_DISTANCE = 2.06967e+08
TARGET_NAME = MARS
/* CAMERA DATA ELEMENTS */
DETECTOR_TEMPERATURE = 17.9627
FOCAL_PLANE_TEMPERATURE = 10.2145
INST_CMPRS_NAME = "DISCRETE COSINE TRANSFORMATION (DCT)"
INST_CMPRS_RATIO = 6.42281
INST_CMPRS_QUALITY = 0
INST_CMPRS_QUANTZ_TBL_ID = 0
INSTRUMENT_TEMPERATURE = 11.6418
LENS_TEMPERATURE = 10.2145
MACROPIXEL_SIZE = 4
MISSING_FRAMES = 0
PIXEL_SUBSAMPLING_FLAG = N
SIGNAL_CHAIN_ID = 2
/* RADIOMETRIC DATA ELEMENTS */
BANDWIDTH = 81.0
CENTER_FILTER_WAVELENGTH = 955.5
RADIANCE_OFFSET = 1.26245
RADIANCE_SCALING_FACTOR = 0.00388228
REFLECTANCE_SCALING_FACTOR = 0.000358772
MEX:REFLECTANCE_OFFSET = 0.116667
/* IMAGE OBJECT DEFINITIONS */
OBJECT = IMAGE
  INTERCHANGE_FORMAT = BINARY
  LINES = 17030
  LINE_SAMPLES = 1520
  SAMPLE_TYPE = UNSIGNED_INTEGER
  SAMPLE_BITS = 8
  BANDS = 1
  BAND_STORAGE_TYPE = BAND_SEQUENTIAL
  MAXIMUM = 250
  MEAN = 183.62
  MINIMUM = 135
  STANDARD_DEVIATION = 10.402
END_OBJECT = IMAGE
/* MAP OBJECT DEFINITIONS */
OBJECT = IMAGE_MAP_PROJECTION
  ^DATA_SET_MAP_PROJECTION_CATALOG= "DSMAP.CAT"
  A_AXIS_RADIUS = 3396.0
  B_AXIS_RADIUS = 3396.0
  C_AXIS_RADIUS = 3396.0
  CENTER_LATITUDE = 0.0
  CENTER_LONGITUDE = 34.0
  COORDINATE_SYSTEM_NAME = PLANETOGRAPHIC
  COORDINATE_SYSTEM_TYPE = "BODY-FIXED ROTATING"
  EASTERNMOST_LONGITUDE = 34.1193
  FIRST_STANDARD_PARALLEL = "N/A"
  LINE_FIRST_PIXEL = 1
  LINE_LAST_PIXEL = 17030
  LINE_PROJECTION_OFFSET = 9360.125
  MAP_PROJECTION_ROTATION = 0.0
  MAP_PROJECTION_TYPE = SINUSOIDAL
  MAP_RESOLUTION = 1185.42760773333
  MAP_SCALE = 0.05
  MAXIMUM_LATITUDE = 7.91498
  MINIMUM_LATITUDE = -6.4712
  POSITIVE_LONGITUDE_DIRECTION = EAST
  REFERENCE_LATITUDE = "N/A"
  REFERENCE_LONGITUDE = "N/A"
  SAMPLE_FIRST_PIXEL = 1
  SAMPLE_LAST_PIXEL = 1520
  SAMPLE_PROJECTION_OFFSET = 1262.125
  SECOND_STANDARD_PARALLEL = "N/A"
  WESTERNMOST_LONGITUDE = 32.9488
END_OBJECT = IMAGE_MAP_PROJECTION
/* The JPEG2000 image data file associated with this label. */
OBJECT = COMPRESSED_FILE
  FILE_NAME = "H1994_0000_IR3.JP2"
  RECORD_TYPE = UNDEFINED
  FILE_RECORDS = UNK
  ENCODING_TYPE = "JP2"
  INTERCHANGE_FORMAT = BINARY
  UNCOMPRESSED_FILE_NAME = "H1994_0000_IR3.IMG"
  REQUIRED_STORAGE_BYTES = "25905360"
  ^DESCRIPTION = "JP2INFO.TXT"
END_OBJECT = COMPRESSED_FILE
END
