PDS_VERSION_ID = PDS3
/* FILE DATA ELEMENTS */
RECORD_TYPE = STREAM
/* POINTERS TO DATA OBJECTS */
^COMPRESSED_FILE = "H1997_0000_P23.JP2"
/* IDENTIFICATION DATA ELEMENTS */
DATA_SET_ID = "MEX-M-HRSC-5-REFDR-MAPPROJECTED-V3.0"
DATA_SET_NAME = "MARS EXPRESS HRSC MAP PROJECTED REFDR V3.0"
DETECTOR_ID = MEX_HRSC_P2
EVENT_TYPE = "MARS-REGIONAL-MAPPING-Te-Im"
INSTRUMENT_HOST_ID = MEX
INSTRUMENT_HOST_NAME = "MARS EXPRESS"
INSTRUMENT_ID = HRSC
INSTRUMENT_NAME = "HIGH RESOLUTION STEREO CAMERA"
MISSION_NAME = "MARS EXPRESS"
MISSION_PHASE_NAME = MR_Phase_7
PROCESSING_LEVEL_ID = 3
PRODUCT_CREATION_TIME = 2016-03-09T16:25:58.000Z
PRODUCT_ID = "H1997_0000_P23.JP2"
RELEASE_ID = 0025
REVISION_ID = 0000
/* QUALITY DATA ELEMENTS */
DATA_QUALITY_ID = 1
DATA_QUALITY_DESC = "Data calculated based on original SPICE kernels"
/* TIME DATA ELEMENTS */
SPACECRAFT_CLOCK_START_COUNT = "1/0071273758.57149"
SPACECRAFT_CLOCK_STOP_COUNT = "1/0071273976.06662"
START_TIME = 2005-08-04T22:16:15.183Z
STOP_TIME = 2005-08-04T22:18:56.095Z
/* ORBITAL DATA ELEMENTS */
ASCENDING_NODE_LONGITUDE = 186.41
MAXIMUM_RESOLUTION = 49
FOOTPRINT_POINT_LATITUDE = (3.54713,3.54415,3.54129,3.53854,3.535, 3.74329,4.05172,4.26241,4.47259,4.68196 ,4.89103,5.10164,5.31147,5.52036, 5.72996,6.04364,6.25264,6.52815,6.73644 ,6.94628,7.16064,7.37486,7.58494, 7.89898,8.10896,8.3204,8.53096,8.74161, 9.0576,9.26813,9.47901,9.79544,10.1118, 10.3229,10.5337,10.7448,10.9561,11.1677 ,11.4845,11.8016,12.0125,12.224,12.4358 ,12.647,12.8586,13.0699,13.2814,13.4929 ,13.7047,13.9165,14.1281,14.191,14.1948 ,14.1975,14.2008,13.8834,13.6718, 13.4601,13.1426,12.8254,12.5082,12.1919 ,11.9806,11.664,11.3474,11.0302,10.8193 ,10.5026,10.2914,10.081,9.8695,9.65883, 9.34269,9.13271,8.92212,8.71138,8.50091 ,8.29057,8.07952,7.86766,7.65733, 7.34277,7.13187,6.92275,6.71205,6.50314 ,6.33201,6.12318,5.91075,5.70107, 5.49151,5.17719,4.9683,4.65524,4.44578, 4.23563,4.02913,3.82033,3.61276, 3.54713)
FOOTPRINT_POINT_LONGITUDE = (98.6468,98.488,98.3299,98.1726,97.8669 ,97.8672,97.8683,97.8682,97.8681, 97.8682,97.8683,97.8682,97.8682,97.8683 ,97.8683,97.8684,97.8685,97.8687, 97.8689,97.8688,97.868,97.8671,97.867, 97.867,97.8668,97.8664,97.8662,97.8659, 97.8654,97.8651,97.8648,97.8642,97.8636 ,97.8632,97.8628,97.8623,97.8618, 97.8613,97.8605,97.8597,97.8592,97.8586 ,97.8579,97.8573,97.8567,97.8561, 97.8554,97.8547,97.854,97.8532,97.8524, 98.0969,98.4363,98.654,98.9603,98.9571, 98.9551,98.953,98.95,98.9474,98.9449, 98.9431,98.9417,98.9398,98.938,98.9359, 98.9349,98.9333,98.9321,98.9315,98.9302 ,98.9295,98.9284,98.9283,98.9277,98.927 ,98.9265,98.9261,98.9252,98.9237, 98.9233,98.9235,98.9227,98.9232,98.9225 ,98.9231,98.9236,98.9242,98.9223, 98.9223,98.9224,98.9225,98.923,98.9239, 98.9239,98.9234,98.9256,98.926,98.9272, 98.6468)
ORBIT_NUMBER = 1997
ORBITAL_ECCENTRICITY = 0.572
ORBITAL_INCLINATION = 86.6
ORBITAL_SEMIMAJOR_AXIS = 8628.3
PERIAPSIS_ALTITUDE = 296.04
PERIAPSIS_ARGUMENT_ANGLE = 7.58
PERIAPSIS_TIME = 2005-08-04T22:17:34.000Z
SPACECRAFT_ORIENTATION = (0.0,1.0,0.0)
^MEX_ORIENTATION_DESC = "MEX_ORIENTATION_DESC.TXT"
SPACECRAFT_POINTING_MODE = ACROSSTRACK
^MEX_POINTING_DESC = "MEX_POINTING_DESC.TXT"
RIGHT_ASCENSION = -1e+32
DECLINATION = -1e+32
OFFSET_ANGLE = -0.32
SPACECRAFT_SOLAR_DISTANCE = 2.07e+08
TARGET_NAME = MARS
/* CAMERA DATA ELEMENTS */
DETECTOR_TEMPERATURE = 19.1861
FOCAL_PLANE_TEMPERATURE = 10.4184
INST_CMPRS_NAME = "DISCRETE COSINE TRANSFORMATION (DCT)"
INST_CMPRS_RATIO = 7.99441
INST_CMPRS_QUALITY = 0
INST_CMPRS_QUANTZ_TBL_ID = 0
INSTRUMENT_TEMPERATURE = 11.6418
LENS_TEMPERATURE = 10.4184
MACROPIXEL_SIZE = 4
MISSING_FRAMES = 11
PIXEL_SUBSAMPLING_FLAG = N
SIGNAL_CHAIN_ID = 3
/* RADIOMETRIC DATA ELEMENTS */
BANDWIDTH = 177.0
CENTER_FILTER_WAVELENGTH = 676.5
RADIANCE_OFFSET = 4.17299
RADIANCE_SCALING_FACTOR = 0.0126571
REFLECTANCE_SCALING_FACTOR = 0.00028756
MEX:REFLECTANCE_OFFSET = 0.0948078
/* IMAGE OBJECT DEFINITIONS */
OBJECT = IMAGE
  INTERCHANGE_FORMAT = BINARY
  LINES = 12613
  LINE_SAMPLES = 1362
  SAMPLE_TYPE = UNSIGNED_INTEGER
  SAMPLE_BITS = 8
  BANDS = 1
  BAND_STORAGE_TYPE = BAND_SEQUENTIAL
  MAXIMUM = 231
  MEAN = 164.387
  MINIMUM = 126
  STANDARD_DEVIATION = 12.7224
END_OBJECT = IMAGE
/* MAP OBJECT DEFINITIONS */
OBJECT = IMAGE_MAP_PROJECTION
  ^DATA_SET_MAP_PROJECTION_CATALOG= "DSMAP.CAT"
  A_AXIS_RADIUS = 3396.0
  B_AXIS_RADIUS = 3396.0
  C_AXIS_RADIUS = 3396.0
  CENTER_LATITUDE = 0.0
  CENTER_LONGITUDE = 98.0
  COORDINATE_SYSTEM_NAME = PLANETOGRAPHIC
  COORDINATE_SYSTEM_TYPE = "BODY-FIXED ROTATING"
  EASTERNMOST_LONGITUDE = 98.9603
  FIRST_STANDARD_PARALLEL = "N/A"
  LINE_FIRST_PIXEL = 1
  LINE_LAST_PIXEL = 12613
  LINE_PROJECTION_OFFSET = 16816.125
  MAP_PROJECTION_ROTATION = 0.0
  MAP_PROJECTION_TYPE = SINUSOIDAL
  MAP_RESOLUTION = 1185.42760773333
  MAP_SCALE = 0.05
  MAXIMUM_LATITUDE = 14.2008
  MINIMUM_LATITUDE = 3.535
  POSITIVE_LONGITUDE_DIRECTION = EAST
  REFERENCE_LATITUDE = "N/A"
  REFERENCE_LONGITUDE = "N/A"
  SAMPLE_FIRST_PIXEL = 1
  SAMPLE_LAST_PIXEL = 1362
  SAMPLE_PROJECTION_OFFSET = 192.125
  SECOND_STANDARD_PARALLEL = "N/A"
  WESTERNMOST_LONGITUDE = 97.8524
END_OBJECT = IMAGE_MAP_PROJECTION
/* The JPEG2000 image data file associated with this label. */
OBJECT = COMPRESSED_FILE
  FILE_NAME = "H1997_0000_P23.JP2"
  RECORD_TYPE = UNDEFINED
  FILE_RECORDS = UNK
  ENCODING_TYPE = "JP2"
  INTERCHANGE_FORMAT = BINARY
  UNCOMPRESSED_FILE_NAME = "H1997_0000_P23.IMG"
  REQUIRED_STORAGE_BYTES = "17197974"
  ^DESCRIPTION = "JP2INFO.TXT"
END_OBJECT = COMPRESSED_FILE
END
