PDS_VERSION_ID = PDS3
/* FILE DATA ELEMENTS */
RECORD_TYPE = STREAM
/* POINTERS TO DATA OBJECTS */
^COMPRESSED_FILE = "H1997_0000_RE3.JP2"
/* IDENTIFICATION DATA ELEMENTS */
DATA_SET_ID = "MEX-M-HRSC-5-REFDR-MAPPROJECTED-V3.0"
DATA_SET_NAME = "MARS EXPRESS HRSC MAP PROJECTED REFDR V3.0"
DETECTOR_ID = MEX_HRSC_RED
EVENT_TYPE = "MARS-REGIONAL-MAPPING-Te-Im"
INSTRUMENT_HOST_ID = MEX
INSTRUMENT_HOST_NAME = "MARS EXPRESS"
INSTRUMENT_ID = HRSC
INSTRUMENT_NAME = "HIGH RESOLUTION STEREO CAMERA"
MISSION_NAME = "MARS EXPRESS"
MISSION_PHASE_NAME = MR_Phase_7
PROCESSING_LEVEL_ID = 3
PRODUCT_CREATION_TIME = 2016-03-09T16:25:58.000Z
PRODUCT_ID = "H1997_0000_RE3.JP2"
RELEASE_ID = 0025
REVISION_ID = 0000
/* QUALITY DATA ELEMENTS */
DATA_QUALITY_ID = 1
DATA_QUALITY_DESC = "Data calculated based on original SPICE kernels"
/* TIME DATA ELEMENTS */
SPACECRAFT_CLOCK_START_COUNT = "1/0071273758.57149"
SPACECRAFT_CLOCK_STOP_COUNT = "1/0071273976.06662"
START_TIME = 2005-08-04T22:16:10.753Z
STOP_TIME = 2005-08-04T22:18:51.654Z
/* ORBITAL DATA ELEMENTS */
ASCENDING_NODE_LONGITUDE = 186.41
MAXIMUM_RESOLUTION = 99.6
FOOTPRINT_POINT_LATITUDE = (3.56319,3.55946,3.55586,3.55242, 3.54592,3.75458,3.95676,4.27081,4.4806, 4.69044,4.89909,5.10967,5.31926,5.52766 ,5.73695,6.04997,6.25854,6.57123, 6.73489,6.94446,7.15972,7.47964,7.68934 ,8.00364,8.31942,8.52943,8.7405,8.95078 ,9.16157,9.3721,9.58337,9.79421,10.1106 ,10.3217,10.5326,10.8495,11.1667, 11.3786,11.5898,11.8017,12.0129,12.2243 ,12.4363,12.7538,12.9657,13.1773, 13.3893,13.6011,13.8137,14.0258,14.1964 ,14.1997,14.204,14.2068,14.2098,14.1063 ,13.8942,13.6822,13.4698,13.1518, 12.8341,12.5163,12.3053,12.0942,11.8825 ,11.6712,11.3552,11.0372,10.826,10.6149 ,10.4034,10.1929,9.98155,9.66511, 9.45424,9.24411,9.03383,8.82319,8.50742 ,8.19157,7.97964,7.66374,7.24364, 7.03507,6.82427,6.65874,6.34621,6.13788 ,5.92503,5.6106,5.40101,5.19209,4.98377 ,4.77584,4.46224,4.25071,4.04602, 3.83855,3.63195,3.56319)
FOOTPRINT_POINT_LONGITUDE = (98.7667,98.6069,98.4477,98.2893, 97.9746,97.8718,97.8728,97.873,97.873, 97.873,97.8732,97.8731,97.8731,97.8733, 97.8733,97.8735,97.8737,97.8739,97.8741 ,97.8741,97.8733,97.8725,97.8724, 97.8723,97.872,97.8718,97.8715,97.8713, 97.8711,97.8708,97.8705,97.8701,97.8696 ,97.8693,97.8689,97.8683,97.8676, 97.8671,97.8666,97.8661,97.8656,97.8651 ,97.8645,97.8637,97.8631,97.8625, 97.8619,97.8613,97.8605,97.8598,97.8593 ,98.0723,98.3598,98.5354,98.7326, 98.9579,98.9559,98.9539,98.9518,98.9489 ,98.9464,98.9439,98.9428,98.9416, 98.9401,98.9389,98.9377,98.9353,98.9343 ,98.9333,98.9321,98.9315,98.9305, 98.9292,98.9285,98.9282,98.9278,98.9272 ,98.9264,98.9256,98.9243,98.9234, 98.9229,98.9236,98.9229,98.9229,98.9239 ,98.9246,98.9227,98.9226,98.9225, 98.9228,98.9235,98.9243,98.9245,98.9232 ,98.9258,98.9268,98.9282,98.7667)
ORBIT_NUMBER = 1997
ORBITAL_ECCENTRICITY = 0.572
ORBITAL_INCLINATION = 86.6
ORBITAL_SEMIMAJOR_AXIS = 8628.3
PERIAPSIS_ALTITUDE = 296.04
PERIAPSIS_ARGUMENT_ANGLE = 7.58
PERIAPSIS_TIME = 2005-08-04T22:17:34.000Z
SPACECRAFT_ORIENTATION = (0.0,1.0,0.0)
^MEX_ORIENTATION_DESC = "MEX_ORIENTATION_DESC.TXT"
SPACECRAFT_POINTING_MODE = ACROSSTRACK
^MEX_POINTING_DESC = "MEX_POINTING_DESC.TXT"
RIGHT_ASCENSION = -1e+32
DECLINATION = -1e+32
OFFSET_ANGLE = -0.32
SPACECRAFT_SOLAR_DISTANCE = 2.07e+08
TARGET_NAME = MARS
/* CAMERA DATA ELEMENTS */
DETECTOR_TEMPERATURE = 19.1861
FOCAL_PLANE_TEMPERATURE = 10.4184
INST_CMPRS_NAME = "DISCRETE COSINE TRANSFORMATION (DCT)"
INST_CMPRS_RATIO = 13.6039
INST_CMPRS_QUALITY = 0
INST_CMPRS_QUANTZ_TBL_ID = 0
INSTRUMENT_TEMPERATURE = 11.6418
LENS_TEMPERATURE = 10.4184
MACROPIXEL_SIZE = 8
MISSING_FRAMES = 5
PIXEL_SUBSAMPLING_FLAG = N
SIGNAL_CHAIN_ID = 2
/* RADIOMETRIC DATA ELEMENTS */
BANDWIDTH = 48.0
CENTER_FILTER_WAVELENGTH = 748.0
RADIANCE_OFFSET = 1.1441
RADIANCE_SCALING_FACTOR = 0.00387684
REFLECTANCE_SCALING_FACTOR = 0.000379091
MEX:REFLECTANCE_OFFSET = 0.111874
/* IMAGE OBJECT DEFINITIONS */
OBJECT = IMAGE
  INTERCHANGE_FORMAT = BINARY
  LINES = 6307
  LINE_SAMPLES = 681
  SAMPLE_TYPE = UNSIGNED_INTEGER
  SAMPLE_BITS = 8
  BANDS = 1
  BAND_STORAGE_TYPE = BAND_SEQUENTIAL
  MAXIMUM = 196
  MEAN = 135.759
  MINIMUM = 102
  STANDARD_DEVIATION = 11.3242
END_OBJECT = IMAGE
/* MAP OBJECT DEFINITIONS */
OBJECT = IMAGE_MAP_PROJECTION
  ^DATA_SET_MAP_PROJECTION_CATALOG= "DSMAP.CAT"
  A_AXIS_RADIUS = 3396.0
  B_AXIS_RADIUS = 3396.0
  C_AXIS_RADIUS = 3396.0
  CENTER_LATITUDE = 0.0
  CENTER_LONGITUDE = 98.0
  COORDINATE_SYSTEM_NAME = PLANETOGRAPHIC
  COORDINATE_SYSTEM_TYPE = "BODY-FIXED ROTATING"
  EASTERNMOST_LONGITUDE = 98.9579
  FIRST_STANDARD_PARALLEL = "N/A"
  LINE_FIRST_PIXEL = 1
  LINE_LAST_PIXEL = 6307
  LINE_PROJECTION_OFFSET = 8407.8125
  MAP_PROJECTION_ROTATION = 0.0
  MAP_PROJECTION_TYPE = SINUSOIDAL
  MAP_RESOLUTION = 592.713803866667
  MAP_SCALE = 0.1
  MAXIMUM_LATITUDE = 14.2098
  MINIMUM_LATITUDE = 3.54592
  POSITIVE_LONGITUDE_DIRECTION = EAST
  REFERENCE_LATITUDE = "N/A"
  REFERENCE_LONGITUDE = "N/A"
  SAMPLE_FIRST_PIXEL = 1
  SAMPLE_LAST_PIXEL = 681
  SAMPLE_PROJECTION_OFFSET = 95.8125
  SECOND_STANDARD_PARALLEL = "N/A"
  WESTERNMOST_LONGITUDE = 97.8593
END_OBJECT = IMAGE_MAP_PROJECTION
/* The JPEG2000 image data file associated with this label. */
OBJECT = COMPRESSED_FILE
  FILE_NAME = "H1997_0000_RE3.JP2"
  RECORD_TYPE = UNDEFINED
  FILE_RECORDS = UNK
  ENCODING_TYPE = "JP2"
  INTERCHANGE_FORMAT = BINARY
  UNCOMPRESSED_FILE_NAME = "H1997_0000_RE3.IMG"
  REQUIRED_STORAGE_BYTES = "4312773"
  ^DESCRIPTION = "JP2INFO.TXT"
END_OBJECT = COMPRESSED_FILE
END
