PDS_VERSION_ID = PDS3
/* FILE DATA ELEMENTS */
RECORD_TYPE = STREAM
/* POINTERS TO DATA OBJECTS */
^COMPRESSED_FILE = "H1997_0000_S23.JP2"
/* IDENTIFICATION DATA ELEMENTS */
DATA_SET_ID = "MEX-M-HRSC-5-REFDR-MAPPROJECTED-V3.0"
DATA_SET_NAME = "MARS EXPRESS HRSC MAP PROJECTED REFDR V3.0"
DETECTOR_ID = MEX_HRSC_S2
EVENT_TYPE = "MARS-REGIONAL-MAPPING-Te-Im"
INSTRUMENT_HOST_ID = MEX
INSTRUMENT_HOST_NAME = "MARS EXPRESS"
INSTRUMENT_ID = HRSC
INSTRUMENT_NAME = "HIGH RESOLUTION STEREO CAMERA"
MISSION_NAME = "MARS EXPRESS"
MISSION_PHASE_NAME = MR_Phase_7
PROCESSING_LEVEL_ID = 3
PRODUCT_CREATION_TIME = 2016-03-09T16:25:58.000Z
PRODUCT_ID = "H1997_0000_S23.JP2"
RELEASE_ID = 0025
REVISION_ID = 0000
/* QUALITY DATA ELEMENTS */
DATA_QUALITY_ID = 1
DATA_QUALITY_DESC = "Data calculated based on original SPICE kernels"
/* TIME DATA ELEMENTS */
SPACECRAFT_CLOCK_START_COUNT = "1/0071273758.57149"
SPACECRAFT_CLOCK_STOP_COUNT = "1/0071273976.06662"
START_TIME = 2005-08-04T22:16:06.061Z
STOP_TIME = 2005-08-04T22:18:47.209Z
/* ORBITAL DATA ELEMENTS */
ASCENDING_NODE_LONGITUDE = 186.41
MAXIMUM_RESOLUTION = 25.4
FOOTPRINT_POINT_LATITUDE = (3.56532,3.56061,3.55607,3.55173, 3.54762,3.54365,3.54226,3.74972,4.05698 ,4.27105,4.58866,4.80002,5.1179,5.32944 ,5.53956,5.75076,6.06643,6.27676,6.4874 ,6.69668,6.90709,7.23458,7.4494,7.6611, 7.97757,8.18934,8.40334,8.61599,8.93502 ,9.14801,9.36071,9.57391,9.78737, 10.1072,10.3206,10.5337,10.7472,10.9612 ,11.1751,11.3894,11.603,11.8174,12.0311 ,12.2451,12.4596,12.7809,12.9954,13.317 ,13.5314,13.7464,14.0688,14.2064, 14.2096,14.213,14.2189,14.2261,14.0115, 13.6893,13.4742,13.2594,13.0448,12.8304 ,12.5088,12.1886,11.9747,11.5467, 11.2261,11.0125,10.6925,10.4789,10.2649 ,10.0525,9.83833,9.6255,9.30597,9.09418 ,8.8815,8.66849,8.45605,8.13695,7.92311 ,7.71095,7.39379,7.17912,6.86171, 6.65023,6.44088,6.22995,6.0156,5.8043, 5.48722,5.27522,5.06492,4.85539,4.64567 ,4.43132,4.22122,3.91036,3.70169, 3.56532)
FOOTPRINT_POINT_LONGITUDE = (98.8473,98.6797,98.5129,98.3469, 98.1818,98.0173,97.8601,97.8607,97.8621 ,97.8619,97.862,97.8621,97.8622,97.8622 ,97.8625,97.8626,97.8628,97.863,97.8632 ,97.8634,97.8636,97.8624,97.862,97.862, 97.8621,97.862,97.8617,97.8615,97.8612, 97.8609,97.8607,97.8604,97.8601,97.8596 ,97.8593,97.859,97.8586,97.8582,97.8577 ,97.8572,97.8568,97.8563,97.8559, 97.8554,97.8548,97.854,97.8534,97.8525, 97.8519,97.8512,97.8502,97.945,98.1155, 98.2972,98.62,98.9606,98.9586,98.9557, 98.9535,98.9516,98.9498,98.9481,98.9457 ,98.944,98.9427,98.9401,98.9384,98.9373 ,98.936,98.935,98.9338,98.9334,98.9322, 98.9316,98.9306,98.9305,98.9301,98.9294 ,98.9291,98.9283,98.9273,98.9271, 98.9273,98.9258,98.9259,98.926,98.9271, 98.9274,98.9261,98.9262,98.9263,98.9261 ,98.9267,98.9276,98.9284,98.9269, 98.9275,98.9304,98.9315,98.8473)
ORBIT_NUMBER = 1997
ORBITAL_ECCENTRICITY = 0.572
ORBITAL_INCLINATION = 86.6
ORBITAL_SEMIMAJOR_AXIS = 8628.3
PERIAPSIS_ALTITUDE = 296.04
PERIAPSIS_ARGUMENT_ANGLE = 7.58
PERIAPSIS_TIME = 2005-08-04T22:17:34.000Z
SPACECRAFT_ORIENTATION = (0.0,1.0,0.0)
^MEX_ORIENTATION_DESC = "MEX_ORIENTATION_DESC.TXT"
SPACECRAFT_POINTING_MODE = ACROSSTRACK
^MEX_POINTING_DESC = "MEX_POINTING_DESC.TXT"
RIGHT_ASCENSION = -1e+32
DECLINATION = -1e+32
OFFSET_ANGLE = -0.32
SPACECRAFT_SOLAR_DISTANCE = 2.07e+08
TARGET_NAME = MARS
/* CAMERA DATA ELEMENTS */
DETECTOR_TEMPERATURE = 19.1861
FOCAL_PLANE_TEMPERATURE = 10.4184
INST_CMPRS_NAME = "DISCRETE COSINE TRANSFORMATION (DCT)"
INST_CMPRS_RATIO = 9.12047
INST_CMPRS_QUALITY = 0
INST_CMPRS_QUANTZ_TBL_ID = 0
INSTRUMENT_TEMPERATURE = 11.6418
LENS_TEMPERATURE = 10.4184
MACROPIXEL_SIZE = 2
MISSING_FRAMES = 0
PIXEL_SUBSAMPLING_FLAG = N
SIGNAL_CHAIN_ID = 1
/* RADIOMETRIC DATA ELEMENTS */
BANDWIDTH = 178.0
CENTER_FILTER_WAVELENGTH = 679.0
RADIANCE_OFFSET = 4.39244
RADIANCE_SCALING_FACTOR = 0.0133803
REFLECTANCE_SCALING_FACTOR = 0.000303624
MEX:REFLECTANCE_OFFSET = 0.0996723
/* IMAGE OBJECT DEFINITIONS */
OBJECT = IMAGE
  INTERCHANGE_FORMAT = BINARY
  LINES = 25226
  LINE_SAMPLES = 2723
  SAMPLE_TYPE = UNSIGNED_INTEGER
  SAMPLE_BITS = 8
  BANDS = 1
  BAND_STORAGE_TYPE = BAND_SEQUENTIAL
  MAXIMUM = 216
  MEAN = 144.4
  MINIMUM = 110
  STANDARD_DEVIATION = 11.2086
END_OBJECT = IMAGE
/* MAP OBJECT DEFINITIONS */
OBJECT = IMAGE_MAP_PROJECTION
  ^DATA_SET_MAP_PROJECTION_CATALOG= "DSMAP.CAT"
  A_AXIS_RADIUS = 3396.0
  B_AXIS_RADIUS = 3396.0
  C_AXIS_RADIUS = 3396.0
  CENTER_LATITUDE = 0.0
  CENTER_LONGITUDE = 98.0
  COORDINATE_SYSTEM_NAME = PLANETOGRAPHIC
  COORDINATE_SYSTEM_TYPE = "BODY-FIXED ROTATING"
  EASTERNMOST_LONGITUDE = 98.9606
  FIRST_STANDARD_PARALLEL = "N/A"
  LINE_FIRST_PIXEL = 1
  LINE_LAST_PIXEL = 25226
  LINE_PROJECTION_OFFSET = 33632.75
  MAP_PROJECTION_ROTATION = 0.0
  MAP_PROJECTION_TYPE = SINUSOIDAL
  MAP_RESOLUTION = 2370.85521546667
  MAP_SCALE = 0.025
  MAXIMUM_LATITUDE = 14.2261
  MINIMUM_LATITUDE = 3.54226
  POSITIVE_LONGITUDE_DIRECTION = EAST
  REFERENCE_LATITUDE = "N/A"
  REFERENCE_LONGITUDE = "N/A"
  SAMPLE_FIRST_PIXEL = 1
  SAMPLE_LAST_PIXEL = 2723
  SAMPLE_PROJECTION_OFFSET = 384.75
  SECOND_STANDARD_PARALLEL = "N/A"
  WESTERNMOST_LONGITUDE = 97.8502
END_OBJECT = IMAGE_MAP_PROJECTION
/* The JPEG2000 image data file associated with this label. */
OBJECT = COMPRESSED_FILE
  FILE_NAME = "H1997_0000_S23.JP2"
  RECORD_TYPE = UNDEFINED
  FILE_RECORDS = UNK
  ENCODING_TYPE = "JP2"
  INTERCHANGE_FORMAT = BINARY
  UNCOMPRESSED_FILE_NAME = "H1997_0000_S23.IMG"
  REQUIRED_STORAGE_BYTES = "68712182"
  ^DESCRIPTION = "JP2INFO.TXT"
END_OBJECT = COMPRESSED_FILE
END
