PDS_VERSION_ID = PDS3
/* FILE DATA ELEMENTS */
RECORD_TYPE = STREAM
/* POINTERS TO DATA OBJECTS */
^COMPRESSED_FILE = "H1998_0000_P13.JP2"
/* IDENTIFICATION DATA ELEMENTS */
DATA_SET_ID = "MEX-M-HRSC-5-REFDR-MAPPROJECTED-V3.0"
DATA_SET_NAME = "MARS EXPRESS HRSC MAP PROJECTED REFDR V3.0"
DETECTOR_ID = MEX_HRSC_P1
EVENT_TYPE = "MARS-LOCAL-CARTOGRAPHY-Lc-La-Tc"
INSTRUMENT_HOST_ID = MEX
INSTRUMENT_HOST_NAME = "MARS EXPRESS"
INSTRUMENT_ID = HRSC
INSTRUMENT_NAME = "HIGH RESOLUTION STEREO CAMERA"
MISSION_NAME = "MARS EXPRESS"
MISSION_PHASE_NAME = MR_Phase_7
PROCESSING_LEVEL_ID = 3
PRODUCT_CREATION_TIME = 2016-03-09T16:25:58.000Z
PRODUCT_ID = "H1998_0000_P13.JP2"
RELEASE_ID = 0025
REVISION_ID = 0000
/* QUALITY DATA ELEMENTS */
DATA_QUALITY_ID = 1
DATA_QUALITY_DESC = "Data calculated based on original SPICE kernels"
/* TIME DATA ELEMENTS */
SPACECRAFT_CLOCK_START_COUNT = "1/0071297771.56203"
SPACECRAFT_CLOCK_STOP_COUNT = "1/0071298014.46897"
START_TIME = 2005-08-05T04:57:11.703Z
STOP_TIME = 2005-08-05T05:00:10.962Z
/* ORBITAL DATA ELEMENTS */
ASCENDING_NODE_LONGITUDE = 186.39
MAXIMUM_RESOLUTION = 45.4
FOOTPRINT_POINT_LATITUDE = (-7.74314,-7.73983,-7.73344,-7.73216, -7.48278,-7.22674,-6.97485,-6.72235, -6.4695,-6.21734,-5.96416,-5.71226, -5.46782,-5.22479,-4.97762,-4.73392, -4.4891,-4.24443,-4.00005,-3.75506, -3.51035,-3.15072,-2.79596,-2.55936, -2.32258,-1.96748,-1.73051,-1.37531, -1.02047,-0.783816,-0.548125,-0.311564, -0.0783032,0.150491,0.378369,0.606575, 0.834567,1.06296,1.29067,1.51787, 1.74594,1.97419,2.20295,2.43091,2.65826 ,2.88618,3.22794,3.45608,3.68398, 4.02569,4.163,4.15576,4.1509,4.14509, 3.91277,3.57155,3.34366,3.00223,2.66038 ,2.43244,2.20427,1.8624,1.63452,1.40658 ,1.17813,0.950497,0.722447,0.38049, 0.152543,-0.0756577,-0.425797,-0.66257, -0.899681,-1.13649,-1.3729,-1.72747, -1.96386,-2.20101,-2.55582,-2.79252, -3.02873,-3.26516,-3.50528,-3.74963, -3.99415,-4.24037,-4.48357,-4.72834, -5.0952,-5.46188,-5.70609,-5.96251, -6.21077,-6.46378,-6.71576,-6.96809, -7.22079,-7.47636,-7.72917,-7.74314)
FOOTPRINT_POINT_LONGITUDE = (360.628,360.449,360.094,359.751, 359.752,359.754,359.756,359.758,359.76, 359.761,359.763,359.764,359.766,359.767 ,359.769,359.77,359.771,359.772,359.774 ,359.775,359.776,359.777,359.779,359.78 ,359.781,359.782,359.783,359.784, 359.785,359.785,359.786,359.787,359.787 ,359.788,359.788,359.789,359.789, 359.789,359.79,359.79,359.79,359.79, 359.791,359.791,359.791,359.791,359.791 ,359.791,359.791,359.791,359.936, 360.238,360.436,360.685,360.85,360.85, 360.851,360.852,360.853,360.854,360.855 ,360.856,360.857,360.858,360.86,360.861 ,360.862,360.864,360.865,360.867, 360.869,360.871,360.873,360.875,360.877 ,360.88,360.881,360.884,360.887,360.89, 360.892,360.894,360.897,360.899,360.901 ,360.905,360.907,360.91,360.914,360.919 ,360.921,360.93,360.929,360.933,360.935 ,360.939,360.943,360.949,360.953, 360.628)
ORBIT_NUMBER = 1998
ORBITAL_ECCENTRICITY = 0.572
ORBITAL_INCLINATION = 86.59
ORBITAL_SEMIMAJOR_AXIS = 8622.84
PERIAPSIS_ALTITUDE = 296.73
PERIAPSIS_ARGUMENT_ANGLE = 7.41
PERIAPSIS_TIME = 2005-08-05T05:00:43.000Z
SPACECRAFT_ORIENTATION = (0.0,1.0,0.0)
^MEX_ORIENTATION_DESC = "MEX_ORIENTATION_DESC.TXT"
SPACECRAFT_POINTING_MODE = ACROSSTRACK
^MEX_POINTING_DESC = "MEX_POINTING_DESC.TXT"
RIGHT_ASCENSION = -1e+32
DECLINATION = -1e+32
OFFSET_ANGLE = -0.5
SPACECRAFT_SOLAR_DISTANCE = 2.07011e+08
TARGET_NAME = MARS
/* CAMERA DATA ELEMENTS */
DETECTOR_TEMPERATURE = 17.9627
FOCAL_PLANE_TEMPERATURE = 9.195
INST_CMPRS_NAME = "DISCRETE COSINE TRANSFORMATION (DCT)"
INST_CMPRS_RATIO = 20.0058
INST_CMPRS_QUALITY = 0
INST_CMPRS_QUANTZ_TBL_ID = 0
INSTRUMENT_TEMPERATURE = 11.8457
LENS_TEMPERATURE = 10.2145
MACROPIXEL_SIZE = 4
MISSING_FRAMES = 0
PIXEL_SUBSAMPLING_FLAG = N
SIGNAL_CHAIN_ID = 3
/* RADIOMETRIC DATA ELEMENTS */
BANDWIDTH = 174.0
CENTER_FILTER_WAVELENGTH = 675.0
RADIANCE_OFFSET = 4.36467
RADIANCE_SCALING_FACTOR = 0.0103344
REFLECTANCE_SCALING_FACTOR = 0.000238208
MEX:REFLECTANCE_OFFSET = 0.100606
/* IMAGE OBJECT DEFINITIONS */
OBJECT = IMAGE
  INTERCHANGE_FORMAT = BINARY
  LINES = 14114
  LINE_SAMPLES = 1527
  SAMPLE_TYPE = UNSIGNED_INTEGER
  SAMPLE_BITS = 8
  BANDS = 1
  BAND_STORAGE_TYPE = BAND_SEQUENTIAL
  MAXIMUM = 178
  MEAN = 128.928
  MINIMUM = 103
  STANDARD_DEVIATION = 7.78382
END_OBJECT = IMAGE
/* MAP OBJECT DEFINITIONS */
OBJECT = IMAGE_MAP_PROJECTION
  ^DATA_SET_MAP_PROJECTION_CATALOG= "DSMAP.CAT"
  A_AXIS_RADIUS = 3396.0
  B_AXIS_RADIUS = 3396.0
  C_AXIS_RADIUS = 3396.0
  CENTER_LATITUDE = 0.0
  CENTER_LONGITUDE = 0.0
  COORDINATE_SYSTEM_NAME = PLANETOGRAPHIC
  COORDINATE_SYSTEM_TYPE = "BODY-FIXED ROTATING"
  EASTERNMOST_LONGITUDE = 0.953
  FIRST_STANDARD_PARALLEL = "N/A"
  LINE_FIRST_PIXEL = 1
  LINE_LAST_PIXEL = 14114
  LINE_PROJECTION_OFFSET = 4934.625
  MAP_PROJECTION_ROTATION = 0.0
  MAP_PROJECTION_TYPE = SINUSOIDAL
  MAP_RESOLUTION = 1185.42760773333
  MAP_SCALE = 0.05
  MAXIMUM_LATITUDE = 4.163
  MINIMUM_LATITUDE = -7.74314
  POSITIVE_LONGITUDE_DIRECTION = EAST
  REFERENCE_LATITUDE = "N/A"
  REFERENCE_LONGITUDE = "N/A"
  SAMPLE_FIRST_PIXEL = 1
  SAMPLE_LAST_PIXEL = 1527
  SAMPLE_PROJECTION_OFFSET = 320.375
  SECOND_STANDARD_PARALLEL = "N/A"
  WESTERNMOST_LONGITUDE = -0.249
END_OBJECT = IMAGE_MAP_PROJECTION
/* The JPEG2000 image data file associated with this label. */
OBJECT = COMPRESSED_FILE
  FILE_NAME = "H1998_0000_P13.JP2"
  RECORD_TYPE = UNDEFINED
  FILE_RECORDS = UNK
  ENCODING_TYPE = "JP2"
  INTERCHANGE_FORMAT = BINARY
  UNCOMPRESSED_FILE_NAME = "H1998_0000_P13.IMG"
  REQUIRED_STORAGE_BYTES = "21571929"
  ^DESCRIPTION = "JP2INFO.TXT"
END_OBJECT = COMPRESSED_FILE
END
