PDS_VERSION_ID = PDS3
/* FILE DATA ELEMENTS */
RECORD_TYPE = STREAM
/* POINTERS TO DATA OBJECTS */
^COMPRESSED_FILE = "H2000_0001_S23.JP2"
/* IDENTIFICATION DATA ELEMENTS */
DATA_SET_ID = "MEX-M-HRSC-5-REFDR-MAPPROJECTED-V3.0"
DATA_SET_NAME = "MARS EXPRESS HRSC MAP PROJECTED REFDR V3.0"
DETECTOR_ID = MEX_HRSC_S2
EVENT_TYPE = "MARS-REGIONAL-MAPPING-Te-Pf"
INSTRUMENT_HOST_ID = MEX
INSTRUMENT_HOST_NAME = "MARS EXPRESS"
INSTRUMENT_ID = HRSC
INSTRUMENT_NAME = "HIGH RESOLUTION STEREO CAMERA"
MISSION_NAME = "MARS EXPRESS"
MISSION_PHASE_NAME = MR_Phase_7
PROCESSING_LEVEL_ID = 3
PRODUCT_CREATION_TIME = 2016-03-09T16:25:58.000Z
PRODUCT_ID = "H2000_0001_S23.JP2"
RELEASE_ID = 0025
REVISION_ID = 0000
/* QUALITY DATA ELEMENTS */
DATA_QUALITY_ID = 2
DATA_QUALITY_DESC = "Data calculated based on photogrammetrically improved orbit and attitude data"
/* TIME DATA ELEMENTS */
SPACECRAFT_CLOCK_START_COUNT = "1/0071346437.57314"
SPACECRAFT_CLOCK_STOP_COUNT = "1/0071346586.40940"
START_TIME = 2005-08-05T18:27:25.047Z
STOP_TIME = 2005-08-05T18:28:55.831Z
/* ORBITAL DATA ELEMENTS */
ASCENDING_NODE_LONGITUDE = 186.34
MAXIMUM_RESOLUTION = 25.6
FOOTPRINT_POINT_LATITUDE = (10.1794,10.1789,10.1786,10.1785, 10.1785,10.1786,10.1787,10.3232,10.4431 ,10.5616,10.6811,10.8597,10.9792, 11.1577,11.3371,11.516,11.6355,11.7545, 11.8742,12.0546,12.2333,12.3524,12.4714 ,12.5914,12.7711,12.9525,13.0732, 13.1932,13.3129,13.433,13.6126,13.7326, 13.853,14.0328,14.1536,14.2735,14.4538, 14.574,14.6945,14.8148,14.9954,15.1158, 15.2361,15.3567,15.4764,15.6005,15.7254 ,15.9129,16.0384,16.2596,16.2589,16.259 ,16.2583,16.2586,16.259,16.1962,16.0714 ,15.9467,15.822,15.6974,15.5726,15.3887 ,15.2685,15.1481,15.0276,14.9069, 14.7872,14.667,14.5471,14.4269,14.3065, 14.1864,14.0658,13.9458,13.8255,13.7057 ,13.5239,13.4028,13.2231,13.1035, 12.9241,12.7456,12.6267,12.4487,12.3292 ,12.2095,12.0278,11.9072,11.7891, 11.6114,11.4327,11.313,11.1337,11.0141, 10.8345,10.7148,10.5957,10.4764,10.2972 ,10.1794)
FOOTPRINT_POINT_LONGITUDE = (163.763,163.527,163.363,163.24,163.076 ,162.912,162.748,162.695,162.695, 162.695,162.694,162.694,162.693,162.693 ,162.692,162.692,162.691,162.691, 162.691,162.69,162.689,162.689,162.689, 162.688,162.687,162.686,162.685,162.685 ,162.684,162.683,162.683,162.682, 162.681,162.681,162.68,162.679,162.678, 162.677,162.677,162.676,162.675,162.674 ,162.673,162.673,162.672,162.672, 162.671,162.67,162.669,162.667,162.933, 163.109,163.286,163.508,163.663,163.81, 163.808,163.807,163.806,163.805,163.803 ,163.802,163.8,163.799,163.798,163.797, 163.796,163.795,163.794,163.793,163.792 ,163.791,163.79,163.789,163.788,163.787 ,163.785,163.784,163.783,163.782, 163.781,163.781,163.78,163.78,163.779, 163.779,163.777,163.776,163.776,163.776 ,163.775,163.775,163.774,163.773, 163.773,163.772,163.772,163.772,163.771 ,163.763)
ORBIT_NUMBER = 2000
ORBITAL_ECCENTRICITY = 0.572
ORBITAL_INCLINATION = 86.6
ORBITAL_SEMIMAJOR_AXIS = 8619.57
PERIAPSIS_ALTITUDE = 296.45
PERIAPSIS_ARGUMENT_ANGLE = 7.09
PERIAPSIS_TIME = 2005-08-05T18:27:05.000Z
SPACECRAFT_ORIENTATION = (0.0,1.0,0.0)
^MEX_ORIENTATION_DESC = "MEX_ORIENTATION_DESC.TXT"
SPACECRAFT_POINTING_MODE = NADIR
^MEX_POINTING_DESC = "MEX_POINTING_DESC.TXT"
RIGHT_ASCENSION = -1e+32
DECLINATION = -1e+32
OFFSET_ANGLE = -1e+32
SPACECRAFT_SOLAR_DISTANCE = 2.07034e+08
TARGET_NAME = MARS
/* CAMERA DATA ELEMENTS */
DETECTOR_TEMPERATURE = 20.8173
FOCAL_PLANE_TEMPERATURE = 10.2145
INST_CMPRS_NAME = "DISCRETE COSINE TRANSFORMATION (DCT)"
INST_CMPRS_RATIO = 8.13328
INST_CMPRS_QUALITY = 0
INST_CMPRS_QUANTZ_TBL_ID = 0
INSTRUMENT_TEMPERATURE = 13.6808
LENS_TEMPERATURE = 10.4184
MACROPIXEL_SIZE = 2
MISSING_FRAMES = 0
PIXEL_SUBSAMPLING_FLAG = N
SIGNAL_CHAIN_ID = 1
/* RADIOMETRIC DATA ELEMENTS */
BANDWIDTH = 178.0
CENTER_FILTER_WAVELENGTH = 679.0
RADIANCE_OFFSET = 3.97854
RADIANCE_SCALING_FACTOR = 0.0111295
REFLECTANCE_SCALING_FACTOR = 0.000252631
MEX:REFLECTANCE_OFFSET = 0.0903096
/* IMAGE OBJECT DEFINITIONS */
OBJECT = IMAGE
  INTERCHANGE_FORMAT = BINARY
  LINES = 14365
  LINE_SAMPLES = 2783
  SAMPLE_TYPE = UNSIGNED_INTEGER
  SAMPLE_BITS = 8
  BANDS = 1
  BAND_STORAGE_TYPE = BAND_SEQUENTIAL
  MAXIMUM = 263
  MEAN = 198.369
  MINIMUM = 147
  STANDARD_DEVIATION = 15.289
END_OBJECT = IMAGE
/* MAP OBJECT DEFINITIONS */
OBJECT = IMAGE_MAP_PROJECTION
  ^DATA_SET_MAP_PROJECTION_CATALOG= "DSMAP.CAT"
  A_AXIS_RADIUS = 3396.0
  B_AXIS_RADIUS = 3396.0
  C_AXIS_RADIUS = 3396.0
  CENTER_LATITUDE = 0.0
  CENTER_LONGITUDE = 163.0
  COORDINATE_SYSTEM_NAME = PLANETOGRAPHIC
  COORDINATE_SYSTEM_TYPE = "BODY-FIXED ROTATING"
  EASTERNMOST_LONGITUDE = 163.81
  FIRST_STANDARD_PARALLEL = "N/A"
  LINE_FIRST_PIXEL = 1
  LINE_LAST_PIXEL = 14365
  LINE_PROJECTION_OFFSET = 38493.75
  MAP_PROJECTION_ROTATION = 0.0
  MAP_PROJECTION_TYPE = SINUSOIDAL
  MAP_RESOLUTION = 2370.85521546667
  MAP_SCALE = 0.025
  MAXIMUM_LATITUDE = 16.2596
  MINIMUM_LATITUDE = 10.1785
  POSITIVE_LONGITUDE_DIRECTION = EAST
  REFERENCE_LATITUDE = "N/A"
  REFERENCE_LONGITUDE = "N/A"
  SAMPLE_FIRST_PIXEL = 1
  SAMPLE_LAST_PIXEL = 2783
  SAMPLE_PROJECTION_OFFSET = 843.25
  SECOND_STANDARD_PARALLEL = "N/A"
  WESTERNMOST_LONGITUDE = 162.667
END_OBJECT = IMAGE_MAP_PROJECTION
/* The JPEG2000 image data file associated with this label. */
OBJECT = COMPRESSED_FILE
  FILE_NAME = "H2000_0001_S23.JP2"
  RECORD_TYPE = UNDEFINED
  FILE_RECORDS = UNK
  ENCODING_TYPE = "JP2"
  INTERCHANGE_FORMAT = BINARY
  UNCOMPRESSED_FILE_NAME = "H2000_0001_S23.IMG"
  REQUIRED_STORAGE_BYTES = "40000059"
  ^DESCRIPTION = "JP2INFO.TXT"
END_OBJECT = COMPRESSED_FILE
END
