PDS_VERSION_ID = PDS3
/* FILE DATA ELEMENTS */
RECORD_TYPE = STREAM
/* POINTERS TO DATA OBJECTS */
^COMPRESSED_FILE = "H2001_0000_P13.JP2"
/* IDENTIFICATION DATA ELEMENTS */
DATA_SET_ID = "MEX-M-HRSC-5-REFDR-MAPPROJECTED-V3.0"
DATA_SET_NAME = "MARS EXPRESS HRSC MAP PROJECTED REFDR V3.0"
DETECTOR_ID = MEX_HRSC_P1
EVENT_TYPE = "MARS-REGIONAL-MAPPING-Vo-Te"
INSTRUMENT_HOST_ID = MEX
INSTRUMENT_HOST_NAME = "MARS EXPRESS"
INSTRUMENT_ID = HRSC
INSTRUMENT_NAME = "HIGH RESOLUTION STEREO CAMERA"
MISSION_NAME = "MARS EXPRESS"
MISSION_PHASE_NAME = MR_Phase_7
PROCESSING_LEVEL_ID = 3
PRODUCT_CREATION_TIME = 2016-03-10T10:27:20.000Z
PRODUCT_ID = "H2001_0000_P13.JP2"
RELEASE_ID = 0026
REVISION_ID = 0000
/* QUALITY DATA ELEMENTS */
DATA_QUALITY_ID = 1
DATA_QUALITY_DESC = "Data calculated based on original SPICE kernels"
/* TIME DATA ELEMENTS */
SPACECRAFT_CLOCK_START_COUNT = "1/0071370459.56191"
SPACECRAFT_CLOCK_STOP_COUNT = "1/0071370692.22856"
START_TIME = 2005-08-06T01:08:32.658Z
STOP_TIME = 2005-08-06T01:11:28.317Z
/* ORBITAL DATA ELEMENTS */
ASCENDING_NODE_LONGITUDE = 186.33
MAXIMUM_RESOLUTION = 48.2
FOOTPRINT_POINT_LATITUDE = (-0.666335,-0.663885,-0.661491, -0.659206,-0.657033,-0.643748,-0.446064 ,-0.248385,0.0484495,0.344894,0.641544, 0.839437,1.03721,1.23465,1.43235, 1.72874,1.92657,2.12171,2.32039,2.61767 ,2.81529,3.0125,3.20986,3.40692,3.60416 ,3.80155,3.99878,4.2944,4.49147,4.68869 ,4.88577,5.18096,5.37783,5.5746,5.77156 ,5.96819,6.16445,6.36114,6.65569, 6.85207,7.1464,8.98134,9.17671,9.46942, 9.66466,9.85961,10.0548,10.2496,10.4443 ,10.6388,10.8332,10.9731,10.9706, 10.9678,10.9636,10.9581,10.7602,10.5658 ,10.3715,10.0794,9.78752,9.59283, 9.29955,9.00652,7.17219,6.87812,6.68228 ,6.48598,6.28957,6.093,5.8965,5.60137, 5.40464,5.10982,4.9127,4.7158,4.42051, 4.22323,3.92733,3.73035,3.53294,3.23703 ,3.03968,2.84223,2.64489,2.44765, 2.25025,2.05294,1.8555,1.65792,1.2627, 0.966308,0.768671,0.571106,0.374055, 0.0768225,-0.121209,-0.318842,-0.516403 ,-0.666335)
FOOTPRINT_POINT_LONGITUDE = (65.7762,65.6159,65.4563,65.2975, 65.1396,64.8343,64.8346,64.835,64.8355, 64.8359,64.8362,64.8364,64.8366,64.8368 ,64.8369,64.837,64.8372,64.8368,64.837, 64.8372,64.8372,64.8371,64.837,64.8369, 64.8367,64.8366,64.8364,64.8361,64.8359 ,64.8357,64.8354,64.8349,64.8346, 64.8343,64.8339,64.8335,64.8331,64.8327 ,64.832,64.8315,64.8307,64.825,64.8243, 64.8232,64.8224,64.8216,64.8209,64.8201 ,64.8192,64.8183,64.8175,64.8846, 65.0422,65.2101,65.4487,65.7394,65.8824 ,65.8811,65.8796,65.8778,65.8758, 65.8745,65.8735,65.8722,65.867,65.8664, 65.8658,65.8656,65.8654,65.8654,65.8653 ,65.8654,65.8655,65.8655,65.8659, 65.8661,65.8664,65.867,65.8678,65.8681, 65.8688,65.8697,65.8704,65.8711,65.8718 ,65.8725,65.8733,65.874,65.8748,65.8758 ,65.8779,65.8795,65.8807,65.8818, 65.8826,65.885,65.8866,65.888,65.8893, 65.7762)
ORBIT_NUMBER = 2001
ORBITAL_ECCENTRICITY = 0.572
ORBITAL_INCLINATION = 86.61
ORBITAL_SEMIMAJOR_AXIS = 8628.7
PERIAPSIS_ALTITUDE = 295.35
PERIAPSIS_ARGUMENT_ANGLE = 6.9
PERIAPSIS_TIME = 2005-08-06T01:10:10.000Z
SPACECRAFT_ORIENTATION = (0.0,1.0,0.0)
^MEX_ORIENTATION_DESC = "MEX_ORIENTATION_DESC.TXT"
SPACECRAFT_POINTING_MODE = ACROSSTRACK
^MEX_POINTING_DESC = "MEX_POINTING_DESC.TXT"
RIGHT_ASCENSION = -1e+32
DECLINATION = -1e+32
OFFSET_ANGLE = -0.35
SPACECRAFT_SOLAR_DISTANCE = 2.07045e+08
TARGET_NAME = MARS
/* CAMERA DATA ELEMENTS */
DETECTOR_TEMPERATURE = 17.7588
FOCAL_PLANE_TEMPERATURE = 10.2145
INST_CMPRS_NAME = "DISCRETE COSINE TRANSFORMATION (DCT)"
INST_CMPRS_RATIO = 12.5069
INST_CMPRS_QUALITY = 0
INST_CMPRS_QUANTZ_TBL_ID = 0
INSTRUMENT_TEMPERATURE = 13.0691
LENS_TEMPERATURE = 10.2145
MACROPIXEL_SIZE = 4
MISSING_FRAMES = 286
PIXEL_SUBSAMPLING_FLAG = N
SIGNAL_CHAIN_ID = 3
/* RADIOMETRIC DATA ELEMENTS */
BANDWIDTH = 174.0
CENTER_FILTER_WAVELENGTH = 675.0
RADIANCE_OFFSET = 3.27978
RADIANCE_SCALING_FACTOR = 0.00771713
REFLECTANCE_SCALING_FACTOR = 0.000177939
MEX:REFLECTANCE_OFFSET = 0.0756239
/* IMAGE OBJECT DEFINITIONS */
OBJECT = IMAGE
  INTERCHANGE_FORMAT = BINARY
  LINES = 13786
  LINE_SAMPLES = 1374
  SAMPLE_TYPE = UNSIGNED_INTEGER
  SAMPLE_BITS = 8
  BANDS = 1
  BAND_STORAGE_TYPE = BAND_SEQUENTIAL
  MAXIMUM = 231
  MEAN = 170.332
  MINIMUM = 134
  STANDARD_DEVIATION = 8.25129
END_OBJECT = IMAGE
/* MAP OBJECT DEFINITIONS */
OBJECT = IMAGE_MAP_PROJECTION
  ^DATA_SET_MAP_PROJECTION_CATALOG= "DSMAP.CAT"
  A_AXIS_RADIUS = 3396.0
  B_AXIS_RADIUS = 3396.0
  C_AXIS_RADIUS = 3396.0
  CENTER_LATITUDE = 0.0
  CENTER_LONGITUDE = 65.0
  COORDINATE_SYSTEM_NAME = PLANETOGRAPHIC
  COORDINATE_SYSTEM_TYPE = "BODY-FIXED ROTATING"
  EASTERNMOST_LONGITUDE = 65.88930000000001
  FIRST_STANDARD_PARALLEL = "N/A"
  LINE_FIRST_PIXEL = 1
  LINE_LAST_PIXEL = 13786
  LINE_PROJECTION_OFFSET = 12996.375
  MAP_PROJECTION_ROTATION = 0.0
  MAP_PROJECTION_TYPE = SINUSOIDAL
  MAP_RESOLUTION = 1185.42760773333
  MAP_SCALE = 0.05
  MAXIMUM_LATITUDE = 10.9731
  MINIMUM_LATITUDE = -0.666335
  POSITIVE_LONGITUDE_DIRECTION = EAST
  REFERENCE_LATITUDE = "N/A"
  REFERENCE_LONGITUDE = "N/A"
  SAMPLE_FIRST_PIXEL = 1
  SAMPLE_LAST_PIXEL = 1374
  SAMPLE_PROJECTION_OFFSET = 228.625
  SECOND_STANDARD_PARALLEL = "N/A"
  WESTERNMOST_LONGITUDE = 64.8175
END_OBJECT = IMAGE_MAP_PROJECTION
/* The JPEG2000 image data file associated with this label. */
OBJECT = COMPRESSED_FILE
  FILE_NAME = "H2001_0000_P13.JP2"
  RECORD_TYPE = UNDEFINED
  FILE_RECORDS = UNK
  ENCODING_TYPE = "JP2"
  INTERCHANGE_FORMAT = BINARY
  UNCOMPRESSED_FILE_NAME = "H2001_0000_P13.IMG"
  REQUIRED_STORAGE_BYTES = "18961200"
  ^DESCRIPTION = "JP2INFO.TXT"
END_OBJECT = COMPRESSED_FILE
END
