PDS_VERSION_ID = PDS3
/* FILE DATA ELEMENTS */
RECORD_TYPE = STREAM
/* POINTERS TO DATA OBJECTS */
^COMPRESSED_FILE = "H2001_0000_S23.JP2"
/* IDENTIFICATION DATA ELEMENTS */
DATA_SET_ID = "MEX-M-HRSC-5-REFDR-MAPPROJECTED-V3.0"
DATA_SET_NAME = "MARS EXPRESS HRSC MAP PROJECTED REFDR V3.0"
DETECTOR_ID = MEX_HRSC_S2
EVENT_TYPE = "MARS-REGIONAL-MAPPING-Vo-Te"
INSTRUMENT_HOST_ID = MEX
INSTRUMENT_HOST_NAME = "MARS EXPRESS"
INSTRUMENT_ID = HRSC
INSTRUMENT_NAME = "HIGH RESOLUTION STEREO CAMERA"
MISSION_NAME = "MARS EXPRESS"
MISSION_PHASE_NAME = MR_Phase_7
PROCESSING_LEVEL_ID = 3
PRODUCT_CREATION_TIME = 2016-03-10T10:27:20.000Z
PRODUCT_ID = "H2001_0000_S23.JP2"
RELEASE_ID = 0026
REVISION_ID = 0000
/* QUALITY DATA ELEMENTS */
DATA_QUALITY_ID = 1
DATA_QUALITY_DESC = "Data calculated based on original SPICE kernels"
/* TIME DATA ELEMENTS */
SPACECRAFT_CLOCK_START_COUNT = "1/0071370459.56191"
SPACECRAFT_CLOCK_STOP_COUNT = "1/0071370692.22856"
START_TIME = 2005-08-06T01:07:47.059Z
STOP_TIME = 2005-08-06T01:10:32.381Z
/* ORBITAL DATA ELEMENTS */
ASCENDING_NODE_LONGITUDE = 186.33
MAXIMUM_RESOLUTION = 25
FOOTPRINT_POINT_LATITUDE = (-0.6472,-0.652548,-0.657654,-0.662487, -0.667066,-0.687111,-0.469741,-0.252135 ,0.0743495,0.292612,0.511121,0.729087, 0.947757,1.27652,1.49567,1.71103, 1.92245,2.1371,2.45257,2.66551,2.98453, 3.19737,3.41092,3.62421,3.83738,4.15779 ,4.37162,4.69244,4.90649,5.12113, 5.44299,5.65768,5.87205,6.08765,6.30297 ,6.62606,6.84155,7.05721,7.27321,7.4889 ,7.70572,7.92168,8.2454,8.57036,8.89554 ,9.11248,9.43828,9.65546,9.87291, 10.0899,10.1228,10.1265,10.1295,10.1337 ,10.1377,10.1433,10.1468,9.92915, 9.71141,9.49407,9.27781,9.0612,8.73632, 8.30301,7.97921,7.76332,7.43908,7.11563 ,6.89979,6.57596,6.36064,6.14566, 5.93061,5.71576,5.50148,5.28657,4.96504 ,4.64398,4.43001,4.10984,3.89643, 3.57651,3.25708,3.04435,2.83185,2.61928 ,2.40665,2.19449,1.87626,1.66466, 1.44668,1.22763,1.00864,0.790054, 0.461804,0.243049,0.0264736,-0.299945, -0.517564,-0.6472)
FOOTPRINT_POINT_LONGITUDE = (65.7645,65.5914,65.4191,65.2478, 65.0773,64.8103,64.8112,64.8121,64.8134 ,64.8142,64.8149,64.8157,64.8165, 64.8174,64.8181,64.8186,64.8192,64.8195 ,64.8205,64.8208,64.8214,64.8218, 64.8221,64.8224,64.8227,64.8231,64.8233 ,64.8236,64.8237,64.8238,64.8239,64.824 ,64.824,64.824,64.8239,64.8238,64.8237, 64.8236,64.8235,64.8233,64.8231,64.8229 ,64.8226,64.8221,64.8216,64.8213, 64.8207,64.8203,64.8199,64.8194,64.9399 ,65.0916,65.2234,65.3966,65.5401,65.736 ,65.8743,65.8734,65.8724,65.8716, 65.8713,65.8709,65.8703,65.8695,65.8695 ,65.8695,65.8693,65.8694,65.8694, 65.8694,65.8696,65.87,65.8703,65.8708, 65.8715,65.8719,65.8728,65.8739,65.8747 ,65.8762,65.8772,65.8787,65.8804, 65.8816,65.8829,65.8841,65.8852,65.8866 ,65.8885,65.8901,65.8917,65.8934, 65.8951,65.8969,65.8994,65.901,65.9037, 65.9068,65.9087,65.7645)
ORBIT_NUMBER = 2001
ORBITAL_ECCENTRICITY = 0.572
ORBITAL_INCLINATION = 86.61
ORBITAL_SEMIMAJOR_AXIS = 8628.7
PERIAPSIS_ALTITUDE = 295.35
PERIAPSIS_ARGUMENT_ANGLE = 6.9
PERIAPSIS_TIME = 2005-08-06T01:10:10.000Z
SPACECRAFT_ORIENTATION = (0.0,1.0,0.0)
^MEX_ORIENTATION_DESC = "MEX_ORIENTATION_DESC.TXT"
SPACECRAFT_POINTING_MODE = ACROSSTRACK
^MEX_POINTING_DESC = "MEX_POINTING_DESC.TXT"
RIGHT_ASCENSION = -1e+32
DECLINATION = -1e+32
OFFSET_ANGLE = -0.35
SPACECRAFT_SOLAR_DISTANCE = 2.07045e+08
TARGET_NAME = MARS
/* CAMERA DATA ELEMENTS */
DETECTOR_TEMPERATURE = 18.9822
FOCAL_PLANE_TEMPERATURE = 10.2145
INST_CMPRS_NAME = "DISCRETE COSINE TRANSFORMATION (DCT)"
INST_CMPRS_RATIO = 8.61338
INST_CMPRS_QUALITY = 0
INST_CMPRS_QUANTZ_TBL_ID = 0
INSTRUMENT_TEMPERATURE = 13.0691
LENS_TEMPERATURE = 10.2145
MACROPIXEL_SIZE = 2
MISSING_FRAMES = 0
PIXEL_SUBSAMPLING_FLAG = N
SIGNAL_CHAIN_ID = 1
/* RADIOMETRIC DATA ELEMENTS */
BANDWIDTH = 178.0
CENTER_FILTER_WAVELENGTH = 679.0
RADIANCE_OFFSET = 3.23588
RADIANCE_SCALING_FACTOR = 0.00852916
REFLECTANCE_SCALING_FACTOR = 0.000193627
MEX:REFLECTANCE_OFFSET = 0.0734601
/* IMAGE OBJECT DEFINITIONS */
OBJECT = IMAGE
  INTERCHANGE_FORMAT = BINARY
  LINES = 27571
  LINE_SAMPLES = 2748
  SAMPLE_TYPE = UNSIGNED_INTEGER
  SAMPLE_BITS = 8
  BANDS = 1
  BAND_STORAGE_TYPE = BAND_SEQUENTIAL
  MAXIMUM = 225
  MEAN = 154.776
  MINIMUM = 118
  STANDARD_DEVIATION = 8.78846
END_OBJECT = IMAGE
/* MAP OBJECT DEFINITIONS */
OBJECT = IMAGE_MAP_PROJECTION
  ^DATA_SET_MAP_PROJECTION_CATALOG= "DSMAP.CAT"
  A_AXIS_RADIUS = 3396.0
  B_AXIS_RADIUS = 3396.0
  C_AXIS_RADIUS = 3396.0
  CENTER_LATITUDE = 0.0
  CENTER_LONGITUDE = 65.0
  COORDINATE_SYSTEM_NAME = PLANETOGRAPHIC
  COORDINATE_SYSTEM_TYPE = "BODY-FIXED ROTATING"
  EASTERNMOST_LONGITUDE = 65.9087
  FIRST_STANDARD_PARALLEL = "N/A"
  LINE_FIRST_PIXEL = 1
  LINE_LAST_PIXEL = 27571
  LINE_PROJECTION_OFFSET = 25993.25
  MAP_PROJECTION_ROTATION = 0.0
  MAP_PROJECTION_TYPE = SINUSOIDAL
  MAP_RESOLUTION = 2370.85521546667
  MAP_SCALE = 0.025
  MAXIMUM_LATITUDE = 10.1468
  MINIMUM_LATITUDE = -0.687111
  POSITIVE_LONGITUDE_DIRECTION = EAST
  REFERENCE_LATITUDE = "N/A"
  REFERENCE_LONGITUDE = "N/A"
  SAMPLE_FIRST_PIXEL = 1
  SAMPLE_LAST_PIXEL = 2748
  SAMPLE_PROJECTION_OFFSET = 457.75
  SECOND_STANDARD_PARALLEL = "N/A"
  WESTERNMOST_LONGITUDE = 64.8103
END_OBJECT = IMAGE_MAP_PROJECTION
/* The JPEG2000 image data file associated with this label. */
OBJECT = COMPRESSED_FILE
  FILE_NAME = "H2001_0000_S23.JP2"
  RECORD_TYPE = UNDEFINED
  FILE_RECORDS = UNK
  ENCODING_TYPE = "JP2"
  INTERCHANGE_FORMAT = BINARY
  UNCOMPRESSED_FILE_NAME = "H2001_0000_S23.IMG"
  REQUIRED_STORAGE_BYTES = "75787092"
  ^DESCRIPTION = "JP2INFO.TXT"
END_OBJECT = COMPRESSED_FILE
END
