PDS_VERSION_ID = PDS3
/* FILE DATA ELEMENTS */
RECORD_TYPE = STREAM
/* POINTERS TO DATA OBJECTS */
^COMPRESSED_FILE = "H2004_0000_BL3.JP2"
/* IDENTIFICATION DATA ELEMENTS */
DATA_SET_ID = "MEX-M-HRSC-5-REFDR-MAPPROJECTED-V3.0"
DATA_SET_NAME = "MARS EXPRESS HRSC MAP PROJECTED REFDR V3.0"
DETECTOR_ID = MEX_HRSC_BLUE
EVENT_TYPE = "MARS-REGIONAL-MAPPING-Te-Pf-La"
INSTRUMENT_HOST_ID = MEX
INSTRUMENT_HOST_NAME = "MARS EXPRESS"
INSTRUMENT_ID = HRSC
INSTRUMENT_NAME = "HIGH RESOLUTION STEREO CAMERA"
MISSION_NAME = "MARS EXPRESS"
MISSION_PHASE_NAME = MR_Phase_7
PROCESSING_LEVEL_ID = 3
PRODUCT_CREATION_TIME = 2016-03-10T10:27:20.000Z
PRODUCT_ID = "H2004_0000_BL3.JP2"
RELEASE_ID = 0026
REVISION_ID = 0000
/* QUALITY DATA ELEMENTS */
DATA_QUALITY_ID = 1
DATA_QUALITY_DESC = "Data calculated based on original SPICE kernels"
/* TIME DATA ELEMENTS */
SPACECRAFT_CLOCK_START_COUNT = "1/0071442975.56183"
SPACECRAFT_CLOCK_STOP_COUNT = "1/0071443331.64664"
START_TIME = 2005-08-06T21:16:47.767Z
STOP_TIME = 2005-08-06T21:21:43.942Z
/* ORBITAL DATA ELEMENTS */
ASCENDING_NODE_LONGITUDE = 186.26
MAXIMUM_RESOLUTION = 47.8
FOOTPRINT_POINT_LATITUDE = (-4.30445,-4.30795,-4.31113,-4.31256, -3.90565,-3.49904,-3.29482,-2.88894, -2.49426,-2.09927,-1.70386,-1.3063, -0.91041,-0.514189,-0.117821,0.467047, 0.849583,1.23316,1.80852,2.38486, 2.76932,3.15416,3.53867,3.92339,4.30848 ,4.69362,5.07904,5.65715,6.04274, 6.42847,7.00716,7.39298,7.77893,8.16496 ,8.5509,8.93677,9.32262,9.90074,10.2868 ,10.6726,11.0586,11.4443,11.8295, 12.2152,12.6007,12.9858,13.3824,13.7815 ,14.1804,14.5791,14.9777,15.2042, 15.2052,15.2061,15.2059,14.8077,14.2099 ,13.8113,13.4125,12.8228,12.4379, 12.0528,11.6676,11.2822,10.8966,10.3183 ,9.73967,9.16157,8.58301,8.19731, 7.81156,7.23295,6.65448,6.26884,5.88313 ,5.49883,5.11256,4.53507,4.15012, 3.57304,3.18847,2.80421,2.22781,1.84413 ,1.45986,1.07678,0.693961,0.310652, -0.0811146,-0.476865,-0.873907,-1.26891 ,-1.66475,-2.06177,-2.45646,-2.85082, -3.46005,-3.86813,-4.27507,-4.30445)
FOOTPRINT_POINT_LONGITUDE = (131.087,130.748,130.413,130.204, 130.206,130.208,130.209,130.211,130.213 ,130.214,130.216,130.217,130.219,130.22 ,130.221,130.223,130.223,130.224, 130.225,130.226,130.227,130.227,130.227 ,130.227,130.227,130.228,130.228, 130.227,130.227,130.227,130.226,130.226 ,130.225,130.225,130.224,130.224, 130.223,130.221,130.221,130.22,130.219, 130.218,130.216,130.215,130.214,130.213 ,130.211,130.21,130.208,130.207,130.205 ,130.329,130.594,130.937,131.356,131.35 ,131.341,131.336,131.331,131.325, 131.321,131.317,131.314,131.31,131.307, 131.302,131.298,131.296,131.293,131.292 ,131.29,131.288,131.287,131.286,131.284 ,131.288,131.285,131.286,131.286, 131.287,131.288,131.29,131.291,131.294, 131.293,131.297,131.3,131.301,131.302, 131.307,131.307,131.313,131.315,131.313 ,131.317,131.321,131.325,131.327, 131.332,131.087)
ORBIT_NUMBER = 2004
ORBITAL_ECCENTRICITY = 0.572
ORBITAL_INCLINATION = 86.59
ORBITAL_SEMIMAJOR_AXIS = 8625.74
PERIAPSIS_ALTITUDE = 295.82
PERIAPSIS_ARGUMENT_ANGLE = 6.37
PERIAPSIS_TIME = 2005-08-06T21:19:35.000Z
SPACECRAFT_ORIENTATION = (0.0,1.0,0.0)
^MEX_ORIENTATION_DESC = "MEX_ORIENTATION_DESC.TXT"
SPACECRAFT_POINTING_MODE = ACROSSTRACK
^MEX_POINTING_DESC = "MEX_POINTING_DESC.TXT"
RIGHT_ASCENSION = -1e+32
DECLINATION = -1e+32
OFFSET_ANGLE = -0.55
SPACECRAFT_SOLAR_DISTANCE = 2.07081e+08
TARGET_NAME = MARS
/* CAMERA DATA ELEMENTS */
DETECTOR_TEMPERATURE = 18.3705
FOCAL_PLANE_TEMPERATURE = 9.195
INST_CMPRS_NAME = "DISCRETE COSINE TRANSFORMATION (DCT)"
INST_CMPRS_RATIO = 4.76592
INST_CMPRS_QUALITY = 0
INST_CMPRS_QUANTZ_TBL_ID = 0
INSTRUMENT_TEMPERATURE = 11.4379
LENS_TEMPERATURE = 9.6028
MACROPIXEL_SIZE = 4
MISSING_FRAMES = 0
PIXEL_SUBSAMPLING_FLAG = N
SIGNAL_CHAIN_ID = 2
/* RADIOMETRIC DATA ELEMENTS */
BANDWIDTH = 76.0
CENTER_FILTER_WAVELENGTH = 444.0
RADIANCE_OFFSET = 0.591261
RADIANCE_SCALING_FACTOR = 0.00143443
REFLECTANCE_SCALING_FACTOR = 6.31997e-05
MEX:REFLECTANCE_OFFSET = 0.0260504
/* IMAGE OBJECT DEFINITIONS */
OBJECT = IMAGE
  INTERCHANGE_FORMAT = BINARY
  LINES = 23131
  LINE_SAMPLES = 1432
  SAMPLE_TYPE = UNSIGNED_INTEGER
  SAMPLE_BITS = 8
  BANDS = 1
  BAND_STORAGE_TYPE = BAND_SEQUENTIAL
  MAXIMUM = 204
  MEAN = 154.515
  MINIMUM = 113
  STANDARD_DEVIATION = 11.1748
END_OBJECT = IMAGE
/* MAP OBJECT DEFINITIONS */
OBJECT = IMAGE_MAP_PROJECTION
  ^DATA_SET_MAP_PROJECTION_CATALOG= "DSMAP.CAT"
  A_AXIS_RADIUS = 3396.0
  B_AXIS_RADIUS = 3396.0
  C_AXIS_RADIUS = 3396.0
  CENTER_LATITUDE = 0.0
  CENTER_LONGITUDE = 131.0
  COORDINATE_SYSTEM_NAME = PLANETOGRAPHIC
  COORDINATE_SYSTEM_TYPE = "BODY-FIXED ROTATING"
  EASTERNMOST_LONGITUDE = 131.356
  FIRST_STANDARD_PARALLEL = "N/A"
  LINE_FIRST_PIXEL = 1
  LINE_LAST_PIXEL = 23131
  LINE_PROJECTION_OFFSET = 18021.625
  MAP_PROJECTION_ROTATION = 0.0
  MAP_PROJECTION_TYPE = SINUSOIDAL
  MAP_RESOLUTION = 1185.42760773333
  MAP_SCALE = 0.05
  MAXIMUM_LATITUDE = 15.2061
  MINIMUM_LATITUDE = -4.31256
  POSITIVE_LONGITUDE_DIRECTION = EAST
  REFERENCE_LATITUDE = "N/A"
  REFERENCE_LONGITUDE = "N/A"
  SAMPLE_FIRST_PIXEL = 1
  SAMPLE_LAST_PIXEL = 1432
  SAMPLE_PROJECTION_OFFSET = 946.125
  SECOND_STANDARD_PARALLEL = "N/A"
  WESTERNMOST_LONGITUDE = 130.204
END_OBJECT = IMAGE_MAP_PROJECTION
/* The JPEG2000 image data file associated with this label. */
OBJECT = COMPRESSED_FILE
  FILE_NAME = "H2004_0000_BL3.JP2"
  RECORD_TYPE = UNDEFINED
  FILE_RECORDS = UNK
  ENCODING_TYPE = "JP2"
  INTERCHANGE_FORMAT = BINARY
  UNCOMPRESSED_FILE_NAME = "H2004_0000_BL3.IMG"
  REQUIRED_STORAGE_BYTES = "33142208"
  ^DESCRIPTION = "JP2INFO.TXT"
END_OBJECT = COMPRESSED_FILE
END
