PDS_VERSION_ID = PDS3
/* FILE DATA ELEMENTS */
RECORD_TYPE = STREAM
/* POINTERS TO DATA OBJECTS */
^COMPRESSED_FILE = "H2005_0000_BL3.JP2"
/* IDENTIFICATION DATA ELEMENTS */
DATA_SET_ID = "MEX-M-HRSC-5-REFDR-MAPPROJECTED-V3.0"
DATA_SET_NAME = "MARS EXPRESS HRSC MAP PROJECTED REFDR V3.0"
DETECTOR_ID = MEX_HRSC_BLUE
EVENT_TYPE = "MARS-REGIONAL-MAPPING-Im-Fl-Lc"
INSTRUMENT_HOST_ID = MEX
INSTRUMENT_HOST_NAME = "MARS EXPRESS"
INSTRUMENT_ID = HRSC
INSTRUMENT_NAME = "HIGH RESOLUTION STEREO CAMERA"
MISSION_NAME = "MARS EXPRESS"
MISSION_PHASE_NAME = MR_Phase_7
PROCESSING_LEVEL_ID = 3
PRODUCT_CREATION_TIME = 2016-03-10T10:27:20.000Z
PRODUCT_ID = "H2005_0000_BL3.JP2"
RELEASE_ID = 0026
REVISION_ID = 0000
/* QUALITY DATA ELEMENTS */
DATA_QUALITY_ID = 1
DATA_QUALITY_DESC = "Data calculated based on original SPICE kernels"
/* TIME DATA ELEMENTS */
SPACECRAFT_CLOCK_START_COUNT = "1/0071467224.57978"
SPACECRAFT_CLOCK_STOP_COUNT = "1/0071467641.23790"
START_TIME = 2005-08-07T04:00:55.164Z
STOP_TIME = 2005-08-07T04:06:47.589Z
/* ORBITAL DATA ELEMENTS */
ASCENDING_NODE_LONGITUDE = 186.24
MAXIMUM_RESOLUTION = 94.6
FOOTPRINT_POINT_LATITUDE = (-0.60405,-0.608867,-0.612256,-0.615992 ,-0.158347,0.290973,0.733129,1.39566, 1.83893,2.2837,2.72635,3.17049,3.6147, 4.05897,4.5042,4.949,5.3943,5.83947, 6.28452,6.72972,7.39765,7.84311,8.28861 ,8.73442,9.18012,9.84823,10.2936, 10.7724,11.4396,12.1073,12.5517,13.2343 ,13.6949,14.3861,14.8468,15.305,15.7649 ,16.2344,16.7096,17.1844,17.6585, 18.1316,18.6166,19.1055,19.5928,20.0815 ,20.5819,20.8334,21.3362,21.838,22.5862 ,22.586,22.5846,22.5807,22.0805,21.5794 ,21.0793,20.8282,20.577,20.0753,19.5878 ,19.1004,18.6125,18.1284,17.6551, 17.1814,16.7073,16.2326,15.7634,15.3035 ,14.614,14.1544,13.6953,13.235,12.775, 12.3305,11.6652,11.2207,10.7757,10.2954 ,9.62793,9.18251,8.5146,8.06913,7.40086 ,6.73345,6.28851,5.84373,5.17665, 4.73202,4.06499,3.62099,3.1765,2.73261, 2.28888,1.84535,1.18095,0.516962, -0.151117,-0.60405)
FOOTPRINT_POINT_LONGITUDE = (33.1118,32.6715,32.3505,32.0388, 32.0399,32.0416,32.0424,32.043,32.0437, 32.0447,32.0447,32.0451,32.0453,32.0454 ,32.0457,32.0457,32.0457,32.0455, 32.0451,32.0447,32.0439,32.0433,32.0427 ,32.0421,32.0413,32.04,32.039,32.0378, 32.036,32.0342,32.0328,32.0308,32.0292, 32.027,32.0255,32.0233,32.0217,32.0199, 32.0179,32.0159,32.0138,32.0115,32.0093 ,32.007,32.0044,32.0022,31.9998,31.9985 ,31.9959,31.9933,31.9893,32.3936, 32.9071,33.3237,33.3084,33.2933,33.2853 ,33.2788,33.2725,33.2503,33.2386, 33.2297,33.2216,33.2124,33.2028,33.1945 ,33.1862,33.1781,33.1686,33.1582, 33.1471,33.1418,33.1395,33.1343,33.1271 ,33.1221,33.1213,33.1182,33.1143, 33.1046,33.1008,33.0974,33.0939,33.0914 ,33.0876,33.0873,33.0871,33.0874, 33.0879,33.0883,33.088,33.0897,33.0891, 33.0902,33.0911,33.0921,33.0953,33.0979 ,33.1026,33.1118)
ORBIT_NUMBER = 2005
ORBITAL_ECCENTRICITY = 0.572
ORBITAL_INCLINATION = 86.59
ORBITAL_SEMIMAJOR_AXIS = 8627.59
PERIAPSIS_ALTITUDE = 295.33
PERIAPSIS_ARGUMENT_ANGLE = 6.2
PERIAPSIS_TIME = 2005-08-07T04:02:43.000Z
SPACECRAFT_ORIENTATION = (0.0,1.0,0.0)
^MEX_ORIENTATION_DESC = "MEX_ORIENTATION_DESC.TXT"
SPACECRAFT_POINTING_MODE = ACROSSTRACK
^MEX_POINTING_DESC = "MEX_POINTING_DESC.TXT"
RIGHT_ASCENSION = -1e+32
DECLINATION = -1e+32
OFFSET_ANGLE = -0.62
SPACECRAFT_SOLAR_DISTANCE = 2.07093e+08
TARGET_NAME = MARS
/* CAMERA DATA ELEMENTS */
DETECTOR_TEMPERATURE = 18.5744
FOCAL_PLANE_TEMPERATURE = 9.8067
INST_CMPRS_NAME = "DISCRETE COSINE TRANSFORMATION (DCT)"
INST_CMPRS_RATIO = 13.9287
INST_CMPRS_QUALITY = 0
INST_CMPRS_QUANTZ_TBL_ID = 0
INSTRUMENT_TEMPERATURE = 11.4379
LENS_TEMPERATURE = 10.0106
MACROPIXEL_SIZE = 8
MISSING_FRAMES = 21
PIXEL_SUBSAMPLING_FLAG = N
SIGNAL_CHAIN_ID = 2
/* RADIOMETRIC DATA ELEMENTS */
BANDWIDTH = 76.0
CENTER_FILTER_WAVELENGTH = 444.0
RADIANCE_OFFSET = 0.536706
RADIANCE_SCALING_FACTOR = 0.00182779
REFLECTANCE_SCALING_FACTOR = 8.05406e-05
MEX:REFLECTANCE_OFFSET = 0.0236496
/* IMAGE OBJECT DEFINITIONS */
OBJECT = IMAGE
  INTERCHANGE_FORMAT = BINARY
  LINES = 13742
  LINE_SAMPLES = 795
  SAMPLE_TYPE = UNSIGNED_INTEGER
  SAMPLE_BITS = 8
  BANDS = 1
  BAND_STORAGE_TYPE = BAND_SEQUENTIAL
  MAXIMUM = 217
  MEAN = 157.646
  MINIMUM = 114
  STANDARD_DEVIATION = 16.2685
END_OBJECT = IMAGE
/* MAP OBJECT DEFINITIONS */
OBJECT = IMAGE_MAP_PROJECTION
  ^DATA_SET_MAP_PROJECTION_CATALOG= "DSMAP.CAT"
  A_AXIS_RADIUS = 3396.0
  B_AXIS_RADIUS = 3396.0
  C_AXIS_RADIUS = 3396.0
  CENTER_LATITUDE = 0.0
  CENTER_LONGITUDE = 33.0
  COORDINATE_SYSTEM_NAME = PLANETOGRAPHIC
  COORDINATE_SYSTEM_TYPE = "BODY-FIXED ROTATING"
  EASTERNMOST_LONGITUDE = 33.3237
  FIRST_STANDARD_PARALLEL = "N/A"
  LINE_FIRST_PIXEL = 1
  LINE_LAST_PIXEL = 13742
  LINE_PROJECTION_OFFSET = 13375.4375
  MAP_PROJECTION_ROTATION = 0.0
  MAP_PROJECTION_TYPE = SINUSOIDAL
  MAP_RESOLUTION = 592.713803866667
  MAP_SCALE = 0.1
  MAXIMUM_LATITUDE = 22.5862
  MINIMUM_LATITUDE = -0.615992
  POSITIVE_LONGITUDE_DIRECTION = EAST
  REFERENCE_LATITUDE = "N/A"
  REFERENCE_LONGITUDE = "N/A"
  SAMPLE_FIRST_PIXEL = 1
  SAMPLE_LAST_PIXEL = 795
  SAMPLE_PROJECTION_OFFSET = 576.0625
  SECOND_STANDARD_PARALLEL = "N/A"
  WESTERNMOST_LONGITUDE = 31.9893
END_OBJECT = IMAGE_MAP_PROJECTION
/* The JPEG2000 image data file associated with this label. */
OBJECT = COMPRESSED_FILE
  FILE_NAME = "H2005_0000_BL3.JP2"
  RECORD_TYPE = UNDEFINED
  FILE_RECORDS = UNK
  ENCODING_TYPE = "JP2"
  INTERCHANGE_FORMAT = BINARY
  UNCOMPRESSED_FILE_NAME = "H2005_0000_BL3.IMG"
  REQUIRED_STORAGE_BYTES = "10942380"
  ^DESCRIPTION = "JP2INFO.TXT"
END_OBJECT = COMPRESSED_FILE
END
