PDS_VERSION_ID = PDS3
/* FILE DATA ELEMENTS */
RECORD_TYPE = STREAM
/* POINTERS TO DATA OBJECTS */
^COMPRESSED_FILE = "H2007_0000_ND3.JP2"
/* IDENTIFICATION DATA ELEMENTS */
DATA_SET_ID = "MEX-M-HRSC-5-REFDR-MAPPROJECTED-V3.0"
DATA_SET_NAME = "MARS EXPRESS HRSC MAP PROJECTED REFDR V3.0"
DETECTOR_ID = MEX_HRSC_NADIR
EVENT_TYPE = "MARS-LOCAL-STEREO-Vo-La-At"
INSTRUMENT_HOST_ID = MEX
INSTRUMENT_HOST_NAME = "MARS EXPRESS"
INSTRUMENT_ID = HRSC
INSTRUMENT_NAME = "HIGH RESOLUTION STEREO CAMERA"
MISSION_NAME = "MARS EXPRESS"
MISSION_PHASE_NAME = MR_Phase_7
PROCESSING_LEVEL_ID = 3
PRODUCT_CREATION_TIME = 2016-03-10T10:27:20.000Z
PRODUCT_ID = "H2007_0000_ND3.JP2"
RELEASE_ID = 0026
REVISION_ID = 0000
/* QUALITY DATA ELEMENTS */
DATA_QUALITY_ID = 1
DATA_QUALITY_DESC = "Data calculated based on original SPICE kernels"
/* TIME DATA ELEMENTS */
SPACECRAFT_CLOCK_START_COUNT = "1/0071515568.57952"
SPACECRAFT_CLOCK_STOP_COUNT = "1/0071515723.15576"
START_TIME = 2005-08-07T17:26:44.568Z
STOP_TIME = 2005-08-07T17:28:22.576Z
/* ORBITAL DATA ELEMENTS */
ASCENDING_NODE_LONGITUDE = 186.2
MAXIMUM_RESOLUTION = 12
FOOTPRINT_POINT_LATITUDE = (-3.06213,-3.06283,-3.06355,-3.06417, -3.06404,-2.93204,-2.79998,-2.6679, -2.53577,-2.40361,-2.27142,-2.13921, -2.00696,-1.87467,-1.74236,-1.61002, -1.41355,-1.15816,-0.902643,-0.710945, -0.583133,-0.455306,-0.327365,-0.199417 ,-0.0714287,0.0565235,0.248473,0.376455 ,0.50437,0.632382,0.76043,0.888509, 1.0166,1.14471,1.27285,1.40101,1.52917, 1.72147,1.84967,1.97789,2.10612,2.23437 ,2.36264,2.55507,2.68337,2.81166, 2.93998,3.06833,3.19667,3.39436,3.395, 3.39549,3.39579,3.39604,3.39603,3.20354 ,3.0752,2.94689,2.81859,2.62618,2.49791 ,2.36964,2.2414,2.04905,1.85671,1.72853 ,1.60035,1.47222,1.34408,1.21596, 1.08783,0.959719,0.76759,0.639706, 0.511709,0.383732,0.255747,0.12778, -0.000160943,-0.128072,-0.319938, -0.447872,-0.575744,-0.767541,-0.895328 ,-1.08696,-1.34232,-1.47009,-1.60245, -1.73478,-1.86709,-1.99936,-2.1316, -2.26381,-2.39599,-2.52813,-2.66024, -2.79232,-2.92436,-3.06213)
FOOTPRINT_POINT_LONGITUDE = (195.844,195.597,195.318,195.049, 194.855,194.855,194.856,194.856,194.857 ,194.857,194.858,194.858,194.859, 194.859,194.86,194.86,194.861,194.862, 194.862,194.863,194.863,194.864,194.863 ,194.862,194.861,194.861,194.862, 194.862,194.865,194.865,194.866,194.866 ,194.866,194.866,194.866,194.866, 194.866,194.866,194.866,194.866,194.866 ,194.866,194.866,194.866,194.866, 194.866,194.866,194.866,194.866,194.948 ,195.229,195.477,195.643,195.788, 195.918,195.918,195.919,195.919,195.919 ,195.921,195.921,195.921,195.922, 195.923,195.923,195.924,195.924,195.925 ,195.926,195.927,195.927,195.927, 195.928,195.932,195.933,195.934,195.935 ,195.936,195.936,195.937,195.938, 195.938,195.938,195.938,195.939,195.94, 195.943,195.944,195.945,195.946,195.947 ,195.948,195.949,195.95,195.952,195.953 ,195.954,195.955,195.957,195.844)
ORBIT_NUMBER = 2007
ORBITAL_ECCENTRICITY = 0.572
ORBITAL_INCLINATION = 86.6
ORBITAL_SEMIMAJOR_AXIS = 8620.22
PERIAPSIS_ALTITUDE = 295.32
PERIAPSIS_ARGUMENT_ANGLE = 5.81
PERIAPSIS_TIME = 2005-08-07T17:28:59.000Z
SPACECRAFT_ORIENTATION = (0.0,1.0,0.0)
^MEX_ORIENTATION_DESC = "MEX_ORIENTATION_DESC.TXT"
SPACECRAFT_POINTING_MODE = NADIR
^MEX_POINTING_DESC = "MEX_POINTING_DESC.TXT"
RIGHT_ASCENSION = -1e+32
DECLINATION = -1e+32
OFFSET_ANGLE = -1e+32
SPACECRAFT_SOLAR_DISTANCE = 2.07118e+08
TARGET_NAME = MARS
/* CAMERA DATA ELEMENTS */
DETECTOR_TEMPERATURE = 18.3705
FOCAL_PLANE_TEMPERATURE = 10.2145
INST_CMPRS_NAME = "DISCRETE COSINE TRANSFORMATION (DCT)"
INST_CMPRS_RATIO = 5.87217
INST_CMPRS_QUALITY = 0
INST_CMPRS_QUANTZ_TBL_ID = 0
INSTRUMENT_TEMPERATURE = 11.6418
LENS_TEMPERATURE = 10.4184
MACROPIXEL_SIZE = 1
MISSING_FRAMES = 0
PIXEL_SUBSAMPLING_FLAG = N
SIGNAL_CHAIN_ID = 0
/* RADIOMETRIC DATA ELEMENTS */
BANDWIDTH = 177.0
CENTER_FILTER_WAVELENGTH = 677.5
RADIANCE_OFFSET = 5.51369
RADIANCE_SCALING_FACTOR = 0.014065
REFLECTANCE_SCALING_FACTOR = 0.000320523
MEX:REFLECTANCE_OFFSET = 0.12565
/* IMAGE OBJECT DEFINITIONS */
OBJECT = IMAGE
  INTERCHANGE_FORMAT = BINARY
  LINES = 30633
  LINE_SAMPLES = 5540
  SAMPLE_TYPE = UNSIGNED_INTEGER
  SAMPLE_BITS = 8
  BANDS = 1
  BAND_STORAGE_TYPE = BAND_SEQUENTIAL
  MAXIMUM = 191
  MEAN = 132.208
  MINIMUM = 98
  STANDARD_DEVIATION = 7.32043
END_OBJECT = IMAGE
/* MAP OBJECT DEFINITIONS */
OBJECT = IMAGE_MAP_PROJECTION
  ^DATA_SET_MAP_PROJECTION_CATALOG= "DSMAP.CAT"
  A_AXIS_RADIUS = 3396.0
  B_AXIS_RADIUS = 3396.0
  C_AXIS_RADIUS = 3396.0
  CENTER_LATITUDE = 0.0
  CENTER_LONGITUDE = 195.0
  COORDINATE_SYSTEM_NAME = PLANETOGRAPHIC
  COORDINATE_SYSTEM_TYPE = "BODY-FIXED ROTATING"
  EASTERNMOST_LONGITUDE = 195.957
  FIRST_STANDARD_PARALLEL = "N/A"
  LINE_FIRST_PIXEL = 1
  LINE_LAST_PIXEL = 30633
  LINE_PROJECTION_OFFSET = 16101.0
  MAP_PROJECTION_ROTATION = 0.0
  MAP_PROJECTION_TYPE = SINUSOIDAL
  MAP_RESOLUTION = 4741.71043093333
  MAP_SCALE = 0.0125
  MAXIMUM_LATITUDE = 3.39604
  MINIMUM_LATITUDE = -3.06417
  POSITIVE_LONGITUDE_DIRECTION = EAST
  REFERENCE_LATITUDE = "N/A"
  REFERENCE_LONGITUDE = "N/A"
  SAMPLE_FIRST_PIXEL = 1
  SAMPLE_LAST_PIXEL = 5540
  SAMPLE_PROJECTION_OFFSET = 850.0
  SECOND_STANDARD_PARALLEL = "N/A"
  WESTERNMOST_LONGITUDE = 194.855
END_OBJECT = IMAGE_MAP_PROJECTION
/* The JPEG2000 image data file associated with this label. */
OBJECT = COMPRESSED_FILE
  FILE_NAME = "H2007_0000_ND3.JP2"
  RECORD_TYPE = UNDEFINED
  FILE_RECORDS = UNK
  ENCODING_TYPE = "JP2"
  INTERCHANGE_FORMAT = BINARY
  UNCOMPRESSED_FILE_NAME = "H2007_0000_ND3.IMG"
  REQUIRED_STORAGE_BYTES = "169734520"
  ^DESCRIPTION = "JP2INFO.TXT"
END_OBJECT = COMPRESSED_FILE
END
