PDS_VERSION_ID = PDS3
/* FILE DATA ELEMENTS */
RECORD_TYPE = STREAM
/* POINTERS TO DATA OBJECTS */
^COMPRESSED_FILE = "H2011_0000_GR3.JP2"
/* IDENTIFICATION DATA ELEMENTS */
DATA_SET_ID = "MEX-M-HRSC-5-REFDR-MAPPROJECTED-V3.0"
DATA_SET_NAME = "MARS EXPRESS HRSC MAP PROJECTED REFDR V3.0"
DETECTOR_ID = MEX_HRSC_GREEN
EVENT_TYPE = "MARS-REGIONAL-MAPPING-Im-Fl"
INSTRUMENT_HOST_ID = MEX
INSTRUMENT_HOST_NAME = "MARS EXPRESS"
INSTRUMENT_ID = HRSC
INSTRUMENT_NAME = "HIGH RESOLUTION STEREO CAMERA"
MISSION_NAME = "MARS EXPRESS"
MISSION_PHASE_NAME = MR_Phase_7
PROCESSING_LEVEL_ID = 3
PRODUCT_CREATION_TIME = 2016-03-10T10:27:20.000Z
PRODUCT_ID = "H2011_0000_GR3.JP2"
RELEASE_ID = 0026
REVISION_ID = 0000
/* QUALITY DATA ELEMENTS */
DATA_QUALITY_ID = 1
DATA_QUALITY_DESC = "Data calculated based on original SPICE kernels"
/* TIME DATA ELEMENTS */
SPACECRAFT_CLOCK_START_COUNT = "1/0071612018.57167"
SPACECRAFT_CLOCK_STOP_COUNT = "1/0071612248.41280"
START_TIME = 2005-08-08T20:16:08.424Z
STOP_TIME = 2005-08-08T20:17:07.868Z
/* ORBITAL DATA ELEMENTS */
ASCENDING_NODE_LONGITUDE = 186.11
MAXIMUM_RESOLUTION = 115.3
FOOTPRINT_POINT_LATITUDE = (-16.4099,-16.4101,-16.4102,-16.4103, -16.4103,-16.4103,-16.4102,-16.4101, -16.41,-16.4098,-16.4095,-16.4092, -16.409,-16.4096,-16.2617,-16.114, -15.9292,-15.8176,-15.7066,-15.5584, -15.373,-15.2246,-15.0763,-14.9282, -14.8538,-14.7793,-14.6307,-14.5184, -14.4437,-14.3694,-14.295,-14.2204, -14.1459,-14.0714,-13.997,-13.8853, -13.8108,-13.7362,-13.6615,-13.5496, -13.4748,-13.4,-13.3252,-13.2131, -13.1385,-13.0637,-12.9888,-12.9139, -12.839,-12.7639,-12.6515,-12.6109, -12.6109,-12.611,-12.6111,-12.6111, -12.611,-12.6109,-12.6108,-12.6106, -12.612,-12.687,-12.7993,-12.8743, -12.9494,-13.0244,-13.0993,-13.1742, -13.2491,-13.3239,-13.3987,-13.5109, -13.5856,-13.6602,-13.7347,-13.8463, -13.9209,-14.0326,-14.1076,-14.2203, -14.3323,-14.4069,-14.5189,-14.6307, -14.7051,-14.7796,-14.8912,-14.9655, -15.0399,-15.1142,-15.1885,-15.2628, -15.4112,-15.5586,-15.6689,-15.854, -16.0021,-16.1872,-16.2982,-16.4099)
FOOTPRINT_POINT_LONGITUDE = (162.892,162.774,162.67,162.565,162.461 ,162.343,162.238,162.133,162.028, 161.923,161.818,161.7,161.621,161.543, 161.546,161.548,161.552,161.555,161.557 ,161.56,161.563,161.565,161.568,161.569 ,161.571,161.572,161.575,161.578,161.58 ,161.581,161.582,161.583,161.584, 161.585,161.586,161.587,161.588,161.589 ,161.59,161.592,161.593,161.595,161.596 ,161.597,161.598,161.599,161.6,161.601, 161.602,161.604,161.605,161.748,161.928 ,162.096,162.204,162.288,162.371, 162.467,162.634,162.778,162.881,162.882 ,162.884,162.885,162.887,162.888,162.89 ,162.891,162.892,162.894,162.895, 162.897,162.898,162.899,162.9,162.901, 162.903,162.904,162.906,162.909,162.912 ,162.913,162.916,162.918,162.919, 162.921,162.923,162.924,162.926,162.927 ,162.928,162.93,162.932,162.934,162.934 ,162.937,162.94,162.944,162.946, 162.892)
ORBIT_NUMBER = 2011
ORBITAL_ECCENTRICITY = 0.572
ORBITAL_INCLINATION = 86.61
ORBITAL_SEMIMAJOR_AXIS = 8620.03
PERIAPSIS_ALTITUDE = 294.88
PERIAPSIS_ARGUMENT_ANGLE = 5.13
PERIAPSIS_TIME = 2005-08-08T20:21:34.000Z
SPACECRAFT_ORIENTATION = (0.0,1.0,0.0)
^MEX_ORIENTATION_DESC = "MEX_ORIENTATION_DESC.TXT"
SPACECRAFT_POINTING_MODE = ACROSSTRACK
^MEX_POINTING_DESC = "MEX_POINTING_DESC.TXT"
RIGHT_ASCENSION = -1e+32
DECLINATION = -1e+32
OFFSET_ANGLE = 0.11
SPACECRAFT_SOLAR_DISTANCE = 2.0717e+08
TARGET_NAME = MARS
/* CAMERA DATA ELEMENTS */
DETECTOR_TEMPERATURE = 18.5744
FOCAL_PLANE_TEMPERATURE = 10.0106
INST_CMPRS_NAME = "DISCRETE COSINE TRANSFORMATION (DCT)"
INST_CMPRS_RATIO = 13.9309
INST_CMPRS_QUALITY = 0
INST_CMPRS_QUANTZ_TBL_ID = 0
INSTRUMENT_TEMPERATURE = 11.6418
LENS_TEMPERATURE = 10.2145
MACROPIXEL_SIZE = 8
MISSING_FRAMES = 0
PIXEL_SUBSAMPLING_FLAG = N
SIGNAL_CHAIN_ID = 2
/* RADIOMETRIC DATA ELEMENTS */
BANDWIDTH = 88.0
CENTER_FILTER_WAVELENGTH = 538.0
RADIANCE_OFFSET = 1.90249
RADIANCE_SCALING_FACTOR = 0.00385335
REFLECTANCE_SCALING_FACTOR = 0.000142391
MEX:REFLECTANCE_OFFSET = 0.0703016
/* IMAGE OBJECT DEFINITIONS */
OBJECT = IMAGE
  INTERCHANGE_FORMAT = BINARY
  LINES = 1956
  LINE_SAMPLES = 842
  SAMPLE_TYPE = UNSIGNED_INTEGER
  SAMPLE_BITS = 8
  BANDS = 1
  BAND_STORAGE_TYPE = BAND_SEQUENTIAL
  MAXIMUM = 140
  MEAN = 118.339
  MINIMUM = 89
  STANDARD_DEVIATION = 4.75586
END_OBJECT = IMAGE
/* MAP OBJECT DEFINITIONS */
OBJECT = IMAGE_MAP_PROJECTION
  ^DATA_SET_MAP_PROJECTION_CATALOG= "DSMAP.CAT"
  A_AXIS_RADIUS = 3396.0
  B_AXIS_RADIUS = 3396.0
  C_AXIS_RADIUS = 3396.0
  CENTER_LATITUDE = 0.0
  CENTER_LONGITUDE = 162.0
  COORDINATE_SYSTEM_NAME = PLANETOGRAPHIC
  COORDINATE_SYSTEM_TYPE = "BODY-FIXED ROTATING"
  EASTERNMOST_LONGITUDE = 162.946
  FIRST_STANDARD_PARALLEL = "N/A"
  LINE_FIRST_PIXEL = 1
  LINE_LAST_PIXEL = 1956
  LINE_PROJECTION_OFFSET = -7475.5625
  MAP_PROJECTION_ROTATION = 0.0
  MAP_PROJECTION_TYPE = SINUSOIDAL
  MAP_RESOLUTION = 592.713803866667
  MAP_SCALE = 0.1
  MAXIMUM_LATITUDE = -12.6106
  MINIMUM_LATITUDE = -16.4103
  POSITIVE_LONGITUDE_DIRECTION = EAST
  REFERENCE_LATITUDE = "N/A"
  REFERENCE_LONGITUDE = "N/A"
  SAMPLE_FIRST_PIXEL = 1
  SAMPLE_LAST_PIXEL = 842
  SAMPLE_PROJECTION_OFFSET = 287.6875
  SECOND_STANDARD_PARALLEL = "N/A"
  WESTERNMOST_LONGITUDE = 161.543
END_OBJECT = IMAGE_MAP_PROJECTION
/* The JPEG2000 image data file associated with this label. */
OBJECT = COMPRESSED_FILE
  FILE_NAME = "H2011_0000_GR3.JP2"
  RECORD_TYPE = UNDEFINED
  FILE_RECORDS = UNK
  ENCODING_TYPE = "JP2"
  INTERCHANGE_FORMAT = BINARY
  UNCOMPRESSED_FILE_NAME = "H2011_0000_GR3.IMG"
  REQUIRED_STORAGE_BYTES = "1665476"
  ^DESCRIPTION = "JP2INFO.TXT"
END_OBJECT = COMPRESSED_FILE
END
