PDS_VERSION_ID = PDS3
/* FILE DATA ELEMENTS */
RECORD_TYPE = STREAM
/* POINTERS TO DATA OBJECTS */
^COMPRESSED_FILE = "H2011_0000_RE3.JP2"
/* IDENTIFICATION DATA ELEMENTS */
DATA_SET_ID = "MEX-M-HRSC-5-REFDR-MAPPROJECTED-V3.0"
DATA_SET_NAME = "MARS EXPRESS HRSC MAP PROJECTED REFDR V3.0"
DETECTOR_ID = MEX_HRSC_RED
EVENT_TYPE = "MARS-REGIONAL-MAPPING-Im-Fl"
INSTRUMENT_HOST_ID = MEX
INSTRUMENT_HOST_NAME = "MARS EXPRESS"
INSTRUMENT_ID = HRSC
INSTRUMENT_NAME = "HIGH RESOLUTION STEREO CAMERA"
MISSION_NAME = "MARS EXPRESS"
MISSION_PHASE_NAME = MR_Phase_7
PROCESSING_LEVEL_ID = 3
PRODUCT_CREATION_TIME = 2016-03-10T10:27:20.000Z
PRODUCT_ID = "H2011_0000_RE3.JP2"
RELEASE_ID = 0026
REVISION_ID = 0000
/* QUALITY DATA ELEMENTS */
DATA_QUALITY_ID = 1
DATA_QUALITY_DESC = "Data calculated based on original SPICE kernels"
/* TIME DATA ELEMENTS */
SPACECRAFT_CLOCK_START_COUNT = "1/0071612018.57167"
SPACECRAFT_CLOCK_STOP_COUNT = "1/0071612248.41280"
START_TIME = 2005-08-08T20:16:08.424Z
STOP_TIME = 2005-08-08T20:16:33.794Z
/* ORBITAL DATA ELEMENTS */
ASCENDING_NODE_LONGITUDE = 186.11
MAXIMUM_RESOLUTION = 126.2
FOOTPRINT_POINT_LATITUDE = (-14.1562,-14.1562,-14.1561,-14.1561, -14.156,-14.1559,-14.1558,-14.1557, -14.1555,-14.1553,-14.1551,-14.1549, -14.1546,-14.1544,-14.154,-14.1537, -14.1533,-14.1529,-14.1522,-14.1518, -14.1513,-14.1506,-14.1501,-14.1495, -14.1489,-14.1483,-14.1346,-14.0773, -14.0338,-13.9467,-13.8599,-13.7733, -13.7158,-13.6579,-13.6145,-13.557, -13.4994,-13.4134,-13.3561,-13.2841, -13.2406,-13.1822,-13.1245,-13.0663, -12.994,-12.9363,-12.8498,-12.7639, -12.6922,-12.6484,-12.6047,-12.5984, -12.5988,-12.5992,-12.5998,-12.6009, -12.6014,-12.6017,-12.6022,-12.6024, -12.6027,-12.6032,-12.6033,-12.6035, -12.6039,-12.6043,-12.6048,-12.605, -12.6046,-12.6032,-12.6025,-12.6026, -12.6033,-12.6046,-12.6048,-12.6351, -12.6931,-12.737,-12.7806,-12.8527, -12.9387,-13.0247,-13.1111,-13.1975, -13.2694,-13.3558,-13.4421,-13.4997, -13.5574,-13.6149,-13.7021,-13.7328, -13.7902,-13.8486,-13.8919,-13.9493, -13.9794,-14.0368,-14.1069,-14.1562)
FOOTPRINT_POINT_LONGITUDE = (162.94,162.874,162.822,162.757,162.718 ,162.666,162.614,162.562,162.51,162.458 ,162.406,162.353,162.301,162.262,162.21 ,162.158,162.105,162.053,161.975, 161.923,161.87,161.805,161.753,161.7, 161.648,161.595,161.544,161.545,161.546 ,161.547,161.548,161.55,161.551,161.552 ,161.553,161.554,161.555,161.556, 161.557,161.559,161.559,161.56,161.561, 161.562,161.563,161.564,161.566,161.568 ,161.569,161.57,161.57,161.606,161.657, 161.695,161.746,161.809,161.86,161.898, 161.948,161.999,162.062,162.125,162.175 ,162.225,162.301,162.364,162.415, 162.465,162.503,162.578,162.654,162.717 ,162.767,162.817,162.855,162.914, 162.916,162.916,162.917,162.919,162.92, 162.922,162.924,162.926,162.927,162.929 ,162.931,162.932,162.933,162.934, 162.936,162.936,162.937,162.938,162.939 ,162.94,162.94,162.941,162.943,162.94)
ORBIT_NUMBER = 2011
ORBITAL_ECCENTRICITY = 0.572
ORBITAL_INCLINATION = 86.61
ORBITAL_SEMIMAJOR_AXIS = 8620.03
PERIAPSIS_ALTITUDE = 294.88
PERIAPSIS_ARGUMENT_ANGLE = 5.13
PERIAPSIS_TIME = 2005-08-08T20:21:34.000Z
SPACECRAFT_ORIENTATION = (0.0,1.0,0.0)
^MEX_ORIENTATION_DESC = "MEX_ORIENTATION_DESC.TXT"
SPACECRAFT_POINTING_MODE = ACROSSTRACK
^MEX_POINTING_DESC = "MEX_POINTING_DESC.TXT"
RIGHT_ASCENSION = -1e+32
DECLINATION = -1e+32
OFFSET_ANGLE = 0.11
SPACECRAFT_SOLAR_DISTANCE = 2.0717e+08
TARGET_NAME = MARS
/* CAMERA DATA ELEMENTS */
DETECTOR_TEMPERATURE = 19.1861
FOCAL_PLANE_TEMPERATURE = 10.0106
INST_CMPRS_NAME = "DISCRETE COSINE TRANSFORMATION (DCT)"
INST_CMPRS_RATIO = 12.7428
INST_CMPRS_QUALITY = 0
INST_CMPRS_QUANTZ_TBL_ID = 0
INSTRUMENT_TEMPERATURE = 11.6418
LENS_TEMPERATURE = 10.2145
MACROPIXEL_SIZE = 8
MISSING_FRAMES = 0
PIXEL_SUBSAMPLING_FLAG = N
SIGNAL_CHAIN_ID = 2
/* RADIOMETRIC DATA ELEMENTS */
BANDWIDTH = 48.0
CENTER_FILTER_WAVELENGTH = 748.0
RADIANCE_OFFSET = 1.76896
RADIANCE_SCALING_FACTOR = 0.00365912
REFLECTANCE_SCALING_FACTOR = 0.000358391
MEX:REFLECTANCE_OFFSET = 0.173259
/* IMAGE OBJECT DEFINITIONS */
OBJECT = IMAGE
  INTERCHANGE_FORMAT = BINARY
  LINES = 1956
  LINE_SAMPLES = 842
  SAMPLE_TYPE = UNSIGNED_INTEGER
  SAMPLE_BITS = 8
  BANDS = 1
  BAND_STORAGE_TYPE = BAND_SEQUENTIAL
  MAXIMUM = 140
  MEAN = 118.489
  MINIMUM = 91
  STANDARD_DEVIATION = 3.89647
END_OBJECT = IMAGE
/* MAP OBJECT DEFINITIONS */
OBJECT = IMAGE_MAP_PROJECTION
  ^DATA_SET_MAP_PROJECTION_CATALOG= "DSMAP.CAT"
  A_AXIS_RADIUS = 3396.0
  B_AXIS_RADIUS = 3396.0
  C_AXIS_RADIUS = 3396.0
  CENTER_LATITUDE = 0.0
  CENTER_LONGITUDE = 162.0
  COORDINATE_SYSTEM_NAME = PLANETOGRAPHIC
  COORDINATE_SYSTEM_TYPE = "BODY-FIXED ROTATING"
  EASTERNMOST_LONGITUDE = 162.943
  FIRST_STANDARD_PARALLEL = "N/A"
  LINE_FIRST_PIXEL = 1
  LINE_LAST_PIXEL = 1956
  LINE_PROJECTION_OFFSET = -7475.5625
  MAP_PROJECTION_ROTATION = 0.0
  MAP_PROJECTION_TYPE = SINUSOIDAL
  MAP_RESOLUTION = 592.713803866667
  MAP_SCALE = 0.1
  MAXIMUM_LATITUDE = -12.5984
  MINIMUM_LATITUDE = -14.1562
  POSITIVE_LONGITUDE_DIRECTION = EAST
  REFERENCE_LATITUDE = "N/A"
  REFERENCE_LONGITUDE = "N/A"
  SAMPLE_FIRST_PIXEL = 1
  SAMPLE_LAST_PIXEL = 842
  SAMPLE_PROJECTION_OFFSET = 287.6875
  SECOND_STANDARD_PARALLEL = "N/A"
  WESTERNMOST_LONGITUDE = 161.544
END_OBJECT = IMAGE_MAP_PROJECTION
/* The JPEG2000 image data file associated with this label. */
OBJECT = COMPRESSED_FILE
  FILE_NAME = "H2011_0000_RE3.JP2"
  RECORD_TYPE = UNDEFINED
  FILE_RECORDS = UNK
  ENCODING_TYPE = "JP2"
  INTERCHANGE_FORMAT = BINARY
  UNCOMPRESSED_FILE_NAME = "H2011_0000_RE3.IMG"
  REQUIRED_STORAGE_BYTES = "1665476"
  ^DESCRIPTION = "JP2INFO.TXT"
END_OBJECT = COMPRESSED_FILE
END
