PDS_VERSION_ID = PDS3
/* FILE DATA ELEMENTS */
RECORD_TYPE = STREAM
/* POINTERS TO DATA OBJECTS */
^COMPRESSED_FILE = "H2013_0001_S13.JP2"
/* IDENTIFICATION DATA ELEMENTS */
DATA_SET_ID = "MEX-M-HRSC-5-REFDR-MAPPROJECTED-V3.0"
DATA_SET_NAME = "MARS EXPRESS HRSC MAP PROJECTED REFDR V3.0"
DETECTOR_ID = MEX_HRSC_S1
EVENT_TYPE = "MARS-REGIONAL-MAPPING-Fl-Lc-Mw"
INSTRUMENT_HOST_ID = MEX
INSTRUMENT_HOST_NAME = "MARS EXPRESS"
INSTRUMENT_ID = HRSC
INSTRUMENT_NAME = "HIGH RESOLUTION STEREO CAMERA"
MISSION_NAME = "MARS EXPRESS"
MISSION_PHASE_NAME = MR_Phase_7
PROCESSING_LEVEL_ID = 3
PRODUCT_CREATION_TIME = 2016-03-10T10:27:20.000Z
PRODUCT_ID = "H2013_0001_S13.JP2"
RELEASE_ID = 0026
REVISION_ID = 0000
/* QUALITY DATA ELEMENTS */
DATA_QUALITY_ID = 1
DATA_QUALITY_DESC = "Data calculated based on original SPICE kernels"
/* TIME DATA ELEMENTS */
SPACECRAFT_CLOCK_START_COUNT = "1/0071660664.57935"
SPACECRAFT_CLOCK_STOP_COUNT = "1/0071661007.23601"
START_TIME = 2005-08-09T09:45:29.066Z
STOP_TIME = 2005-08-09T09:50:12.550Z
/* ORBITAL DATA ELEMENTS */
ASCENDING_NODE_LONGITUDE = 186.07
MAXIMUM_RESOLUTION = 25.2
FOOTPRINT_POINT_LATITUDE = (-5.79576,-5.78428,-5.78189,-5.58693, -5.19822,-4.81152,-4.42281,-4.22725, -3.84043,-3.46589,-3.10662,-2.73389, -2.35887,-1.98522,-1.61091,-1.23796, -0.678515,-0.305281,0.0685019,0.443387, 0.82148,1.18995,1.56456,1.94162,2.31021 ,2.68234,3.05894,3.44198,3.99656, 4.36513,4.91617,5.47147,6.02315,6.38982 ,6.75094,7.11658,7.48273,8.032,8.58023, 8.95334,9.49511,10.0568,10.432,10.9927, 11.3693,11.7418,12.2907,12.668,12.8645, 12.8664,12.8492,12.8441,12.8389,12.4508 ,12.072,11.6983,11.3246,10.7627,10.3876 ,9.8264,9.45739,9.09328,8.72871,8.36402 ,8.00127,7.62571,7.26011,6.71979, 6.36068,5.99359,5.6213,5.067,4.70397, 4.50941,3.95059,3.39483,2.83792,2.46619 ,2.09367,1.72323,1.34796,0.975228, 0.413204,-0.143822,-0.520686,-1.07832, -1.63828,-2.01327,-2.38841,-2.93427, -3.49524,-3.8698,-4.25335,-4.64199, -5.03103,-5.22585,-5.42053,-5.61528, -5.80998,-5.79576)
FOOTPRINT_POINT_LONGITUDE = (326.48,326.139,325.809,325.809,325.811 ,325.812,325.813,325.814,325.815, 325.815,325.816,325.817,325.817,325.818 ,325.818,325.818,325.819,325.819, 325.819,325.818,325.818,325.818,325.817 ,325.817,325.816,325.816,325.815, 325.814,325.813,325.812,325.81,325.808, 325.806,325.805,325.803,325.802,325.8, 325.797,325.795,325.793,325.79,325.786, 325.784,325.781,325.778,325.776,325.771 ,325.769,325.768,326.054,326.302, 326.549,326.774,326.924,326.923,326.92, 326.916,326.91,326.907,326.9,326.899, 326.897,326.894,326.892,326.888,326.892 ,326.89,326.882,326.876,326.874,326.876 ,326.875,326.871,326.877,326.879, 326.879,326.88,326.88,326.881,326.881, 326.884,326.885,326.889,326.889,326.893 ,326.894,326.896,326.899,326.902, 326.896,326.899,326.902,326.905,326.908 ,326.912,326.913,326.915,326.917, 326.919,326.48)
ORBIT_NUMBER = 2013
ORBITAL_ECCENTRICITY = 0.572
ORBITAL_INCLINATION = 86.61
ORBITAL_SEMIMAJOR_AXIS = 8619.31
PERIAPSIS_ALTITUDE = 294.45
PERIAPSIS_ARGUMENT_ANGLE = 4.75
PERIAPSIS_TIME = 2005-08-09T09:47:42.000Z
SPACECRAFT_ORIENTATION = (0.0,1.0,0.0)
^MEX_ORIENTATION_DESC = "MEX_ORIENTATION_DESC.TXT"
SPACECRAFT_POINTING_MODE = ACROSSTRACK
^MEX_POINTING_DESC = "MEX_POINTING_DESC.TXT"
RIGHT_ASCENSION = -1e+32
DECLINATION = -1e+32
OFFSET_ANGLE = -0.5
SPACECRAFT_SOLAR_DISTANCE = 2.07197e+08
TARGET_NAME = MARS
/* CAMERA DATA ELEMENTS */
DETECTOR_TEMPERATURE = 18.9822
FOCAL_PLANE_TEMPERATURE = 10.2145
INST_CMPRS_NAME = "DISCRETE COSINE TRANSFORMATION (DCT)"
INST_CMPRS_RATIO = 9.71164
INST_CMPRS_QUALITY = 0
INST_CMPRS_QUANTZ_TBL_ID = 0
INSTRUMENT_TEMPERATURE = 13.273
LENS_TEMPERATURE = 10.6223
MACROPIXEL_SIZE = 2
MISSING_FRAMES = 0
PIXEL_SUBSAMPLING_FLAG = N
SIGNAL_CHAIN_ID = 1
/* RADIOMETRIC DATA ELEMENTS */
BANDWIDTH = 180.0
CENTER_FILTER_WAVELENGTH = 677.0
RADIANCE_OFFSET = 4.43284
RADIANCE_SCALING_FACTOR = 0.0150132
REFLECTANCE_SCALING_FACTOR = 0.000336266
MEX:REFLECTANCE_OFFSET = 0.0992869
/* IMAGE OBJECT DEFINITIONS */
OBJECT = IMAGE
  INTERCHANGE_FORMAT = BINARY
  LINES = 44262
  LINE_SAMPLES = 2863
  SAMPLE_TYPE = UNSIGNED_INTEGER
  SAMPLE_BITS = 8
  BANDS = 1
  BAND_STORAGE_TYPE = BAND_SEQUENTIAL
  MAXIMUM = 175
  MEAN = 119.814
  MINIMUM = 84
  STANDARD_DEVIATION = 7.35315
END_OBJECT = IMAGE
/* MAP OBJECT DEFINITIONS */
OBJECT = IMAGE_MAP_PROJECTION
  ^DATA_SET_MAP_PROJECTION_CATALOG= "DSMAP.CAT"
  A_AXIS_RADIUS = 3396.0
  B_AXIS_RADIUS = 3396.0
  C_AXIS_RADIUS = 3396.0
  CENTER_LATITUDE = 0.0
  CENTER_LONGITUDE = 326.0
  COORDINATE_SYSTEM_NAME = PLANETOGRAPHIC
  COORDINATE_SYSTEM_TYPE = "BODY-FIXED ROTATING"
  EASTERNMOST_LONGITUDE = 326.924
  FIRST_STANDARD_PARALLEL = "N/A"
  LINE_FIRST_PIXEL = 1
  LINE_LAST_PIXEL = 44262
  LINE_PROJECTION_OFFSET = 30513.75
  MAP_PROJECTION_ROTATION = 0.0
  MAP_PROJECTION_TYPE = SINUSOIDAL
  MAP_RESOLUTION = 2370.85521546667
  MAP_SCALE = 0.025
  MAXIMUM_LATITUDE = 12.8664
  MINIMUM_LATITUDE = -5.80998
  POSITIVE_LONGITUDE_DIRECTION = EAST
  REFERENCE_LATITUDE = "N/A"
  REFERENCE_LONGITUDE = "N/A"
  SAMPLE_FIRST_PIXEL = 1
  SAMPLE_LAST_PIXEL = 2863
  SAMPLE_PROJECTION_OFFSET = 508.25
  SECOND_STANDARD_PARALLEL = "N/A"
  WESTERNMOST_LONGITUDE = 325.768
END_OBJECT = IMAGE_MAP_PROJECTION
/* The JPEG2000 image data file associated with this label. */
OBJECT = COMPRESSED_FILE
  FILE_NAME = "H2013_0001_S13.JP2"
  RECORD_TYPE = UNDEFINED
  FILE_RECORDS = UNK
  ENCODING_TYPE = "JP2"
  INTERCHANGE_FORMAT = BINARY
  UNCOMPRESSED_FILE_NAME = "H2013_0001_S13.IMG"
  REQUIRED_STORAGE_BYTES = "126745010"
  ^DESCRIPTION = "JP2INFO.TXT"
END_OBJECT = COMPRESSED_FILE
END
