PDS_VERSION_ID = PDS3
/* FILE DATA ELEMENTS */
RECORD_TYPE = STREAM
/* POINTERS TO DATA OBJECTS */
^COMPRESSED_FILE = "H2017_0000_BL3.JP2"
/* IDENTIFICATION DATA ELEMENTS */
DATA_SET_ID = "MEX-M-HRSC-5-REFDR-MAPPROJECTED-V3.0"
DATA_SET_NAME = "MARS EXPRESS HRSC MAP PROJECTED REFDR V3.0"
DETECTOR_ID = MEX_HRSC_BLUE
EVENT_TYPE = "MARS-LOCAL-STEREO-Te-La"
INSTRUMENT_HOST_ID = MEX
INSTRUMENT_HOST_NAME = "MARS EXPRESS"
INSTRUMENT_ID = HRSC
INSTRUMENT_NAME = "HIGH RESOLUTION STEREO CAMERA"
MISSION_NAME = "MARS EXPRESS"
MISSION_PHASE_NAME = MR_Phase_7
PROCESSING_LEVEL_ID = 3
PRODUCT_CREATION_TIME = 2016-03-10T10:27:20.000Z
PRODUCT_ID = "H2017_0000_BL3.JP2"
RELEASE_ID = 0026
REVISION_ID = 0000
/* QUALITY DATA ELEMENTS */
DATA_QUALITY_ID = 1
DATA_QUALITY_DESC = "Data calculated based on original SPICE kernels"
/* TIME DATA ELEMENTS */
SPACECRAFT_CLOCK_START_COUNT = "1/0071757257.57301"
SPACECRAFT_CLOCK_STOP_COUNT = "1/0071757512.08446"
START_TIME = 2005-08-10T12:34:56.685Z
STOP_TIME = 2005-08-10T12:38:06.020Z
/* ORBITAL DATA ELEMENTS */
ASCENDING_NODE_LONGITUDE = 185.98
MAXIMUM_RESOLUTION = 97.8
FOOTPRINT_POINT_LATITUDE = (-16.2043,-16.204,-16.203,-15.9187, -15.6338,-15.3485,-15.0628,-14.7768, -14.4902,-14.0907,-13.8501,-13.6038, -13.3609,-12.9973,-12.7561,-12.515, -12.2705,-12.0255,-11.7826,-11.5391, -11.2955,-11.0529,-10.8136,-10.5742, -10.3301,-10.0855,-9.84354,-9.6065, -9.36891,-9.13101,-8.77471,-8.53656, -8.29584,-8.05589,-7.82545,-7.59664, -7.36472,-7.13078,-6.77997,-6.54983, -6.32383,-6.09521,-5.7554,-5.53103, -5.19418,-4.9696,-4.74379,-4.29466, -4.05997,-4.05966,-4.05881,-4.17217, -4.39743,-4.62251,-4.84751,-5.0723, -5.29696,-5.52154,-5.74597,-5.97029, -6.20162,-6.43313,-6.77537,-7.00343, -7.23596,-7.4687,-7.81679,-8.04823, -8.28417,-8.52634,-8.76569,-9.00372, -9.24167,-9.47891,-9.83494,-10.0769, -10.3216,-10.5659,-10.8101,-11.0519, -11.2901,-11.5303,-11.7745,-12.0165, -12.2594,-12.6276,-12.8739,-13.1108, -13.3503,-13.5952,-13.9634,-14.2041, -14.4803,-14.7679,-15.0539,-15.3397, -15.6252,-15.9104,-16.195,-16.2043)
FOOTPRINT_POINT_LONGITUDE = (293.02,292.672,292.312,292.122,292.127 ,292.132,292.138,292.143,292.147, 292.154,292.158,292.153,292.154,292.158 ,292.163,292.168,292.168,292.168, 292.171,292.174,292.177,292.182,292.192 ,292.203,292.206,292.209,292.212, 292.215,292.217,292.219,292.223,292.225 ,292.223,292.219,292.221,292.227, 292.227,292.225,292.221,292.225,292.236 ,292.243,292.245,292.246,292.248, 292.249,292.249,292.252,292.34,292.617, 292.963,293.308,293.31,293.312,293.313, 293.315,293.318,293.32,293.322,293.324, 293.326,293.33,293.342,293.351,293.351, 293.352,293.353,293.355,293.358,293.354 ,293.356,293.359,293.362,293.365,293.37 ,293.374,293.377,293.381,293.385, 293.392,293.405,293.415,293.417,293.423 ,293.427,293.425,293.422,293.435, 293.443,293.441,293.436,293.441,293.448 ,293.452,293.457,293.463,293.468, 293.473,293.479,293.02)
ORBIT_NUMBER = 2017
ORBITAL_ECCENTRICITY = 0.572
ORBITAL_INCLINATION = 86.6
ORBITAL_SEMIMAJOR_AXIS = 8626.82
PERIAPSIS_ALTITUDE = 293.87
PERIAPSIS_ARGUMENT_ANGLE = 4.06
PERIAPSIS_TIME = 2005-08-10T12:40:14.000Z
SPACECRAFT_ORIENTATION = (0.0,1.0,0.0)
^MEX_ORIENTATION_DESC = "MEX_ORIENTATION_DESC.TXT"
SPACECRAFT_POINTING_MODE = NADIR
^MEX_POINTING_DESC = "MEX_POINTING_DESC.TXT"
RIGHT_ASCENSION = -1e+32
DECLINATION = -1e+32
OFFSET_ANGLE = -1e+32
SPACECRAFT_SOLAR_DISTANCE = 2.07253e+08
TARGET_NAME = MARS
/* CAMERA DATA ELEMENTS */
DETECTOR_TEMPERATURE = 18.3705
FOCAL_PLANE_TEMPERATURE = 10.0106
INST_CMPRS_NAME = "DISCRETE COSINE TRANSFORMATION (DCT)"
INST_CMPRS_RATIO = 8.10428
INST_CMPRS_QUALITY = 0
INST_CMPRS_QUANTZ_TBL_ID = 0
INSTRUMENT_TEMPERATURE = 11.6418
LENS_TEMPERATURE = 10.2145
MACROPIXEL_SIZE = 8
MISSING_FRAMES = 0
PIXEL_SUBSAMPLING_FLAG = N
SIGNAL_CHAIN_ID = 2
/* RADIOMETRIC DATA ELEMENTS */
BANDWIDTH = 76.0
CENTER_FILTER_WAVELENGTH = 444.0
RADIANCE_OFFSET = 0.560246
RADIANCE_SCALING_FACTOR = 0.00276938
REFLECTANCE_SCALING_FACTOR = 0.000122219
MEX:REFLECTANCE_OFFSET = 0.024725
/* IMAGE OBJECT DEFINITIONS */
OBJECT = IMAGE
  INTERCHANGE_FORMAT = BINARY
  LINES = 7203
  LINE_SAMPLES = 831
  SAMPLE_TYPE = UNSIGNED_INTEGER
  SAMPLE_BITS = 8
  BANDS = 1
  BAND_STORAGE_TYPE = BAND_SEQUENTIAL
  MAXIMUM = 275
  MEAN = 196.936
  MINIMUM = 115
  STANDARD_DEVIATION = 14.6503
END_OBJECT = IMAGE
/* MAP OBJECT DEFINITIONS */
OBJECT = IMAGE_MAP_PROJECTION
  ^DATA_SET_MAP_PROJECTION_CATALOG= "DSMAP.CAT"
  A_AXIS_RADIUS = 3396.0
  B_AXIS_RADIUS = 3396.0
  C_AXIS_RADIUS = 3396.0
  CENTER_LATITUDE = 0.0
  CENTER_LONGITUDE = 293.0
  COORDINATE_SYSTEM_NAME = PLANETOGRAPHIC
  COORDINATE_SYSTEM_TYPE = "BODY-FIXED ROTATING"
  EASTERNMOST_LONGITUDE = 293.479
  FIRST_STANDARD_PARALLEL = "N/A"
  LINE_FIRST_PIXEL = 1
  LINE_LAST_PIXEL = 7203
  LINE_PROJECTION_OFFSET = -2401.9375
  MAP_PROJECTION_ROTATION = 0.0
  MAP_PROJECTION_TYPE = SINUSOIDAL
  MAP_RESOLUTION = 592.713803866667
  MAP_SCALE = 0.1
  MAXIMUM_LATITUDE = -4.05881
  MINIMUM_LATITUDE = -16.2043
  POSITIVE_LONGITUDE_DIRECTION = EAST
  REFERENCE_LATITUDE = "N/A"
  REFERENCE_LONGITUDE = "N/A"
  SAMPLE_FIRST_PIXEL = 1
  SAMPLE_LAST_PIXEL = 831
  SAMPLE_PROJECTION_OFFSET = 535.0625
  SECOND_STANDARD_PARALLEL = "N/A"
  WESTERNMOST_LONGITUDE = 292.122
END_OBJECT = IMAGE_MAP_PROJECTION
/* The JPEG2000 image data file associated with this label. */
OBJECT = COMPRESSED_FILE
  FILE_NAME = "H2017_0000_BL3.JP2"
  RECORD_TYPE = UNDEFINED
  FILE_RECORDS = UNK
  ENCODING_TYPE = "JP2"
  INTERCHANGE_FORMAT = BINARY
  UNCOMPRESSED_FILE_NAME = "H2017_0000_BL3.IMG"
  REQUIRED_STORAGE_BYTES = "6003975"
  ^DESCRIPTION = "JP2INFO.TXT"
END_OBJECT = COMPRESSED_FILE
END
