PDS_VERSION_ID = PDS3
/* FILE DATA ELEMENTS */
RECORD_TYPE = STREAM
/* POINTERS TO DATA OBJECTS */
^COMPRESSED_FILE = "H2018_0000_BL3.JP2"
/* IDENTIFICATION DATA ELEMENTS */
DATA_SET_ID = "MEX-M-HRSC-5-REFDR-MAPPROJECTED-V3.0"
DATA_SET_NAME = "MARS EXPRESS HRSC MAP PROJECTED REFDR V3.0"
DETECTOR_ID = MEX_HRSC_BLUE
EVENT_TYPE = "MARS-REGIONAL-MAPPING-Vo-Im-At"
INSTRUMENT_HOST_ID = MEX
INSTRUMENT_HOST_NAME = "MARS EXPRESS"
INSTRUMENT_ID = HRSC
INSTRUMENT_NAME = "HIGH RESOLUTION STEREO CAMERA"
MISSION_NAME = "MARS EXPRESS"
MISSION_PHASE_NAME = MR_Phase_7
PROCESSING_LEVEL_ID = 3
PRODUCT_CREATION_TIME = 2016-03-10T10:27:20.000Z
PRODUCT_ID = "H2018_0000_BL3.JP2"
RELEASE_ID = 0026
REVISION_ID = 0000
/* QUALITY DATA ELEMENTS */
DATA_QUALITY_ID = 1
DATA_QUALITY_DESC = "Data calculated based on original SPICE kernels"
/* TIME DATA ELEMENTS */
SPACECRAFT_CLOCK_START_COUNT = "1/0071781657.57315"
SPACECRAFT_CLOCK_STOP_COUNT = "1/0071781811.14722"
START_TIME = 2005-08-10T19:21:28.042Z
STOP_TIME = 2005-08-10T19:23:06.179Z
/* ORBITAL DATA ELEMENTS */
ASCENDING_NODE_LONGITUDE = 185.96
MAXIMUM_RESOLUTION = 47.7
FOOTPRINT_POINT_LATITUDE = (-3.03499,-3.03477,-3.03451,-3.03421, -3.03385,-3.03345,-3.03298,-2.8327, -2.70266,-2.57265,-2.44244,-2.31207, -2.18194,-2.05165,-1.85627,-1.72587, -1.59561,-1.39992,-1.26947,-1.13902, -1.00854,-0.878039,-0.682276,-0.55193, -0.421334,-0.225256,-0.0945539, 0.0362464,0.166968,0.297705,0.428459, 0.559243,0.690044,0.820865,0.951468, 1.08227,1.2133,1.3442,1.54069,1.67158, 1.86692,2.11925,2.24563,2.49792,2.6242, 2.81355,2.93979,3.06615,3.1924,3.44352, 3.4432,3.44275,3.44231,3.44203,3.44155, 3.44043,3.31412,3.18792,3.0616,2.87206, 2.74582,2.49364,2.30436,2.17787,1.92575 ,1.79799,1.66702,1.53622,1.40515, 1.20871,1.07805,0.9472,0.75085,0.620052 ,0.489318,0.293234,0.16236,0.0319021, -0.0991049,-0.229839,-0.360657, -0.491086,-0.621787,-0.752134,-0.88258, -1.01321,-1.14378,-1.27404,-1.40447, -1.60003,-1.73039,-1.86075,-1.99104, -2.12133,-2.25156,-2.382,-2.57708, -2.70733,-2.83747,-3.03499)
FOOTPRINT_POINT_LONGITUDE = (194.767,194.62,194.463,194.304,194.146 ,193.987,193.807,193.734,193.735, 193.736,193.736,193.736,193.736,193.737 ,193.737,193.737,193.738,193.738, 193.738,193.738,193.738,193.739,193.739 ,193.74,193.74,193.74,193.74,193.74, 193.74,193.74,193.74,193.74,193.74, 193.74,193.74,193.74,193.74,193.74, 193.74,193.74,193.74,193.739,193.739, 193.739,193.738,193.738,193.738,193.737 ,193.737,193.736,193.892,194.107, 194.282,194.437,194.621,194.777,194.778 ,194.778,194.778,194.779,194.779,194.78 ,194.781,194.781,194.782,194.782, 194.783,194.783,194.784,194.784,194.785 ,194.786,194.787,194.787,194.788, 194.789,194.789,194.79,194.791,194.791, 194.792,194.793,194.794,194.795,194.795 ,194.796,194.797,194.798,194.799,194.8, 194.801,194.802,194.803,194.804,194.805 ,194.805,194.807,194.808,194.809, 194.767)
ORBIT_NUMBER = 2018
ORBITAL_ECCENTRICITY = 0.572
ORBITAL_INCLINATION = 86.61
ORBITAL_SEMIMAJOR_AXIS = 8620.38
PERIAPSIS_ALTITUDE = 294.04
PERIAPSIS_ARGUMENT_ANGLE = 3.85
PERIAPSIS_TIME = 2005-08-10T19:23:17.000Z
SPACECRAFT_ORIENTATION = (0.0,1.0,0.0)
^MEX_ORIENTATION_DESC = "MEX_ORIENTATION_DESC.TXT"
SPACECRAFT_POINTING_MODE = ACROSSTRACK
^MEX_POINTING_DESC = "MEX_POINTING_DESC.TXT"
RIGHT_ASCENSION = -1e+32
DECLINATION = -1e+32
OFFSET_ANGLE = 0.25
SPACECRAFT_SOLAR_DISTANCE = 2.07267e+08
TARGET_NAME = MARS
/* CAMERA DATA ELEMENTS */
DETECTOR_TEMPERATURE = 18.1666
FOCAL_PLANE_TEMPERATURE = 10.0106
INST_CMPRS_NAME = "DISCRETE COSINE TRANSFORMATION (DCT)"
INST_CMPRS_RATIO = 6.9379
INST_CMPRS_QUALITY = 0
INST_CMPRS_QUANTZ_TBL_ID = 0
INSTRUMENT_TEMPERATURE = 12.4574
LENS_TEMPERATURE = 10.2145
MACROPIXEL_SIZE = 4
MISSING_FRAMES = 0
PIXEL_SUBSAMPLING_FLAG = N
SIGNAL_CHAIN_ID = 2
/* RADIOMETRIC DATA ELEMENTS */
BANDWIDTH = 76.0
CENTER_FILTER_WAVELENGTH = 444.0
RADIANCE_OFFSET = 0.754315
RADIANCE_SCALING_FACTOR = 0.00122507
REFLECTANCE_SCALING_FACTOR = 5.40727e-05
MEX:REFLECTANCE_OFFSET = 0.0332943
/* IMAGE OBJECT DEFINITIONS */
OBJECT = IMAGE
  INTERCHANGE_FORMAT = BINARY
  LINES = 7675
  LINE_SAMPLES = 1358
  SAMPLE_TYPE = UNSIGNED_INTEGER
  SAMPLE_BITS = 8
  BANDS = 1
  BAND_STORAGE_TYPE = BAND_SEQUENTIAL
  MAXIMUM = 166
  MEAN = 123.372
  MINIMUM = 96
  STANDARD_DEVIATION = 4.12616
END_OBJECT = IMAGE
/* MAP OBJECT DEFINITIONS */
OBJECT = IMAGE_MAP_PROJECTION
  ^DATA_SET_MAP_PROJECTION_CATALOG= "DSMAP.CAT"
  A_AXIS_RADIUS = 3396.0
  B_AXIS_RADIUS = 3396.0
  C_AXIS_RADIUS = 3396.0
  CENTER_LATITUDE = 0.0
  CENTER_LONGITUDE = 194.0
  COORDINATE_SYSTEM_NAME = PLANETOGRAPHIC
  COORDINATE_SYSTEM_TYPE = "BODY-FIXED ROTATING"
  EASTERNMOST_LONGITUDE = 194.809
  FIRST_STANDARD_PARALLEL = "N/A"
  LINE_FIRST_PIXEL = 1
  LINE_LAST_PIXEL = 7675
  LINE_PROJECTION_OFFSET = 4073.625
  MAP_PROJECTION_ROTATION = 0.0
  MAP_PROJECTION_TYPE = SINUSOIDAL
  MAP_RESOLUTION = 1185.42760773333
  MAP_SCALE = 0.05
  MAXIMUM_LATITUDE = 3.44352
  MINIMUM_LATITUDE = -3.03499
  POSITIVE_LONGITUDE_DIRECTION = EAST
  REFERENCE_LATITUDE = "N/A"
  REFERENCE_LONGITUDE = "N/A"
  SAMPLE_FIRST_PIXEL = 1
  SAMPLE_LAST_PIXEL = 1358
  SAMPLE_PROJECTION_OFFSET = 378.375
  SECOND_STANDARD_PARALLEL = "N/A"
  WESTERNMOST_LONGITUDE = 193.734
END_OBJECT = IMAGE_MAP_PROJECTION
/* The JPEG2000 image data file associated with this label. */
OBJECT = COMPRESSED_FILE
  FILE_NAME = "H2018_0000_BL3.JP2"
  RECORD_TYPE = UNDEFINED
  FILE_RECORDS = UNK
  ENCODING_TYPE = "JP2"
  INTERCHANGE_FORMAT = BINARY
  UNCOMPRESSED_FILE_NAME = "H2018_0000_BL3.IMG"
  REQUIRED_STORAGE_BYTES = "10441662"
  ^DESCRIPTION = "JP2INFO.TXT"
END_OBJECT = COMPRESSED_FILE
END
