PDS_VERSION_ID = PDS3
/* FILE DATA ELEMENTS */
RECORD_TYPE = STREAM
/* POINTERS TO DATA OBJECTS */
^COMPRESSED_FILE = "H2018_0000_ND3.JP2"
/* IDENTIFICATION DATA ELEMENTS */
DATA_SET_ID = "MEX-M-HRSC-5-REFDR-MAPPROJECTED-V3.0"
DATA_SET_NAME = "MARS EXPRESS HRSC MAP PROJECTED REFDR V3.0"
DETECTOR_ID = MEX_HRSC_NADIR
EVENT_TYPE = "MARS-REGIONAL-MAPPING-Vo-Im-At"
INSTRUMENT_HOST_ID = MEX
INSTRUMENT_HOST_NAME = "MARS EXPRESS"
INSTRUMENT_ID = HRSC
INSTRUMENT_NAME = "HIGH RESOLUTION STEREO CAMERA"
MISSION_NAME = "MARS EXPRESS"
MISSION_PHASE_NAME = MR_Phase_7
PROCESSING_LEVEL_ID = 3
PRODUCT_CREATION_TIME = 2016-03-10T10:27:20.000Z
PRODUCT_ID = "H2018_0000_ND3.JP2"
RELEASE_ID = 0026
REVISION_ID = 0000
/* QUALITY DATA ELEMENTS */
DATA_QUALITY_ID = 1
DATA_QUALITY_DESC = "Data calculated based on original SPICE kernels"
/* TIME DATA ELEMENTS */
SPACECRAFT_CLOCK_START_COUNT = "1/0071781657.57315"
SPACECRAFT_CLOCK_STOP_COUNT = "1/0071781811.14722"
START_TIME = 2005-08-10T19:21:32.562Z
STOP_TIME = 2005-08-10T19:23:10.540Z
/* ORBITAL DATA ELEMENTS */
ASCENDING_NODE_LONGITUDE = 185.96
MAXIMUM_RESOLUTION = 11.9
FOOTPRINT_POINT_LATITUDE = (-3.03672,-3.03697,-3.03733,-3.03752, -3.03766,-2.97224,-2.84214,-2.71201, -2.58187,-2.45168,-2.32146,-2.19124, -2.06099,-1.93072,-1.80041,-1.67009, -1.53976,-1.40938,-1.279,-1.14859, -1.01817,-0.887725,-0.692024,-0.49478, -0.364264,-0.233721,-0.0378826, 0.0926931,0.223281,0.353884,0.484501, 0.615132,0.811103,0.94175,1.07242, 1.20312,1.39916,1.59337,1.84513,2.09694 ,2.22287,2.34879,2.47471,2.66363, 2.78956,2.91551,3.04147,3.16742,3.29338 ,3.43596,3.43628,3.43656,3.4368,3.43697 ,3.43718,3.31111,3.18517,3.05922, 2.87029,2.74435,2.61843,2.4925,2.30362, 2.11472,1.92588,1.79998,1.54822,1.35224 ,1.22153,1.09085,0.96019,0.764195, 0.568234,0.437607,0.306999,0.176398, 0.0458242,-0.150048,-0.280607,-0.411142 ,-0.541642,-0.738904,-0.869355, -0.999808,-1.13025,-1.26066,-1.39104, -1.58659,-1.71694,-1.84726,-1.97755, -2.10783,-2.23808,-2.36832,-2.49852, -2.6287,-2.75886,-2.889,-3.01909, -3.03672)
FOOTPRINT_POINT_LONGITUDE = (194.649,194.482,194.198,194.03,193.871 ,193.728,193.729,193.729,193.73,193.73, 193.73,193.731,193.731,193.731,193.731, 193.732,193.732,193.732,193.732,193.732 ,193.733,193.733,193.733,193.734, 193.734,193.734,193.734,193.734,193.734 ,193.734,193.734,193.734,193.734, 193.734,193.734,193.734,193.734,193.733 ,193.733,193.733,193.732,193.732, 193.732,193.731,193.731,193.731,193.731 ,193.73,193.73,193.782,193.969,194.156, 194.342,194.475,194.69,194.777,194.778, 194.778,194.778,194.778,194.779,194.779 ,194.78,194.78,194.781,194.781,194.782, 194.783,194.783,194.784,194.785,194.785 ,194.786,194.787,194.788,194.788, 194.789,194.79,194.79,194.791,194.792, 194.793,194.794,194.795,194.795,194.796 ,194.797,194.798,194.799,194.8,194.801, 194.802,194.803,194.803,194.804,194.805 ,194.806,194.807,194.808,194.649)
ORBIT_NUMBER = 2018
ORBITAL_ECCENTRICITY = 0.572
ORBITAL_INCLINATION = 86.61
ORBITAL_SEMIMAJOR_AXIS = 8620.38
PERIAPSIS_ALTITUDE = 294.04
PERIAPSIS_ARGUMENT_ANGLE = 3.85
PERIAPSIS_TIME = 2005-08-10T19:23:17.000Z
SPACECRAFT_ORIENTATION = (0.0,1.0,0.0)
^MEX_ORIENTATION_DESC = "MEX_ORIENTATION_DESC.TXT"
SPACECRAFT_POINTING_MODE = ACROSSTRACK
^MEX_POINTING_DESC = "MEX_POINTING_DESC.TXT"
RIGHT_ASCENSION = -1e+32
DECLINATION = -1e+32
OFFSET_ANGLE = 0.25
SPACECRAFT_SOLAR_DISTANCE = 2.07267e+08
TARGET_NAME = MARS
/* CAMERA DATA ELEMENTS */
DETECTOR_TEMPERATURE = 18.1666
FOCAL_PLANE_TEMPERATURE = 10.0106
INST_CMPRS_NAME = "DISCRETE COSINE TRANSFORMATION (DCT)"
INST_CMPRS_RATIO = 5.76144
INST_CMPRS_QUALITY = 0
INST_CMPRS_QUANTZ_TBL_ID = 0
INSTRUMENT_TEMPERATURE = 12.4574
LENS_TEMPERATURE = 10.2145
MACROPIXEL_SIZE = 1
MISSING_FRAMES = 1
PIXEL_SUBSAMPLING_FLAG = N
SIGNAL_CHAIN_ID = 0
/* RADIOMETRIC DATA ELEMENTS */
BANDWIDTH = 177.0
CENTER_FILTER_WAVELENGTH = 677.5
RADIANCE_OFFSET = 5.71788
RADIANCE_SCALING_FACTOR = 0.0132797
REFLECTANCE_SCALING_FACTOR = 0.000303062
MEX:REFLECTANCE_OFFSET = 0.130491
/* IMAGE OBJECT DEFINITIONS */
OBJECT = IMAGE
  INTERCHANGE_FORMAT = BINARY
  LINES = 30700
  LINE_SAMPLES = 5432
  SAMPLE_TYPE = UNSIGNED_INTEGER
  SAMPLE_BITS = 8
  BANDS = 1
  BAND_STORAGE_TYPE = BAND_SEQUENTIAL
  MAXIMUM = 192
  MEAN = 136.516
  MINIMUM = 98
  STANDARD_DEVIATION = 6.48919
END_OBJECT = IMAGE
/* MAP OBJECT DEFINITIONS */
OBJECT = IMAGE_MAP_PROJECTION
  ^DATA_SET_MAP_PROJECTION_CATALOG= "DSMAP.CAT"
  A_AXIS_RADIUS = 3396.0
  B_AXIS_RADIUS = 3396.0
  C_AXIS_RADIUS = 3396.0
  CENTER_LATITUDE = 0.0
  CENTER_LONGITUDE = 194.0
  COORDINATE_SYSTEM_NAME = PLANETOGRAPHIC
  COORDINATE_SYSTEM_TYPE = "BODY-FIXED ROTATING"
  EASTERNMOST_LONGITUDE = 194.808
  FIRST_STANDARD_PARALLEL = "N/A"
  LINE_FIRST_PIXEL = 1
  LINE_LAST_PIXEL = 30700
  LINE_PROJECTION_OFFSET = 16296.0
  MAP_PROJECTION_ROTATION = 0.0
  MAP_PROJECTION_TYPE = SINUSOIDAL
  MAP_RESOLUTION = 4741.71043093333
  MAP_SCALE = 0.0125
  MAXIMUM_LATITUDE = 3.43718
  MINIMUM_LATITUDE = -3.03766
  POSITIVE_LONGITUDE_DIRECTION = EAST
  REFERENCE_LATITUDE = "N/A"
  REFERENCE_LONGITUDE = "N/A"
  SAMPLE_FIRST_PIXEL = 1
  SAMPLE_LAST_PIXEL = 5432
  SAMPLE_PROJECTION_OFFSET = 1515.0
  SECOND_STANDARD_PARALLEL = "N/A"
  WESTERNMOST_LONGITUDE = 193.728
END_OBJECT = IMAGE_MAP_PROJECTION
/* The JPEG2000 image data file associated with this label. */
OBJECT = COMPRESSED_FILE
  FILE_NAME = "H2018_0000_ND3.JP2"
  RECORD_TYPE = UNDEFINED
  FILE_RECORDS = UNK
  ENCODING_TYPE = "JP2"
  INTERCHANGE_FORMAT = BINARY
  UNCOMPRESSED_FILE_NAME = "H2018_0000_ND3.IMG"
  REQUIRED_STORAGE_BYTES = "166789560"
  ^DESCRIPTION = "JP2INFO.TXT"
END_OBJECT = COMPRESSED_FILE
END
