PDS_VERSION_ID = PDS3
/* FILE DATA ELEMENTS */
RECORD_TYPE = STREAM
/* POINTERS TO DATA OBJECTS */
^COMPRESSED_FILE = "H2018_0000_P13.JP2"
/* IDENTIFICATION DATA ELEMENTS */
DATA_SET_ID = "MEX-M-HRSC-5-REFDR-MAPPROJECTED-V3.0"
DATA_SET_NAME = "MARS EXPRESS HRSC MAP PROJECTED REFDR V3.0"
DETECTOR_ID = MEX_HRSC_P1
EVENT_TYPE = "MARS-REGIONAL-MAPPING-Vo-Im-At"
INSTRUMENT_HOST_ID = MEX
INSTRUMENT_HOST_NAME = "MARS EXPRESS"
INSTRUMENT_ID = HRSC
INSTRUMENT_NAME = "HIGH RESOLUTION STEREO CAMERA"
MISSION_NAME = "MARS EXPRESS"
MISSION_PHASE_NAME = MR_Phase_7
PROCESSING_LEVEL_ID = 3
PRODUCT_CREATION_TIME = 2016-03-10T10:27:20.000Z
PRODUCT_ID = "H2018_0000_P13.JP2"
RELEASE_ID = 0026
REVISION_ID = 0000
/* QUALITY DATA ELEMENTS */
DATA_QUALITY_ID = 1
DATA_QUALITY_DESC = "Data calculated based on original SPICE kernels"
/* TIME DATA ELEMENTS */
SPACECRAFT_CLOCK_START_COUNT = "1/0071781657.57315"
SPACECRAFT_CLOCK_STOP_COUNT = "1/0071781811.14722"
START_TIME = 2005-08-10T19:21:50.073Z
STOP_TIME = 2005-08-10T19:23:27.665Z
/* ORBITAL DATA ELEMENTS */
ASCENDING_NODE_LONGITUDE = 185.96
MAXIMUM_RESOLUTION = 24.5
FOOTPRINT_POINT_LATITUDE = (-3.02992,-3.03191,-3.03395,-3.03607, -3.03828,-3.04059,-3.05768,-2.92607, -2.79418,-2.66206,-2.46423,-2.33317, -2.20099,-2.06924,-1.93699,-1.80578, -1.67382,-1.54174,-1.41028,-1.2788, -1.14705,-1.01528,-0.883538,-0.751829, -0.619459,-0.487455,-0.355792,-0.224441 ,-0.0275256,0.104021,0.235598,0.367192, 0.494776,0.621447,0.748116,0.874796, 1.00225,1.12883,1.31855,1.57114,1.76121 ,1.88833,2.01448,2.26657,2.39303,2.5196 ,2.64566,2.77213,2.89833,3.02432, 3.15052,3.33974,3.42196,3.42399,3.42813 ,3.43141,3.43395,3.24467,2.99302, 2.80337,2.67694,2.48725,2.36087,2.23454 ,2.10848,1.98161,1.8552,1.72926,1.53939 ,1.41284,1.28688,1.09686,0.969812, 0.779876,0.653319,0.525472,0.330848, 0.198999,0.0676149,-0.0634371,-0.19622, -0.323546,-0.455011,-0.587488,-0.71968, -0.85144,-0.982237,-1.17977,-1.312, -1.4436,-1.57608,-1.708,-1.83974, -2.03746,-2.23534,-2.36719,-2.49841, -2.63019,-2.82781,-3.02992)
FOOTPRINT_POINT_LONGITUDE = (194.729,194.566,194.404,194.24,194.076 ,193.911,193.733,193.733,193.733, 193.733,193.734,193.734,193.734,193.734 ,193.735,193.734,193.735,193.735, 193.735,193.735,193.735,193.735,193.735 ,193.735,193.736,193.736,193.736, 193.736,193.735,193.735,193.735,193.735 ,193.735,193.735,193.735,193.735, 193.735,193.735,193.734,193.734,193.733 ,193.734,193.733,193.732,193.732, 193.732,193.731,193.731,193.73,193.73, 193.729,193.729,193.872,194.005,194.279 ,194.532,194.777,194.777,194.777, 194.778,194.778,194.779,194.779,194.779 ,194.779,194.78,194.78,194.78,194.781, 194.781,194.781,194.782,194.783,194.783 ,194.784,194.784,194.786,194.786, 194.787,194.787,194.788,194.788,194.788 ,194.789,194.79,194.79,194.791,194.792, 194.793,194.793,194.794,194.795,194.796 ,194.797,194.798,194.799,194.8,194.8, 194.802,194.729)
ORBIT_NUMBER = 2018
ORBITAL_ECCENTRICITY = 0.572
ORBITAL_INCLINATION = 86.61
ORBITAL_SEMIMAJOR_AXIS = 8620.38
PERIAPSIS_ALTITUDE = 294.04
PERIAPSIS_ARGUMENT_ANGLE = 3.85
PERIAPSIS_TIME = 2005-08-10T19:23:17.000Z
SPACECRAFT_ORIENTATION = (0.0,1.0,0.0)
^MEX_ORIENTATION_DESC = "MEX_ORIENTATION_DESC.TXT"
SPACECRAFT_POINTING_MODE = ACROSSTRACK
^MEX_POINTING_DESC = "MEX_POINTING_DESC.TXT"
RIGHT_ASCENSION = -1e+32
DECLINATION = -1e+32
OFFSET_ANGLE = 0.25
SPACECRAFT_SOLAR_DISTANCE = 2.07267e+08
TARGET_NAME = MARS
/* CAMERA DATA ELEMENTS */
DETECTOR_TEMPERATURE = 17.7588
FOCAL_PLANE_TEMPERATURE = 10.0106
INST_CMPRS_NAME = "DISCRETE COSINE TRANSFORMATION (DCT)"
INST_CMPRS_RATIO = 7.44831
INST_CMPRS_QUALITY = 0
INST_CMPRS_QUANTZ_TBL_ID = 0
INSTRUMENT_TEMPERATURE = 12.4574
LENS_TEMPERATURE = 10.2145
MACROPIXEL_SIZE = 2
MISSING_FRAMES = 0
PIXEL_SUBSAMPLING_FLAG = N
SIGNAL_CHAIN_ID = 3
/* RADIOMETRIC DATA ELEMENTS */
BANDWIDTH = 174.0
CENTER_FILTER_WAVELENGTH = 675.0
RADIANCE_OFFSET = 6.41898
RADIANCE_SCALING_FACTOR = 0.0121269
REFLECTANCE_SCALING_FACTOR = 0.000280218
MEX:REFLECTANCE_OFFSET = 0.148324
/* IMAGE OBJECT DEFINITIONS */
OBJECT = IMAGE
  INTERCHANGE_FORMAT = BINARY
  LINES = 15350
  LINE_SAMPLES = 2716
  SAMPLE_TYPE = UNSIGNED_INTEGER
  SAMPLE_BITS = 8
  BANDS = 1
  BAND_STORAGE_TYPE = BAND_SEQUENTIAL
  MAXIMUM = 210
  MEAN = 172.187
  MINIMUM = 135
  STANDARD_DEVIATION = 6.63783
END_OBJECT = IMAGE
/* MAP OBJECT DEFINITIONS */
OBJECT = IMAGE_MAP_PROJECTION
  ^DATA_SET_MAP_PROJECTION_CATALOG= "DSMAP.CAT"
  A_AXIS_RADIUS = 3396.0
  B_AXIS_RADIUS = 3396.0
  C_AXIS_RADIUS = 3396.0
  CENTER_LATITUDE = 0.0
  CENTER_LONGITUDE = 194.0
  COORDINATE_SYSTEM_NAME = PLANETOGRAPHIC
  COORDINATE_SYSTEM_TYPE = "BODY-FIXED ROTATING"
  EASTERNMOST_LONGITUDE = 194.802
  FIRST_STANDARD_PARALLEL = "N/A"
  LINE_FIRST_PIXEL = 1
  LINE_LAST_PIXEL = 15350
  LINE_PROJECTION_OFFSET = 8147.75
  MAP_PROJECTION_ROTATION = 0.0
  MAP_PROJECTION_TYPE = SINUSOIDAL
  MAP_RESOLUTION = 2370.85521546667
  MAP_SCALE = 0.025
  MAXIMUM_LATITUDE = 3.43395
  MINIMUM_LATITUDE = -3.05768
  POSITIVE_LONGITUDE_DIRECTION = EAST
  REFERENCE_LATITUDE = "N/A"
  REFERENCE_LONGITUDE = "N/A"
  SAMPLE_FIRST_PIXEL = 1
  SAMPLE_LAST_PIXEL = 2716
  SAMPLE_PROJECTION_OFFSET = 757.25
  SECOND_STANDARD_PARALLEL = "N/A"
  WESTERNMOST_LONGITUDE = 193.729
END_OBJECT = IMAGE_MAP_PROJECTION
/* The JPEG2000 image data file associated with this label. */
OBJECT = COMPRESSED_FILE
  FILE_NAME = "H2018_0000_P13.JP2"
  RECORD_TYPE = UNDEFINED
  FILE_RECORDS = UNK
  ENCODING_TYPE = "JP2"
  INTERCHANGE_FORMAT = BINARY
  UNCOMPRESSED_FILE_NAME = "H2018_0000_P13.IMG"
  REQUIRED_STORAGE_BYTES = "41712328"
  ^DESCRIPTION = "JP2INFO.TXT"
END_OBJECT = COMPRESSED_FILE
END
