PDS_VERSION_ID = PDS3
/* FILE DATA ELEMENTS */
RECORD_TYPE = STREAM
/* POINTERS TO DATA OBJECTS */
^COMPRESSED_FILE = "H2021_0001_IR3.JP2"
/* IDENTIFICATION DATA ELEMENTS */
DATA_SET_ID = "MEX-M-HRSC-5-REFDR-MAPPROJECTED-V3.0"
DATA_SET_NAME = "MARS EXPRESS HRSC MAP PROJECTED REFDR V3.0"
DETECTOR_ID = MEX_HRSC_IR
EVENT_TYPE = "MARS-REGIONAL-MAPPING-Vo"
INSTRUMENT_HOST_ID = MEX
INSTRUMENT_HOST_NAME = "MARS EXPRESS"
INSTRUMENT_ID = HRSC
INSTRUMENT_NAME = "HIGH RESOLUTION STEREO CAMERA"
MISSION_NAME = "MARS EXPRESS"
MISSION_PHASE_NAME = MR_Phase_7
PROCESSING_LEVEL_ID = 3
PRODUCT_CREATION_TIME = 2016-03-10T10:27:20.000Z
PRODUCT_ID = "H2021_0001_IR3.JP2"
RELEASE_ID = 0026
REVISION_ID = 0000
/* QUALITY DATA ELEMENTS */
DATA_QUALITY_ID = 1
DATA_QUALITY_DESC = "Data calculated based on original SPICE kernels"
/* TIME DATA ELEMENTS */
SPACECRAFT_CLOCK_START_COUNT = "1/0071854431.56204"
SPACECRAFT_CLOCK_STOP_COUNT = "1/0071854600.31083"
START_TIME = 2005-08-11T15:34:47.959Z
STOP_TIME = 2005-08-11T15:36:16.160Z
/* ORBITAL DATA ELEMENTS */
ASCENDING_NODE_LONGITUDE = 185.9
MAXIMUM_RESOLUTION = 101.5
FOOTPRINT_POINT_LATITUDE = (10.2682,10.2663,10.2644,10.2622, 10.2597,10.2571,10.2762,10.3843,10.5467 ,10.6549,10.817,10.9249,11.0327,11.1405 ,11.2483,11.3564,11.4641,11.5717, 11.6795,11.7876,11.9492,12.0569,12.1644 ,12.2723,12.3829,12.5498,12.6611, 12.7725,12.9399,13.0509,13.1617,13.2725 ,13.3832,13.5493,13.7145,13.8247, 13.9899,14.155,14.3197,14.4322,14.5457, 14.6591,14.8289,14.9985,15.1679,15.337, 15.506,15.6748,15.8435,15.9074,15.9092, 15.9116,15.913,15.9141,15.9148,15.9155, 15.8579,15.7456,15.5769,15.4079,15.2385 ,15.0688,14.899,14.729,14.5589,14.4455, 14.3327,14.2228,14.058,13.8931,13.7278, 13.6175,13.5071,13.3966,13.2862,13.1756 ,13.0094,12.8986,12.7876,12.6768, 12.5658,12.4547,12.3436,12.2339,12.1267 ,12.0194,11.912,11.7508,11.6433,11.4819 ,11.3743,11.2666,11.1589,11.0511, 10.9435,10.8356,10.6735,10.5655,10.4576 ,10.2682)
FOOTPRINT_POINT_LONGITUDE = (259.952,259.791,259.628,259.465, 259.302,259.138,258.918,258.917,258.916 ,258.915,258.913,258.912,258.911,258.91 ,258.909,258.908,258.907,258.906, 258.905,258.904,258.903,258.902,258.901 ,258.9,258.898,258.897,258.896,258.895, 258.894,258.893,258.892,258.89,258.889, 258.887,258.885,258.884,258.882,258.88, 258.878,258.876,258.875,258.873,258.871 ,258.868,258.866,258.863,258.86,258.858 ,258.855,258.92,259.056,259.247,259.393 ,259.561,259.762,259.895,260.047, 260.045,260.042,260.04,260.038,260.035, 260.033,260.031,260.029,260.027,260.026 ,260.025,260.023,260.021,260.019, 260.018,260.016,260.015,260.014,260.013 ,260.011,260.01,260.009,260.008,260.007 ,260.006,260.005,260.004,260.003, 260.002,260.001,260.0,259.999,259.998, 259.997,259.996,259.995,259.994,259.993 ,259.993,259.991,259.991,259.99, 259.952)
ORBIT_NUMBER = 2021
ORBITAL_ECCENTRICITY = 0.573
ORBITAL_INCLINATION = 86.6
ORBITAL_SEMIMAJOR_AXIS = 8638.2
PERIAPSIS_ALTITUDE = 293.07
PERIAPSIS_ARGUMENT_ANGLE = 3.32
PERIAPSIS_TIME = 2005-08-11T15:32:41.000Z
SPACECRAFT_ORIENTATION = (0.0,1.0,0.0)
^MEX_ORIENTATION_DESC = "MEX_ORIENTATION_DESC.TXT"
SPACECRAFT_POINTING_MODE = ACROSSTRACK
^MEX_POINTING_DESC = "MEX_POINTING_DESC.TXT"
RIGHT_ASCENSION = -1e+32
DECLINATION = -1e+32
OFFSET_ANGLE = 0.25
SPACECRAFT_SOLAR_DISTANCE = 2.07311e+08
TARGET_NAME = MARS
/* CAMERA DATA ELEMENTS */
DETECTOR_TEMPERATURE = 19.39
FOCAL_PLANE_TEMPERATURE = 9.3989
INST_CMPRS_NAME = "DISCRETE COSINE TRANSFORMATION (DCT)"
INST_CMPRS_RATIO = 7.87713
INST_CMPRS_QUALITY = 0
INST_CMPRS_QUANTZ_TBL_ID = 0
INSTRUMENT_TEMPERATURE = 13.273
LENS_TEMPERATURE = 9.6028
MACROPIXEL_SIZE = 8
MISSING_FRAMES = 0
PIXEL_SUBSAMPLING_FLAG = N
SIGNAL_CHAIN_ID = 2
/* RADIOMETRIC DATA ELEMENTS */
BANDWIDTH = 81.0
CENTER_FILTER_WAVELENGTH = 955.5
RADIANCE_OFFSET = 1.18209
RADIANCE_SCALING_FACTOR = 0.00463566
REFLECTANCE_SCALING_FACTOR = 0.000429819
MEX:REFLECTANCE_OFFSET = 0.109604
/* IMAGE OBJECT DEFINITIONS */
OBJECT = IMAGE
  INTERCHANGE_FORMAT = BINARY
  LINES = 4226
  LINE_SAMPLES = 739
  SAMPLE_TYPE = UNSIGNED_INTEGER
  SAMPLE_BITS = 8
  BANDS = 1
  BAND_STORAGE_TYPE = BAND_SEQUENTIAL
  MAXIMUM = 266
  MEAN = 196.734
  MINIMUM = 126
  STANDARD_DEVIATION = 13.1859
END_OBJECT = IMAGE
/* MAP OBJECT DEFINITIONS */
OBJECT = IMAGE_MAP_PROJECTION
  ^DATA_SET_MAP_PROJECTION_CATALOG= "DSMAP.CAT"
  A_AXIS_RADIUS = 3396.0
  B_AXIS_RADIUS = 3396.0
  C_AXIS_RADIUS = 3396.0
  CENTER_LATITUDE = 0.0
  CENTER_LONGITUDE = 259.0
  COORDINATE_SYSTEM_NAME = PLANETOGRAPHIC
  COORDINATE_SYSTEM_TYPE = "BODY-FIXED ROTATING"
  EASTERNMOST_LONGITUDE = 260.047
  FIRST_STANDARD_PARALLEL = "N/A"
  LINE_FIRST_PIXEL = 1
  LINE_LAST_PIXEL = 4226
  LINE_PROJECTION_OFFSET = 10307.6875
  MAP_PROJECTION_ROTATION = 0.0
  MAP_PROJECTION_TYPE = SINUSOIDAL
  MAP_RESOLUTION = 592.713803866667
  MAP_SCALE = 0.1
  MAXIMUM_LATITUDE = 15.9155
  MINIMUM_LATITUDE = 10.2571
  POSITIVE_LONGITUDE_DIRECTION = EAST
  REFERENCE_LATITUDE = "N/A"
  REFERENCE_LONGITUDE = "N/A"
  SAMPLE_FIRST_PIXEL = 1
  SAMPLE_LAST_PIXEL = 739
  SAMPLE_PROJECTION_OFFSET = 127.6875
  SECOND_STANDARD_PARALLEL = "N/A"
  WESTERNMOST_LONGITUDE = 258.855
END_OBJECT = IMAGE_MAP_PROJECTION
/* The JPEG2000 image data file associated with this label. */
OBJECT = COMPRESSED_FILE
  FILE_NAME = "H2021_0001_IR3.JP2"
  RECORD_TYPE = UNDEFINED
  FILE_RECORDS = UNK
  ENCODING_TYPE = "JP2"
  INTERCHANGE_FORMAT = BINARY
  UNCOMPRESSED_FILE_NAME = "H2021_0001_IR3.IMG"
  REQUIRED_STORAGE_BYTES = "3140750"
  ^DESCRIPTION = "JP2INFO.TXT"
END_OBJECT = COMPRESSED_FILE
END
