PDS_VERSION_ID = PDS3
/* FILE DATA ELEMENTS */
RECORD_TYPE = STREAM
/* POINTERS TO DATA OBJECTS */
^COMPRESSED_FILE = "H2024_0000_S13.JP2"
/* IDENTIFICATION DATA ELEMENTS */
DATA_SET_ID = "MEX-M-HRSC-5-REFDR-MAPPROJECTED-V3.0"
DATA_SET_NAME = "MARS EXPRESS HRSC MAP PROJECTED REFDR V3.0"
DETECTOR_ID = MEX_HRSC_S1
EVENT_TYPE = "MARS-LOCAL-COLOR-Im-Fl-Lc"
INSTRUMENT_HOST_ID = MEX
INSTRUMENT_HOST_NAME = "MARS EXPRESS"
INSTRUMENT_ID = HRSC
INSTRUMENT_NAME = "HIGH RESOLUTION STEREO CAMERA"
MISSION_NAME = "MARS EXPRESS"
MISSION_PHASE_NAME = MR_Phase_7
PROCESSING_LEVEL_ID = 3
PRODUCT_CREATION_TIME = 2016-03-10T10:27:20.000Z
PRODUCT_ID = "H2024_0000_S13.JP2"
RELEASE_ID = 0026
REVISION_ID = 0000
/* QUALITY DATA ELEMENTS */
DATA_QUALITY_ID = 1
DATA_QUALITY_DESC = "Data calculated based on original SPICE kernels"
/* TIME DATA ELEMENTS */
SPACECRAFT_CLOCK_START_COUNT = "1/0071926354.57156"
SPACECRAFT_CLOCK_STOP_COUNT = "1/0071926567.25147"
START_TIME = 2005-08-12T11:34:24.458Z
STOP_TIME = 2005-08-12T11:36:12.516Z
/* ORBITAL DATA ELEMENTS */
ASCENDING_NODE_LONGITUDE = 185.84
MAXIMUM_RESOLUTION = 33.9
FOOTPRINT_POINT_LATITUDE = (-28.7253,-28.7193,-28.713,-28.7066, -28.7,-28.6932,-28.7196,-28.5677, -28.4139,-28.2608,-28.1102,-27.8883, -27.7387,-27.5877,-27.3606,-27.2094, -27.0568,-26.9111,-26.7641,-26.5451, -26.3995,-26.2554,-26.0414,-25.8929, -25.7468,-25.6032,-25.4649,-25.3238, -25.18,-24.9656,-24.7547,-24.6133, -24.476,-24.2699,-24.0635,-23.8573, -23.7195,-23.5828,-23.3813,-23.247, -23.1125,-22.9776,-22.843,-22.7084, -22.5738,-22.3111,-21.9823,-21.7849, -21.6525,-21.6428,-21.6508,-21.6566, -21.6614,-21.6677,-21.6731,-21.8743, -22.0712,-22.3347,-22.533,-22.7343, -22.869,-23.0046,-23.208,-23.4101, -23.5439,-23.681,-23.8225,-23.9605, -24.0957,-24.233,-24.3677,-24.5049, -24.6434,-24.7835,-24.9304,-25.0749, -25.291,-25.4319,-25.572,-25.7884, -25.9328,-26.077,-26.2204,-26.3644, -26.5822,-26.7299,-26.8764,-27.0228, -27.1658,-27.3065,-27.4542,-27.604, -27.7551,-27.9045,-28.0531,-28.2026, -28.4318,-28.585,-28.738,-28.7253)
FOOTPRINT_POINT_LONGITUDE = (326.222,325.928,325.636,325.344, 325.055,324.766,324.539,324.544,324.549 ,324.555,324.56,324.567,324.572,324.577 ,324.585,324.59,324.595,324.6,324.604, 324.611,324.615,324.62,324.626,324.631, 324.635,324.639,324.643,324.647,324.651 ,324.657,324.663,324.667,324.671, 324.676,324.681,324.686,324.69,324.693, 324.698,324.701,324.705,324.708,324.711 ,324.714,324.717,324.723,324.731, 324.735,324.738,324.94,325.215,325.419, 325.654,325.904,326.112,326.256,326.26, 326.267,326.273,326.278,326.281,326.285 ,326.291,326.296,326.299,326.304, 326.309,326.313,326.315,326.318,326.32, 326.323,326.327,326.33,326.337,326.343, 326.351,326.355,326.358,326.364,326.368 ,326.372,326.376,326.38,326.386,326.39, 326.394,326.398,326.4,326.401,326.404, 326.408,326.413,326.417,326.42,326.424, 326.431,326.435,326.44,326.222)
ORBIT_NUMBER = 2024
ORBITAL_ECCENTRICITY = 0.572
ORBITAL_INCLINATION = 86.62
ORBITAL_SEMIMAJOR_AXIS = 8619.62
PERIAPSIS_ALTITUDE = 293.41
PERIAPSIS_ARGUMENT_ANGLE = 2.79
PERIAPSIS_TIME = 2005-08-12T11:41:53.000Z
SPACECRAFT_ORIENTATION = (0.0,1.0,0.0)
^MEX_ORIENTATION_DESC = "MEX_ORIENTATION_DESC.TXT"
SPACECRAFT_POINTING_MODE = ACROSSTRACK
^MEX_POINTING_DESC = "MEX_POINTING_DESC.TXT"
RIGHT_ASCENSION = -1e+32
DECLINATION = -1e+32
OFFSET_ANGLE = -0.45
SPACECRAFT_SOLAR_DISTANCE = 2.07357e+08
TARGET_NAME = MARS
/* CAMERA DATA ELEMENTS */
DETECTOR_TEMPERATURE = 17.9627
FOCAL_PLANE_TEMPERATURE = 10.0106
INST_CMPRS_NAME = "DISCRETE COSINE TRANSFORMATION (DCT)"
INST_CMPRS_RATIO = 10.2209
INST_CMPRS_QUALITY = 0
INST_CMPRS_QUANTZ_TBL_ID = 0
INSTRUMENT_TEMPERATURE = 11.6418
LENS_TEMPERATURE = 10.4184
MACROPIXEL_SIZE = 2
MISSING_FRAMES = 0
PIXEL_SUBSAMPLING_FLAG = N
SIGNAL_CHAIN_ID = 1
/* RADIOMETRIC DATA ELEMENTS */
BANDWIDTH = 180.0
CENTER_FILTER_WAVELENGTH = 677.0
RADIANCE_OFFSET = 5.0135
RADIANCE_SCALING_FACTOR = 0.0111975
REFLECTANCE_SCALING_FACTOR = 0.000251189
MEX:REFLECTANCE_OFFSET = 0.112466
/* IMAGE OBJECT DEFINITIONS */
OBJECT = IMAGE
  INTERCHANGE_FORMAT = BINARY
  LINES = 10422
  LINE_SAMPLES = 4100
  SAMPLE_TYPE = UNSIGNED_INTEGER
  SAMPLE_BITS = 8
  BANDS = 1
  BAND_STORAGE_TYPE = BAND_SEQUENTIAL
  MAXIMUM = 248
  MEAN = 184.508
  MINIMUM = 0
  STANDARD_DEVIATION = 9.56575
END_OBJECT = IMAGE
/* MAP OBJECT DEFINITIONS */
OBJECT = IMAGE_MAP_PROJECTION
  ^DATA_SET_MAP_PROJECTION_CATALOG= "DSMAP.CAT"
  A_AXIS_RADIUS = 3396.0
  B_AXIS_RADIUS = 3396.0
  C_AXIS_RADIUS = 3396.0
  CENTER_LATITUDE = 0.0
  CENTER_LONGITUDE = 325.0
  COORDINATE_SYSTEM_NAME = PLANETOGRAPHIC
  COORDINATE_SYSTEM_TYPE = "BODY-FIXED ROTATING"
  EASTERNMOST_LONGITUDE = 326.44
  FIRST_STANDARD_PARALLEL = "N/A"
  LINE_FIRST_PIXEL = 1
  LINE_LAST_PIXEL = 10422
  LINE_PROJECTION_OFFSET = -51364.75
  MAP_PROJECTION_ROTATION = 0.0
  MAP_PROJECTION_TYPE = SINUSOIDAL
  MAP_RESOLUTION = 2370.85521546667
  MAP_SCALE = 0.025
  MAXIMUM_LATITUDE = -21.6428
  MINIMUM_LATITUDE = -28.738
  POSITIVE_LONGITUDE_DIRECTION = EAST
  REFERENCE_LATITUDE = "N/A"
  REFERENCE_LONGITUDE = "N/A"
  SAMPLE_FIRST_PIXEL = 1
  SAMPLE_LAST_PIXEL = 4100
  SAMPLE_PROJECTION_OFFSET = 958.75
  SECOND_STANDARD_PARALLEL = "N/A"
  WESTERNMOST_LONGITUDE = 324.539
END_OBJECT = IMAGE_MAP_PROJECTION
/* The JPEG2000 image data file associated with this label. */
OBJECT = COMPRESSED_FILE
  FILE_NAME = "H2024_0000_S13.JP2"
  RECORD_TYPE = UNDEFINED
  FILE_RECORDS = UNK
  ENCODING_TYPE = "JP2"
  INTERCHANGE_FORMAT = BINARY
  UNCOMPRESSED_FILE_NAME = "H2024_0000_S13.IMG"
  REQUIRED_STORAGE_BYTES = "42754800"
  ^DESCRIPTION = "JP2INFO.TXT"
END_OBJECT = COMPRESSED_FILE
END
