PDS_VERSION_ID = PDS3
/* FILE DATA ELEMENTS */
RECORD_TYPE = STREAM
/* POINTERS TO DATA OBJECTS */
^COMPRESSED_FILE = "H2024_0001_BL3.JP2"
/* IDENTIFICATION DATA ELEMENTS */
DATA_SET_ID = "MEX-M-HRSC-5-REFDR-MAPPROJECTED-V3.0"
DATA_SET_NAME = "MARS EXPRESS HRSC MAP PROJECTED REFDR V3.0"
DETECTOR_ID = MEX_HRSC_BLUE
EVENT_TYPE = "MARS-REGIONAL-MAPPING-Fl-Lc-Mw"
INSTRUMENT_HOST_ID = MEX
INSTRUMENT_HOST_NAME = "MARS EXPRESS"
INSTRUMENT_ID = HRSC
INSTRUMENT_NAME = "HIGH RESOLUTION STEREO CAMERA"
MISSION_NAME = "MARS EXPRESS"
MISSION_PHASE_NAME = MR_Phase_7
PROCESSING_LEVEL_ID = 3
PRODUCT_CREATION_TIME = 2016-03-10T10:27:20.000Z
PRODUCT_ID = "H2024_0001_BL3.JP2"
RELEASE_ID = 0026
REVISION_ID = 0000
/* QUALITY DATA ELEMENTS */
DATA_QUALITY_ID = 1
DATA_QUALITY_DESC = "Data calculated based on original SPICE kernels"
/* TIME DATA ELEMENTS */
SPACECRAFT_CLOCK_START_COUNT = "1/0071926730.57168"
SPACECRAFT_CLOCK_STOP_COUNT = "1/0071927096.58126"
START_TIME = 2005-08-12T11:39:22.233Z
STOP_TIME = 2005-08-12T11:44:28.168Z
/* ORBITAL DATA ELEMENTS */
ASCENDING_NODE_LONGITUDE = 185.84
MAXIMUM_RESOLUTION = 94.8
FOOTPRINT_POINT_LATITUDE = (-6.83894,-6.84149,-6.83628,-6.42782, -6.01905,-5.60985,-5.20117,-4.79061, -4.37988,-3.97725,-3.59734,-3.00208, -2.60518,-2.21044,-1.81194,-1.41215, -1.01379,-0.415936,-0.016785,0.381416, 0.780252,1.372,1.75621,2.14121,2.71805, 3.10261,3.4849,3.87017,4.25546,4.83341, 5.22259,5.62257,6.02263,6.42388,6.82436 ,7.22415,7.62388,8.22338,8.62287, 9.22013,9.81885,10.2176,10.6213,11.0345 ,11.2412,11.6539,12.0663,12.2731, 12.8914,13.3035,13.3465,13.3475,13.348, 13.14,12.728,12.3161,11.9034,11.492, 11.0784,10.8715,10.6649,10.2601,9.86388 ,9.46501,9.06416,8.66645,8.26715, 7.86765,7.26845,6.8682,6.46779,5.86742, 5.46736,4.87679,4.4919,4.10655,3.72275, 3.3364,2.76213,2.37731,1.80011,1.41604, 0.826717,0.428627,0.0299138,-0.568069, -0.967292,-1.36533,-1.96218,-2.55861, -3.15537,-3.55451,-3.93346,-4.33569, -4.74604,-5.36126,-5.77081,-6.17854, -6.7886,-6.83894)
FOOTPRINT_POINT_LONGITUDE = (325.561,325.231,324.909,324.911, 324.913,324.915,324.917,324.918,324.919 ,324.921,324.922,324.923,324.924, 324.925,324.925,324.925,324.926,324.926 ,324.926,324.926,324.926,324.925, 324.925,324.924,324.923,324.923,324.922 ,324.921,324.92,324.918,324.917,324.916 ,324.914,324.913,324.911,324.909, 324.907,324.904,324.902,324.9,324.896, 324.894,324.891,324.889,324.888,324.885 ,324.882,324.881,324.876,324.873, 325.231,325.553,325.791,326.013,326.007 ,326.003,325.998,325.997,325.991, 325.988,325.985,325.982,325.986,325.984 ,325.975,325.977,325.975,325.973, 325.971,325.967,325.964,325.96,325.959, 325.957,325.957,325.956,325.959,325.955 ,325.965,325.966,325.966,325.969,325.97 ,325.974,325.976,325.979,325.978, 325.981,325.984,325.988,325.989,325.985 ,325.99,325.991,325.995,326.0,326.004, 326.012,326.027,325.561)
ORBIT_NUMBER = 2024
ORBITAL_ECCENTRICITY = 0.572
ORBITAL_INCLINATION = 86.62
ORBITAL_SEMIMAJOR_AXIS = 8619.62
PERIAPSIS_ALTITUDE = 293.41
PERIAPSIS_ARGUMENT_ANGLE = 2.79
PERIAPSIS_TIME = 2005-08-12T11:41:53.000Z
SPACECRAFT_ORIENTATION = (0.0,1.0,0.0)
^MEX_ORIENTATION_DESC = "MEX_ORIENTATION_DESC.TXT"
SPACECRAFT_POINTING_MODE = ACROSSTRACK
^MEX_POINTING_DESC = "MEX_POINTING_DESC.TXT"
RIGHT_ASCENSION = -1e+32
DECLINATION = -1e+32
OFFSET_ANGLE = -0.45
SPACECRAFT_SOLAR_DISTANCE = 2.07357e+08
TARGET_NAME = MARS
/* CAMERA DATA ELEMENTS */
DETECTOR_TEMPERATURE = 19.5939
FOCAL_PLANE_TEMPERATURE = 10.4184
INST_CMPRS_NAME = "DISCRETE COSINE TRANSFORMATION (DCT)"
INST_CMPRS_RATIO = 10.1669
INST_CMPRS_QUALITY = 0
INST_CMPRS_QUANTZ_TBL_ID = 0
INSTRUMENT_TEMPERATURE = 13.273
LENS_TEMPERATURE = 10.6223
MACROPIXEL_SIZE = 8
MISSING_FRAMES = 15
PIXEL_SUBSAMPLING_FLAG = N
SIGNAL_CHAIN_ID = 2
/* RADIOMETRIC DATA ELEMENTS */
BANDWIDTH = 76.0
CENTER_FILTER_WAVELENGTH = 444.0
RADIANCE_OFFSET = 0.709595
RADIANCE_SCALING_FACTOR = 0.00163806
REFLECTANCE_SCALING_FACTOR = 7.2364e-05
MEX:REFLECTANCE_OFFSET = 0.0313475
/* IMAGE OBJECT DEFINITIONS */
OBJECT = IMAGE
  INTERCHANGE_FORMAT = BINARY
  LINES = 11965
  LINE_SAMPLES = 724
  SAMPLE_TYPE = UNSIGNED_INTEGER
  SAMPLE_BITS = 8
  BANDS = 1
  BAND_STORAGE_TYPE = BAND_SEQUENTIAL
  MAXIMUM = 228
  MEAN = 181.071
  MINIMUM = 139
  STANDARD_DEVIATION = 11.1336
END_OBJECT = IMAGE
/* MAP OBJECT DEFINITIONS */
OBJECT = IMAGE_MAP_PROJECTION
  ^DATA_SET_MAP_PROJECTION_CATALOG= "DSMAP.CAT"
  A_AXIS_RADIUS = 3396.0
  B_AXIS_RADIUS = 3396.0
  C_AXIS_RADIUS = 3396.0
  CENTER_LATITUDE = 0.0
  CENTER_LONGITUDE = 325.0
  COORDINATE_SYSTEM_NAME = PLANETOGRAPHIC
  COORDINATE_SYSTEM_TYPE = "BODY-FIXED ROTATING"
  EASTERNMOST_LONGITUDE = 326.027
  FIRST_STANDARD_PARALLEL = "N/A"
  LINE_FIRST_PIXEL = 1
  LINE_LAST_PIXEL = 11965
  LINE_PROJECTION_OFFSET = 7906.6875
  MAP_PROJECTION_ROTATION = 0.0
  MAP_PROJECTION_TYPE = SINUSOIDAL
  MAP_RESOLUTION = 592.713803866667
  MAP_SCALE = 0.1
  MAXIMUM_LATITUDE = 13.348
  MINIMUM_LATITUDE = -6.84149
  POSITIVE_LONGITUDE_DIRECTION = EAST
  REFERENCE_LATITUDE = "N/A"
  REFERENCE_LONGITUDE = "N/A"
  SAMPLE_FIRST_PIXEL = 1
  SAMPLE_LAST_PIXEL = 724
  SAMPLE_PROJECTION_OFFSET = 84.8125
  SECOND_STANDARD_PARALLEL = "N/A"
  WESTERNMOST_LONGITUDE = 324.873
END_OBJECT = IMAGE_MAP_PROJECTION
/* The JPEG2000 image data file associated with this label. */
OBJECT = COMPRESSED_FILE
  FILE_NAME = "H2024_0001_BL3.JP2"
  RECORD_TYPE = UNDEFINED
  FILE_RECORDS = UNK
  ENCODING_TYPE = "JP2"
  INTERCHANGE_FORMAT = BINARY
  UNCOMPRESSED_FILE_NAME = "H2024_0001_BL3.IMG"
  REQUIRED_STORAGE_BYTES = "8680036"
  ^DESCRIPTION = "JP2INFO.TXT"
END_OBJECT = COMPRESSED_FILE
END
