PDS_VERSION_ID = PDS3
/* FILE DATA ELEMENTS */
RECORD_TYPE = STREAM
/* POINTERS TO DATA OBJECTS */
^COMPRESSED_FILE = "H2024_0001_P23.JP2"
/* IDENTIFICATION DATA ELEMENTS */
DATA_SET_ID = "MEX-M-HRSC-5-REFDR-MAPPROJECTED-V3.0"
DATA_SET_NAME = "MARS EXPRESS HRSC MAP PROJECTED REFDR V3.0"
DETECTOR_ID = MEX_HRSC_P2
EVENT_TYPE = "MARS-REGIONAL-MAPPING-Fl-Lc-Mw"
INSTRUMENT_HOST_ID = MEX
INSTRUMENT_HOST_NAME = "MARS EXPRESS"
INSTRUMENT_ID = HRSC
INSTRUMENT_NAME = "HIGH RESOLUTION STEREO CAMERA"
MISSION_NAME = "MARS EXPRESS"
MISSION_PHASE_NAME = MR_Phase_7
PROCESSING_LEVEL_ID = 3
PRODUCT_CREATION_TIME = 2016-03-10T10:27:20.000Z
PRODUCT_ID = "H2024_0001_P23.JP2"
RELEASE_ID = 0026
REVISION_ID = 0000
/* QUALITY DATA ELEMENTS */
DATA_QUALITY_ID = 1
DATA_QUALITY_DESC = "Data calculated based on original SPICE kernels"
/* TIME DATA ELEMENTS */
SPACECRAFT_CLOCK_START_COUNT = "1/0071926730.57168"
SPACECRAFT_CLOCK_STOP_COUNT = "1/0071927096.58126"
START_TIME = 2005-08-12T11:39:08.079Z
STOP_TIME = 2005-08-12T11:44:14.601Z
/* ORBITAL DATA ELEMENTS */
ASCENDING_NODE_LONGITUDE = 185.84
MAXIMUM_RESOLUTION = 48.8
FOOTPRINT_POINT_LATITUDE = (-6.84276,-6.85142,-6.85917,-6.84358, -6.42506,-6.00953,-5.6056,-5.20196, -4.59013,-4.18271,-3.77429,-3.36569, -2.96974,-2.6235,-2.23807,-1.83782, -1.43651,-1.03864,-0.642107,-0.241073, 0.154912,0.552871,0.950651,1.35179, 1.7512,2.14705,2.72317,3.10768,3.48404, 3.87122,4.25865,4.83972,5.42086,5.80861 ,6.20893,6.61515,7.0182,7.42111,7.82471 ,8.22803,8.63134,9.02909,9.63478,10.038 ,10.442,10.8447,11.2494,11.6633,12.0826 ,12.5006,12.9207,13.3509,13.3549, 13.3627,13.3689,12.9492,12.3227,12.1117 ,11.9017,11.4851,11.0772,10.6724, 10.2683,9.87384,9.46916,9.06026,8.6623, 8.05738,7.65397,7.25144,6.64363,6.23797 ,5.84071,5.45258,4.87079,4.48397, 4.09662,3.71459,3.32343,2.94811,2.3698, 1.98334,1.58462,0.986899,0.39124, -0.00716095,-0.40508,-0.803488,-1.40044 ,-1.99498,-2.58871,-2.93607,-3.34451, -3.95539,-4.56848,-5.17892,-5.58551, -6.19169,-6.60108,-6.84276)
FOOTPRINT_POINT_LONGITUDE = (325.86,325.52,325.185,324.891,324.893, 324.895,324.898,324.9,324.902,324.904, 324.905,324.907,324.908,324.909,324.911 ,324.911,324.912,324.912,324.913, 324.913,324.913,324.913,324.913,324.913 ,324.913,324.913,324.912,324.912, 324.912,324.911,324.91,324.909,324.907, 324.906,324.904,324.903,324.901,324.9, 324.898,324.896,324.894,324.893,324.89, 324.888,324.886,324.883,324.881,324.878 ,324.876,324.873,324.87,325.024,325.257 ,325.652,326.013,326.007,326.001, 325.998,325.995,325.993,325.988,325.984 ,325.98,325.985,325.982,325.975,325.977 ,325.974,325.972,325.971,325.966, 325.962,325.961,325.96,325.959,325.959, 325.958,325.962,325.958,325.968,325.969 ,325.97,325.972,325.975,325.98,325.981, 325.983,325.985,325.987,325.991,325.995 ,325.998,325.991,325.997,326.002, 326.007,326.011,326.022,326.034,325.86)
ORBIT_NUMBER = 2024
ORBITAL_ECCENTRICITY = 0.572
ORBITAL_INCLINATION = 86.62
ORBITAL_SEMIMAJOR_AXIS = 8619.62
PERIAPSIS_ALTITUDE = 293.41
PERIAPSIS_ARGUMENT_ANGLE = 2.79
PERIAPSIS_TIME = 2005-08-12T11:41:53.000Z
SPACECRAFT_ORIENTATION = (0.0,1.0,0.0)
^MEX_ORIENTATION_DESC = "MEX_ORIENTATION_DESC.TXT"
SPACECRAFT_POINTING_MODE = ACROSSTRACK
^MEX_POINTING_DESC = "MEX_POINTING_DESC.TXT"
RIGHT_ASCENSION = -1e+32
DECLINATION = -1e+32
OFFSET_ANGLE = -0.45
SPACECRAFT_SOLAR_DISTANCE = 2.07357e+08
TARGET_NAME = MARS
/* CAMERA DATA ELEMENTS */
DETECTOR_TEMPERATURE = 20.4095
FOCAL_PLANE_TEMPERATURE = 10.4184
INST_CMPRS_NAME = "DISCRETE COSINE TRANSFORMATION (DCT)"
INST_CMPRS_RATIO = 7.74924
INST_CMPRS_QUALITY = 0
INST_CMPRS_QUANTZ_TBL_ID = 0
INSTRUMENT_TEMPERATURE = 13.273
LENS_TEMPERATURE = 10.6223
MACROPIXEL_SIZE = 4
MISSING_FRAMES = 25
PIXEL_SUBSAMPLING_FLAG = N
SIGNAL_CHAIN_ID = 3
/* RADIOMETRIC DATA ELEMENTS */
BANDWIDTH = 177.0
CENTER_FILTER_WAVELENGTH = 676.5
RADIANCE_OFFSET = 4.34054
RADIANCE_SCALING_FACTOR = 0.0148791
REFLECTANCE_SCALING_FACTOR = 0.000339212
MEX:REFLECTANCE_OFFSET = 0.0989549
/* IMAGE OBJECT DEFINITIONS */
OBJECT = IMAGE
  INTERCHANGE_FORMAT = BINARY
  LINES = 23930
  LINE_SAMPLES = 1447
  SAMPLE_TYPE = UNSIGNED_INTEGER
  SAMPLE_BITS = 8
  BANDS = 1
  BAND_STORAGE_TYPE = BAND_SEQUENTIAL
  MAXIMUM = 271
  MEAN = 198.788
  MINIMUM = 140
  STANDARD_DEVIATION = 15.9907
END_OBJECT = IMAGE
/* MAP OBJECT DEFINITIONS */
OBJECT = IMAGE_MAP_PROJECTION
  ^DATA_SET_MAP_PROJECTION_CATALOG= "DSMAP.CAT"
  A_AXIS_RADIUS = 3396.0
  B_AXIS_RADIUS = 3396.0
  C_AXIS_RADIUS = 3396.0
  CENTER_LATITUDE = 0.0
  CENTER_LONGITUDE = 325.0
  COORDINATE_SYSTEM_NAME = PLANETOGRAPHIC
  COORDINATE_SYSTEM_TYPE = "BODY-FIXED ROTATING"
  EASTERNMOST_LONGITUDE = 326.034
  FIRST_STANDARD_PARALLEL = "N/A"
  LINE_FIRST_PIXEL = 1
  LINE_LAST_PIXEL = 23930
  LINE_PROJECTION_OFFSET = 15813.875
  MAP_PROJECTION_ROTATION = 0.0
  MAP_PROJECTION_TYPE = SINUSOIDAL
  MAP_RESOLUTION = 1185.42760773333
  MAP_SCALE = 0.05
  MAXIMUM_LATITUDE = 13.3689
  MINIMUM_LATITUDE = -6.85917
  POSITIVE_LONGITUDE_DIRECTION = EAST
  REFERENCE_LATITUDE = "N/A"
  REFERENCE_LONGITUDE = "N/A"
  SAMPLE_FIRST_PIXEL = 1
  SAMPLE_LAST_PIXEL = 1447
  SAMPLE_PROJECTION_OFFSET = 170.125
  SECOND_STANDARD_PARALLEL = "N/A"
  WESTERNMOST_LONGITUDE = 324.87
END_OBJECT = IMAGE_MAP_PROJECTION
/* The JPEG2000 image data file associated with this label. */
OBJECT = COMPRESSED_FILE
  FILE_NAME = "H2024_0001_P23.JP2"
  RECORD_TYPE = UNDEFINED
  FILE_RECORDS = UNK
  ENCODING_TYPE = "JP2"
  INTERCHANGE_FORMAT = BINARY
  UNCOMPRESSED_FILE_NAME = "H2024_0001_P23.IMG"
  REQUIRED_STORAGE_BYTES = "34645521"
  ^DESCRIPTION = "JP2INFO.TXT"
END_OBJECT = COMPRESSED_FILE
END
