PDS_VERSION_ID = PDS3
/* FILE DATA ELEMENTS */
RECORD_TYPE = STREAM
/* POINTERS TO DATA OBJECTS */
^COMPRESSED_FILE = "H2028_0000_ND3.JP2"
/* IDENTIFICATION DATA ELEMENTS */
DATA_SET_ID = "MEX-M-HRSC-5-REFDR-MAPPROJECTED-V3.0"
DATA_SET_NAME = "MARS EXPRESS HRSC MAP PROJECTED REFDR V3.0"
DETECTOR_ID = MEX_HRSC_NADIR
EVENT_TYPE = "MARS-REGIONAL-MAPPING-Te-La"
INSTRUMENT_HOST_ID = MEX
INSTRUMENT_HOST_NAME = "MARS EXPRESS"
INSTRUMENT_ID = HRSC
INSTRUMENT_NAME = "HIGH RESOLUTION STEREO CAMERA"
MISSION_NAME = "MARS EXPRESS"
MISSION_PHASE_NAME = MR_Phase_7
PROCESSING_LEVEL_ID = 3
PRODUCT_CREATION_TIME = 2016-03-10T10:27:20.000Z
PRODUCT_ID = "H2028_0000_ND3.JP2"
RELEASE_ID = 0026
REVISION_ID = 0000
/* QUALITY DATA ELEMENTS */
DATA_QUALITY_ID = 1
DATA_QUALITY_DESC = "Data calculated based on original SPICE kernels"
/* TIME DATA ELEMENTS */
SPACECRAFT_CLOCK_START_COUNT = "1/0072023349.57295"
SPACECRAFT_CLOCK_STOP_COUNT = "1/0072023602.47247"
START_TIME = 2005-08-13T14:29:51.902Z
STOP_TIME = 2005-08-13T14:33:01.913Z
/* ORBITAL DATA ELEMENTS */
ASCENDING_NODE_LONGITUDE = 185.75
MAXIMUM_RESOLUTION = 11.8
FOOTPRINT_POINT_LATITUDE = (-15.5927,-15.5929,-15.5922,-15.4617, -15.2023,-14.9427,-14.6829,-14.4228, -14.1624,-13.9018,-13.6409,-13.2486, -12.987,-12.5942,-12.3324,-11.9463, -11.6923,-11.4378,-11.0559,-10.8012, -10.5464,-10.1712,-9.92462,-9.67753, -9.43023,-9.18277,-8.93514,-8.68739, -8.43946,-8.19452,-7.9547,-7.71451, -7.47448,-7.23443,-6.99391,-6.75352, -6.39306,-6.15255,-5.91249,-5.55344, -5.32106,-5.08859,-4.85603,-4.62339, -4.39067,-4.15787,-3.92499,-3.69204, -3.45901,-3.21476,-3.2143,-3.21353, -3.44667,-3.67973,-3.9127,-4.14561, -4.37843,-4.61117,-4.84384,-5.07641, -5.30889,-5.54129,-5.90006,-6.14078, -6.38094,-6.74109,-7.10184,-7.34231, -7.58262,-7.82236,-8.062,-8.3026, -8.55103,-8.79896,-9.04671,-9.2943, -9.54175,-9.78906,-10.0362,-10.2831, -10.5348,-10.7897,-11.0441,-11.2984, -11.5529,-11.8073,-12.0614,-12.3199, -12.5824,-12.8441,-13.1058,-13.3674, -13.6288,-13.8903,-14.151,-14.4115, -14.6717,-14.9317,-15.1914,-15.5927)
FOOTPRINT_POINT_LONGITUDE = (292.461,292.167,291.617,291.298, 291.303,291.307,291.311,291.315,291.319 ,291.323,291.326,291.323,291.325, 291.328,291.335,291.333,291.338,291.339 ,291.343,291.348,291.354,291.362, 291.371,291.374,291.377,291.379,291.381 ,291.384,291.386,291.388,291.387, 291.382,291.382,291.384,291.38,291.38, 291.385,291.388,291.4,291.403,291.404, 291.404,291.405,291.406,291.406,291.407 ,291.408,291.408,291.409,291.521, 291.877,292.442,292.443,292.444,292.446 ,292.447,292.449,292.45,292.452,292.454 ,292.456,292.457,292.46,292.463,292.472 ,292.485,292.484,292.481,292.479, 292.485,292.489,292.488,292.485,292.488 ,292.491,292.494,292.496,292.499, 292.502,292.506,292.509,292.516,292.526 ,292.537,292.541,292.544,292.547, 292.549,292.547,292.554,292.558,292.56, 292.56,292.556,292.56,292.564,292.568, 292.572,292.576,292.461)
ORBIT_NUMBER = 2028
ORBITAL_ECCENTRICITY = 0.572
ORBITAL_INCLINATION = 86.61
ORBITAL_SEMIMAJOR_AXIS = 8627.21
PERIAPSIS_ALTITUDE = 292.62
PERIAPSIS_ARGUMENT_ANGLE = 2.09
PERIAPSIS_TIME = 2005-08-13T14:34:23.000Z
SPACECRAFT_ORIENTATION = (0.0,1.0,0.0)
^MEX_ORIENTATION_DESC = "MEX_ORIENTATION_DESC.TXT"
SPACECRAFT_POINTING_MODE = NADIR
^MEX_POINTING_DESC = "MEX_POINTING_DESC.TXT"
RIGHT_ASCENSION = -1e+32
DECLINATION = -1e+32
OFFSET_ANGLE = -1e+32
SPACECRAFT_SOLAR_DISTANCE = 2.0742e+08
TARGET_NAME = MARS
/* CAMERA DATA ELEMENTS */
DETECTOR_TEMPERATURE = 18.5744
FOCAL_PLANE_TEMPERATURE = 9.6028
INST_CMPRS_NAME = "DISCRETE COSINE TRANSFORMATION (DCT)"
INST_CMPRS_RATIO = 6.61133
INST_CMPRS_QUALITY = 0
INST_CMPRS_QUANTZ_TBL_ID = 0
INSTRUMENT_TEMPERATURE = 11.6418
LENS_TEMPERATURE = 10.2145
MACROPIXEL_SIZE = 1
MISSING_FRAMES = 0
PIXEL_SUBSAMPLING_FLAG = N
SIGNAL_CHAIN_ID = 0
/* RADIOMETRIC DATA ELEMENTS */
BANDWIDTH = 177.0
CENTER_FILTER_WAVELENGTH = 677.5
RADIANCE_OFFSET = 2.99778
RADIANCE_SCALING_FACTOR = 0.0364057
REFLECTANCE_SCALING_FACTOR = 0.00083206
MEX:REFLECTANCE_OFFSET = 0.068515
/* IMAGE OBJECT DEFINITIONS */
OBJECT = IMAGE
  INTERCHANGE_FORMAT = BINARY
  LINES = 58702
  LINE_SAMPLES = 6296
  SAMPLE_TYPE = UNSIGNED_INTEGER
  SAMPLE_BITS = 8
  BANDS = 1
  BAND_STORAGE_TYPE = BAND_SEQUENTIAL
  MAXIMUM = 282
  MEAN = 146.991
  MINIMUM = 56
  STANDARD_DEVIATION = 27.2146
END_OBJECT = IMAGE
/* MAP OBJECT DEFINITIONS */
OBJECT = IMAGE_MAP_PROJECTION
  ^DATA_SET_MAP_PROJECTION_CATALOG= "DSMAP.CAT"
  A_AXIS_RADIUS = 3396.0
  B_AXIS_RADIUS = 3396.0
  C_AXIS_RADIUS = 3396.0
  CENTER_LATITUDE = 0.0
  CENTER_LONGITUDE = 292.0
  COORDINATE_SYSTEM_NAME = PLANETOGRAPHIC
  COORDINATE_SYSTEM_TYPE = "BODY-FIXED ROTATING"
  EASTERNMOST_LONGITUDE = 292.576
  FIRST_STANDARD_PARALLEL = "N/A"
  LINE_FIRST_PIXEL = 1
  LINE_LAST_PIXEL = 58702
  LINE_PROJECTION_OFFSET = -15236.0
  MAP_PROJECTION_ROTATION = 0.0
  MAP_PROJECTION_TYPE = SINUSOIDAL
  MAP_RESOLUTION = 4741.71043093333
  MAP_SCALE = 0.0125
  MAXIMUM_LATITUDE = -3.21353
  MINIMUM_LATITUDE = -15.5929
  POSITIVE_LONGITUDE_DIRECTION = EAST
  REFERENCE_LATITUDE = "N/A"
  REFERENCE_LONGITUDE = "N/A"
  SAMPLE_FIRST_PIXEL = 1
  SAMPLE_LAST_PIXEL = 6296
  SAMPLE_PROJECTION_OFFSET = 3421.0
  SECOND_STANDARD_PARALLEL = "N/A"
  WESTERNMOST_LONGITUDE = 291.298
END_OBJECT = IMAGE_MAP_PROJECTION
/* The JPEG2000 image data file associated with this label. */
OBJECT = COMPRESSED_FILE
  FILE_NAME = "H2028_0000_ND3.JP2"
  RECORD_TYPE = UNDEFINED
  FILE_RECORDS = UNK
  ENCODING_TYPE = "JP2"
  INTERCHANGE_FORMAT = BINARY
  UNCOMPRESSED_FILE_NAME = "H2028_0000_ND3.IMG"
  REQUIRED_STORAGE_BYTES = "369619272"
  ^DESCRIPTION = "JP2INFO.TXT"
END_OBJECT = COMPRESSED_FILE
END
