PDS_VERSION_ID = PDS3
/* FILE DATA ELEMENTS */
RECORD_TYPE = STREAM
/* POINTERS TO DATA OBJECTS */
^COMPRESSED_FILE = "H2032_0000_BL3.JP2"
/* IDENTIFICATION DATA ELEMENTS */
DATA_SET_ID = "MEX-M-HRSC-5-REFDR-MAPPROJECTED-V3.0"
DATA_SET_NAME = "MARS EXPRESS HRSC MAP PROJECTED REFDR V3.0"
DETECTOR_ID = MEX_HRSC_BLUE
EVENT_TYPE = "MARS-REGIONAL-MAPPING-Vo-Te"
INSTRUMENT_HOST_ID = MEX
INSTRUMENT_HOST_NAME = "MARS EXPRESS"
INSTRUMENT_ID = HRSC
INSTRUMENT_NAME = "HIGH RESOLUTION STEREO CAMERA"
MISSION_NAME = "MARS EXPRESS"
MISSION_PHASE_NAME = MR_Phase_7
PROCESSING_LEVEL_ID = 3
PRODUCT_CREATION_TIME = 2016-03-10T10:27:20.000Z
PRODUCT_ID = "H2032_0000_BL3.JP2"
RELEASE_ID = 0026
REVISION_ID = 0000
/* QUALITY DATA ELEMENTS */
DATA_QUALITY_ID = 1
DATA_QUALITY_DESC = "Data calculated based on original SPICE kernels"
/* TIME DATA ELEMENTS */
SPACECRAFT_CLOCK_START_COUNT = "1/0072120000.57952"
SPACECRAFT_CLOCK_STOP_COUNT = "1/0072120363.09689"
START_TIME = 2005-08-14T17:20:42.884Z
STOP_TIME = 2005-08-14T17:25:37.827Z
/* ORBITAL DATA ELEMENTS */
ASCENDING_NODE_LONGITUDE = 185.66
MAXIMUM_RESOLUTION = 92.7
FOOTPRINT_POINT_LATITUDE = (-21.7877,-21.7834,-21.7773,-21.2066, -20.8241,-20.4406,-20.0566,-19.6716, -19.2858,-18.8992,-18.5118,-18.1239, -17.7351,-17.3455,-16.9551,-16.564, -16.1722,-15.7797,-15.3866,-14.9925, -14.5978,-14.2024,-13.8065,-13.41, -13.0129,-12.4213,-12.0357,-11.6495, -11.2625,-10.6852,-10.3099,-9.93399, -9.55768,-9.18097,-8.61831,-8.25394, -7.88918,-7.34166,-6.97389,-6.4266, -5.88207,-5.52792,-4.99616,-4.64132, -4.28631,-3.93095,-3.57543,-3.21977, -2.86161,-2.86264,-2.86432,-2.8668, -3.40055,-3.75642,-4.11209,-4.46744, -4.82209,-5.17643,-5.53134,-5.88254, -6.4262,-6.79527,-7.34483,-7.89286, -8.25799,-8.62258,-9.18541,-9.56232, -9.9387,-10.3147,-10.69,-11.2676, -11.6547,-12.0413,-12.4271,-12.8199, -13.2176,-13.6147,-14.0111,-14.4071, -14.8024,-15.1969,-15.5908,-15.9839, -16.3763,-16.7682,-17.1591,-17.5493, -17.9389,-18.3276,-18.7156,-19.1029, -19.4895,-19.8753,-20.2601,-20.6442, -21.0277,-21.4102,-21.792,-21.7877)
FOOTPRINT_POINT_LONGITUDE = (258.81,258.354,257.88,257.773,257.784, 257.795,257.806,257.817,257.827,257.837 ,257.846,257.856,257.865,257.874, 257.883,257.891,257.9,257.908,257.915, 257.922,257.929,257.936,257.943,257.949 ,257.955,257.964,257.97,257.975,257.98, 257.987,257.991,257.995,257.998,258.001 ,258.007,258.01,258.014,258.019,258.016 ,258.025,258.027,258.028,258.03,258.03, 258.031,258.031,258.032,258.032,258.165 ,258.44,258.797,259.036,259.039,259.041 ,259.043,259.045,259.047,259.05,259.052 ,259.056,259.06,259.062,259.066,259.071 ,259.074,259.078,259.083,259.087,259.09 ,259.094,259.098,259.104,259.109, 259.113,259.118,259.123,259.128,259.133 ,259.138,259.143,259.148,259.153, 259.159,259.164,259.17,259.176,259.182, 259.188,259.194,259.2,259.206,259.212, 259.219,259.225,259.232,259.239,259.245 ,259.252,259.259,258.81)
ORBIT_NUMBER = 2032
ORBITAL_ECCENTRICITY = 0.573
ORBITAL_INCLINATION = 86.61
ORBITAL_SEMIMAJOR_AXIS = 8638.51
PERIAPSIS_ALTITUDE = 292.03
PERIAPSIS_ARGUMENT_ANGLE = 1.36
PERIAPSIS_TIME = 2005-08-14T17:26:46.000Z
SPACECRAFT_ORIENTATION = (0.0,1.0,0.0)
^MEX_ORIENTATION_DESC = "MEX_ORIENTATION_DESC.TXT"
SPACECRAFT_POINTING_MODE = ACROSSTRACK
^MEX_POINTING_DESC = "MEX_POINTING_DESC.TXT"
RIGHT_ASCENSION = -1e+32
DECLINATION = -1e+32
OFFSET_ANGLE = 0.37
SPACECRAFT_SOLAR_DISTANCE = 2.07486e+08
TARGET_NAME = MARS
/* CAMERA DATA ELEMENTS */
DETECTOR_TEMPERATURE = 18.5744
FOCAL_PLANE_TEMPERATURE = 10.4184
INST_CMPRS_NAME = "DISCRETE COSINE TRANSFORMATION (DCT)"
INST_CMPRS_RATIO = 21.6891
INST_CMPRS_QUALITY = 0
INST_CMPRS_QUANTZ_TBL_ID = 0
INSTRUMENT_TEMPERATURE = 11.6418
LENS_TEMPERATURE = 10.6223
MACROPIXEL_SIZE = 8
MISSING_FRAMES = 0
PIXEL_SUBSAMPLING_FLAG = N
SIGNAL_CHAIN_ID = 2
/* RADIOMETRIC DATA ELEMENTS */
BANDWIDTH = 76.0
CENTER_FILTER_WAVELENGTH = 444.0
RADIANCE_OFFSET = 0.505227
RADIANCE_SCALING_FACTOR = 0.00310276
REFLECTANCE_SCALING_FACTOR = 0.00013724
MEX:REFLECTANCE_OFFSET = 0.0223469
/* IMAGE OBJECT DEFINITIONS */
OBJECT = IMAGE
  INTERCHANGE_FORMAT = BINARY
  LINES = 11226
  LINE_SAMPLES = 884
  SAMPLE_TYPE = UNSIGNED_INTEGER
  SAMPLE_BITS = 8
  BANDS = 1
  BAND_STORAGE_TYPE = BAND_SEQUENTIAL
  MAXIMUM = 139
  MEAN = 98.1517
  MINIMUM = 49
  STANDARD_DEVIATION = 5.77662
END_OBJECT = IMAGE
/* MAP OBJECT DEFINITIONS */
OBJECT = IMAGE_MAP_PROJECTION
  ^DATA_SET_MAP_PROJECTION_CATALOG= "DSMAP.CAT"
  A_AXIS_RADIUS = 3396.0
  B_AXIS_RADIUS = 3396.0
  C_AXIS_RADIUS = 3396.0
  CENTER_LATITUDE = 0.0
  CENTER_LONGITUDE = 259.0
  COORDINATE_SYSTEM_NAME = PLANETOGRAPHIC
  COORDINATE_SYSTEM_TYPE = "BODY-FIXED ROTATING"
  EASTERNMOST_LONGITUDE = 259.259
  FIRST_STANDARD_PARALLEL = "N/A"
  LINE_FIRST_PIXEL = 1
  LINE_LAST_PIXEL = 11226
  LINE_PROJECTION_OFFSET = -1690.6875
  MAP_PROJECTION_ROTATION = 0.0
  MAP_PROJECTION_TYPE = SINUSOIDAL
  MAP_RESOLUTION = 592.713803866667
  MAP_SCALE = 0.1
  MAXIMUM_LATITUDE = -2.86161
  MINIMUM_LATITUDE = -21.792
  POSITIVE_LONGITUDE_DIRECTION = EAST
  REFERENCE_LATITUDE = "N/A"
  REFERENCE_LONGITUDE = "N/A"
  SAMPLE_FIRST_PIXEL = 1
  SAMPLE_LAST_PIXEL = 884
  SAMPLE_PROJECTION_OFFSET = 732.9375
  SECOND_STANDARD_PARALLEL = "N/A"
  WESTERNMOST_LONGITUDE = 257.773
END_OBJECT = IMAGE_MAP_PROJECTION
/* The JPEG2000 image data file associated with this label. */
OBJECT = COMPRESSED_FILE
  FILE_NAME = "H2032_0000_BL3.JP2"
  RECORD_TYPE = UNDEFINED
  FILE_RECORDS = UNK
  ENCODING_TYPE = "JP2"
  INTERCHANGE_FORMAT = BINARY
  UNCOMPRESSED_FILE_NAME = "H2032_0000_BL3.IMG"
  REQUIRED_STORAGE_BYTES = "9941464"
  ^DESCRIPTION = "JP2INFO.TXT"
END_OBJECT = COMPRESSED_FILE
END
