PDS_VERSION_ID = PDS3
/* FILE DATA ELEMENTS */
RECORD_TYPE = STREAM
/* POINTERS TO DATA OBJECTS */
^COMPRESSED_FILE = "H2032_0001_BL3.JP2"
/* IDENTIFICATION DATA ELEMENTS */
DATA_SET_ID = "MEX-M-HRSC-5-REFDR-MAPPROJECTED-V3.0"
DATA_SET_NAME = "MARS EXPRESS HRSC MAP PROJECTED REFDR V3.0"
DETECTOR_ID = MEX_HRSC_BLUE
EVENT_TYPE = "MARS-REGIONAL-MAPPING-Vo"
INSTRUMENT_HOST_ID = MEX
INSTRUMENT_HOST_NAME = "MARS EXPRESS"
INSTRUMENT_ID = HRSC
INSTRUMENT_NAME = "HIGH RESOLUTION STEREO CAMERA"
MISSION_NAME = "MARS EXPRESS"
MISSION_PHASE_NAME = MR_Phase_7
PROCESSING_LEVEL_ID = 3
PRODUCT_CREATION_TIME = 2016-03-10T10:27:20.000Z
PRODUCT_ID = "H2032_0001_BL3.JP2"
RELEASE_ID = 0026
REVISION_ID = 0000
/* QUALITY DATA ELEMENTS */
DATA_QUALITY_ID = 1
DATA_QUALITY_DESC = "Data calculated based on original SPICE kernels"
/* TIME DATA ELEMENTS */
SPACECRAFT_CLOCK_START_COUNT = "1/0072120490.57153"
SPACECRAFT_CLOCK_STOP_COUNT = "1/0072120680.15822"
START_TIME = 2005-08-14T17:28:40.030Z
STOP_TIME = 2005-08-14T17:30:47.246Z
/* ORBITAL DATA ELEMENTS */
ASCENDING_NODE_LONGITUDE = 185.66
MAXIMUM_RESOLUTION = 95.9
FOOTPRINT_POINT_LATITUDE = (9.20777,9.2092,9.21042,9.21096,9.44083 ,9.75077,9.9097,10.0699,10.23,10.3905, 10.5512,10.7117,10.8721,11.0322,11.1926 ,11.3532,11.5941,11.7544,11.9147, 12.0752,12.316,12.4765,12.7256,12.8916, 13.1406,13.3893,13.5551,13.7207,13.8865 ,14.0522,14.2177,14.3833,14.5489, 14.7181,14.8891,15.06,15.3164,15.4872, 15.6579,15.8285,15.9991,16.1696,16.34, 16.5137,16.6898,16.8656,17.0412,17.2168 ,17.3923,17.5522,17.5517,17.551,17.5497 ,17.5488,17.547,17.2817,17.1062,16.9306 ,16.7548,16.5791,16.4033,16.233,16.0626 ,15.8921,15.6363,15.4657,15.2096, 15.0389,14.8681,14.6972,14.5287,14.3633 ,14.198,14.0326,13.8672,13.7017,13.5362 ,13.3705,13.2049,13.0393,12.7908, 12.6251,12.4601,12.3,12.0598,11.8995, 11.7391,11.5787,11.4181,11.2576,11.097, 10.9363,10.7756,10.615,10.4543,10.2131, 10.0523,9.73241,9.42187,9.20777)
FOOTPRINT_POINT_LONGITUDE = (259.032,258.715,258.395,258.234, 257.977,257.976,257.976,257.976,257.977 ,257.976,257.975,257.974,257.973, 257.973,257.972,257.97,257.968,257.966, 257.965,257.963,257.959,257.957,257.953 ,257.95,257.947,257.943,257.941,257.939 ,257.936,257.933,257.931,257.928, 257.925,257.922,257.919,257.917,257.912 ,257.909,257.906,257.903,257.9,257.897, 257.894,257.891,257.887,257.884,257.881 ,257.878,257.875,257.872,258.071,258.27 ,258.55,258.735,259.024,259.108,259.105 ,259.102,259.1,259.097,259.094,259.092, 259.09,259.087,259.084,259.082,259.079, 259.076,259.074,259.072,259.071,259.069 ,259.067,259.065,259.063,259.062,259.06 ,259.059,259.057,259.056,259.053, 259.052,259.051,259.049,259.048,259.046 ,259.045,259.044,259.043,259.042, 259.041,259.039,259.038,259.037,259.036 ,259.035,259.034,259.032,259.031, 259.032)
ORBIT_NUMBER = 2032
ORBITAL_ECCENTRICITY = 0.573
ORBITAL_INCLINATION = 86.61
ORBITAL_SEMIMAJOR_AXIS = 8638.51
PERIAPSIS_ALTITUDE = 292.03
PERIAPSIS_ARGUMENT_ANGLE = 1.36
PERIAPSIS_TIME = 2005-08-14T17:26:46.000Z
SPACECRAFT_ORIENTATION = (0.0,1.0,0.0)
^MEX_ORIENTATION_DESC = "MEX_ORIENTATION_DESC.TXT"
SPACECRAFT_POINTING_MODE = ACROSSTRACK
^MEX_POINTING_DESC = "MEX_POINTING_DESC.TXT"
RIGHT_ASCENSION = -1e+32
DECLINATION = -1e+32
OFFSET_ANGLE = 0.37
SPACECRAFT_SOLAR_DISTANCE = 2.07486e+08
TARGET_NAME = MARS
/* CAMERA DATA ELEMENTS */
DETECTOR_TEMPERATURE = 20.8173
FOCAL_PLANE_TEMPERATURE = 8.9911
INST_CMPRS_NAME = "DISCRETE COSINE TRANSFORMATION (DCT)"
INST_CMPRS_RATIO = 8.43454
INST_CMPRS_QUALITY = 0
INST_CMPRS_QUANTZ_TBL_ID = 0
INSTRUMENT_TEMPERATURE = 13.4769
LENS_TEMPERATURE = 11.0301
MACROPIXEL_SIZE = 8
MISSING_FRAMES = 0
PIXEL_SUBSAMPLING_FLAG = N
SIGNAL_CHAIN_ID = 2
/* RADIOMETRIC DATA ELEMENTS */
BANDWIDTH = 76.0
CENTER_FILTER_WAVELENGTH = 444.0
RADIANCE_OFFSET = 0.475502
RADIANCE_SCALING_FACTOR = 0.00214165
REFLECTANCE_SCALING_FACTOR = 9.47288e-05
MEX:REFLECTANCE_OFFSET = 0.0210322
/* IMAGE OBJECT DEFINITIONS */
OBJECT = IMAGE
  INTERCHANGE_FORMAT = BINARY
  LINES = 4948
  LINE_SAMPLES = 771
  SAMPLE_TYPE = UNSIGNED_INTEGER
  SAMPLE_BITS = 8
  BANDS = 1
  BAND_STORAGE_TYPE = BAND_SEQUENTIAL
  MAXIMUM = 223
  MEAN = 160.292
  MINIMUM = 99
  STANDARD_DEVIATION = 9.04505
END_OBJECT = IMAGE
/* MAP OBJECT DEFINITIONS */
OBJECT = IMAGE_MAP_PROJECTION
  ^DATA_SET_MAP_PROJECTION_CATALOG= "DSMAP.CAT"
  A_AXIS_RADIUS = 3396.0
  B_AXIS_RADIUS = 3396.0
  C_AXIS_RADIUS = 3396.0
  CENTER_LATITUDE = 0.0
  CENTER_LONGITUDE = 258.0
  COORDINATE_SYSTEM_NAME = PLANETOGRAPHIC
  COORDINATE_SYSTEM_TYPE = "BODY-FIXED ROTATING"
  EASTERNMOST_LONGITUDE = 259.108
  FIRST_STANDARD_PARALLEL = "N/A"
  LINE_FIRST_PIXEL = 1
  LINE_LAST_PIXEL = 4948
  LINE_PROJECTION_OFFSET = 10403.6875
  MAP_PROJECTION_ROTATION = 0.0
  MAP_PROJECTION_TYPE = SINUSOIDAL
  MAP_RESOLUTION = 592.713803866667
  MAP_SCALE = 0.1
  MAXIMUM_LATITUDE = 17.5522
  MINIMUM_LATITUDE = 9.20777
  POSITIVE_LONGITUDE_DIRECTION = EAST
  REFERENCE_LATITUDE = "N/A"
  REFERENCE_LONGITUDE = "N/A"
  SAMPLE_FIRST_PIXEL = 1
  SAMPLE_LAST_PIXEL = 771
  SAMPLE_PROJECTION_OFFSET = 128.6875
  SECOND_STANDARD_PARALLEL = "N/A"
  WESTERNMOST_LONGITUDE = 257.872
END_OBJECT = IMAGE_MAP_PROJECTION
/* The JPEG2000 image data file associated with this label. */
OBJECT = COMPRESSED_FILE
  FILE_NAME = "H2032_0001_BL3.JP2"
  RECORD_TYPE = UNDEFINED
  FILE_RECORDS = UNK
  ENCODING_TYPE = "JP2"
  INTERCHANGE_FORMAT = BINARY
  UNCOMPRESSED_FILE_NAME = "H2032_0001_BL3.IMG"
  REQUIRED_STORAGE_BYTES = "3832641"
  ^DESCRIPTION = "JP2INFO.TXT"
END_OBJECT = COMPRESSED_FILE
END
