PDS_VERSION_ID = PDS3
/* FILE DATA ELEMENTS */
RECORD_TYPE = STREAM
/* POINTERS TO DATA OBJECTS */
^COMPRESSED_FILE = "H2035_0000_BL3.JP2"
/* IDENTIFICATION DATA ELEMENTS */
DATA_SET_ID = "MEX-M-HRSC-5-REFDR-MAPPROJECTED-V3.0"
DATA_SET_NAME = "MARS EXPRESS HRSC MAP PROJECTED REFDR V3.0"
DETECTOR_ID = MEX_HRSC_BLUE
EVENT_TYPE = "MARS-REGIONAL-MAPPING-Im-Fl-La"
INSTRUMENT_HOST_ID = MEX
INSTRUMENT_HOST_NAME = "MARS EXPRESS"
INSTRUMENT_ID = HRSC
INSTRUMENT_NAME = "HIGH RESOLUTION STEREO CAMERA"
MISSION_NAME = "MARS EXPRESS"
MISSION_PHASE_NAME = MR_Phase_7
PROCESSING_LEVEL_ID = 3
PRODUCT_CREATION_TIME = 2016-03-10T10:27:20.000Z
PRODUCT_ID = "H2035_0000_BL3.JP2"
RELEASE_ID = 0026
REVISION_ID = 0000
/* QUALITY DATA ELEMENTS */
DATA_QUALITY_ID = 1
DATA_QUALITY_DESC = "Data calculated based on original SPICE kernels"
/* TIME DATA ELEMENTS */
SPACECRAFT_CLOCK_START_COUNT = "1/0072192809.57327"
SPACECRAFT_CLOCK_STOP_COUNT = "1/0072193198.53542"
START_TIME = 2005-08-15T13:34:00.189Z
STOP_TIME = 2005-08-15T13:41:19.818Z
/* ORBITAL DATA ELEMENTS */
ASCENDING_NODE_LONGITUDE = 185.61
MAXIMUM_RESOLUTION = 47.3
FOOTPRINT_POINT_LATITUDE = (-6.65299,-6.6529,-6.08475,-5.52368, -4.96154,-4.12086,-3.55859,-2.99225, -2.43056,-1.88667,-1.34253,-0.79685, -0.2521,0.567665,1.38527,1.93073, 2.47385,3.01987,3.5679,4.11342,4.65897, 5.20467,5.77024,6.33603,6.90217,7.46756 ,8.31535,8.87999,9.73802,10.3226, 10.9066,11.4899,12.0729,12.6756,13.2775 ,13.878,14.489,14.7994,15.1099,15.7295, 16.3477,16.9649,17.581,18.1958,18.8094, 19.4217,20.0328,20.6424,21.2504,21.8573 ,22.2006,22.1988,22.1969,22.1934, 21.5881,20.9812,20.3729,19.7632,19.152, 18.5396,17.9258,17.3108,16.3859,15.768, 15.4582,15.1484,14.5292,13.9167,13.3152 ,12.713,11.8176,11.2351,10.6515,9.7762, 9.19963,8.63543,7.78777,7.22249,6.657, 6.091,5.52404,4.9659,4.42031,3.60322, 2.51323,1.96805,1.4229,0.876865,0.33239 ,-0.212911,-1.03224,-1.8496,-2.67406, -3.51617,-4.07967,-4.92419,-5.48579, -6.04715,-6.60797,-6.65299)
FOOTPRINT_POINT_LONGITUDE = (324.111,323.792,323.572,323.575, 323.577,323.585,323.588,323.585,323.588 ,323.589,323.588,323.586,323.585,323.58 ,323.579,323.577,323.579,323.576,323.57 ,323.567,323.565,323.561,323.558, 323.555,323.55,323.547,323.54,323.536, 323.527,323.522,323.516,323.51,323.504, 323.497,323.491,323.485,323.478,323.473 ,323.469,323.46,323.452,323.443,323.434 ,323.425,323.415,323.405,323.395, 323.385,323.375,323.365,323.618,324.111 ,324.452,324.826,324.81,324.796,324.782 ,324.768,324.755,324.743,324.732, 324.721,324.705,324.696,324.69,324.686, 324.678,324.67,324.662,324.655,324.646, 324.641,324.636,324.632,324.628,324.625 ,324.62,324.618,324.616,324.614,324.612 ,324.609,324.608,324.609,324.611, 324.612,324.613,324.613,324.616,324.617 ,324.617,324.619,324.622,324.633, 324.637,324.642,324.647,324.652,324.656 ,324.111)
ORBIT_NUMBER = 2035
ORBITAL_ECCENTRICITY = 0.572
ORBITAL_INCLINATION = 86.62
ORBITAL_SEMIMAJOR_AXIS = 8619.82
PERIAPSIS_ALTITUDE = 292.53
PERIAPSIS_ARGUMENT_ANGLE = 0.83
PERIAPSIS_TIME = 2005-08-15T13:35:59.000Z
SPACECRAFT_ORIENTATION = (0.0,1.0,0.0)
^MEX_ORIENTATION_DESC = "MEX_ORIENTATION_DESC.TXT"
SPACECRAFT_POINTING_MODE = ACROSSTRACK
^MEX_POINTING_DESC = "MEX_POINTING_DESC.TXT"
RIGHT_ASCENSION = -1e+32
DECLINATION = -1e+32
OFFSET_ANGLE = 0.05
SPACECRAFT_SOLAR_DISTANCE = 2.07537e+08
TARGET_NAME = MARS
/* CAMERA DATA ELEMENTS */
DETECTOR_TEMPERATURE = 18.3705
FOCAL_PLANE_TEMPERATURE = 9.3989
INST_CMPRS_NAME = "DISCRETE COSINE TRANSFORMATION (DCT)"
INST_CMPRS_RATIO = 4.66453
INST_CMPRS_QUALITY = 0
INST_CMPRS_QUANTZ_TBL_ID = 0
INSTRUMENT_TEMPERATURE = 11.4379
LENS_TEMPERATURE = 9.6028
MACROPIXEL_SIZE = 4
MISSING_FRAMES = 0
PIXEL_SUBSAMPLING_FLAG = N
SIGNAL_CHAIN_ID = 2
/* RADIOMETRIC DATA ELEMENTS */
BANDWIDTH = 76.0
CENTER_FILTER_WAVELENGTH = 444.0
RADIANCE_OFFSET = 0.615149
RADIANCE_SCALING_FACTOR = 0.00205145
REFLECTANCE_SCALING_FACTOR = 9.07831e-05
MEX:REFLECTANCE_OFFSET = 0.0272223
/* IMAGE OBJECT DEFINITIONS */
OBJECT = IMAGE
  INTERCHANGE_FORMAT = BINARY
  LINES = 34190
  LINE_SAMPLES = 1697
  SAMPLE_TYPE = UNSIGNED_INTEGER
  SAMPLE_BITS = 8
  BANDS = 1
  BAND_STORAGE_TYPE = BAND_SEQUENTIAL
  MAXIMUM = 244
  MEAN = 184.437
  MINIMUM = 120
  STANDARD_DEVIATION = 18.7694
END_OBJECT = IMAGE
/* MAP OBJECT DEFINITIONS */
OBJECT = IMAGE_MAP_PROJECTION
  ^DATA_SET_MAP_PROJECTION_CATALOG= "DSMAP.CAT"
  A_AXIS_RADIUS = 3396.0
  B_AXIS_RADIUS = 3396.0
  C_AXIS_RADIUS = 3396.0
  CENTER_LATITUDE = 0.0
  CENTER_LONGITUDE = 324.0
  COORDINATE_SYSTEM_NAME = PLANETOGRAPHIC
  COORDINATE_SYSTEM_TYPE = "BODY-FIXED ROTATING"
  EASTERNMOST_LONGITUDE = 324.826
  FIRST_STANDARD_PARALLEL = "N/A"
  LINE_FIRST_PIXEL = 1
  LINE_LAST_PIXEL = 34190
  LINE_PROJECTION_OFFSET = 26303.375
  MAP_PROJECTION_ROTATION = 0.0
  MAP_PROJECTION_TYPE = SINUSOIDAL
  MAP_RESOLUTION = 1185.42760773333
  MAP_SCALE = 0.05
  MAXIMUM_LATITUDE = 22.2006
  MINIMUM_LATITUDE = -6.65299
  POSITIVE_LONGITUDE_DIRECTION = EAST
  REFERENCE_LATITUDE = "N/A"
  REFERENCE_LONGITUDE = "N/A"
  SAMPLE_FIRST_PIXEL = 1
  SAMPLE_LAST_PIXEL = 1697
  SAMPLE_PROJECTION_OFFSET = 754.375
  SECOND_STANDARD_PARALLEL = "N/A"
  WESTERNMOST_LONGITUDE = 323.365
END_OBJECT = IMAGE_MAP_PROJECTION
/* The JPEG2000 image data file associated with this label. */
OBJECT = COMPRESSED_FILE
  FILE_NAME = "H2035_0000_BL3.JP2"
  RECORD_TYPE = UNDEFINED
  FILE_RECORDS = UNK
  ENCODING_TYPE = "JP2"
  INTERCHANGE_FORMAT = BINARY
  UNCOMPRESSED_FILE_NAME = "H2035_0000_BL3.IMG"
  REQUIRED_STORAGE_BYTES = "58040794"
  ^DESCRIPTION = "JP2INFO.TXT"
END_OBJECT = COMPRESSED_FILE
END
