PDS_VERSION_ID = PDS3
/* FILE DATA ELEMENTS */
RECORD_TYPE = STREAM
/* POINTERS TO DATA OBJECTS */
^COMPRESSED_FILE = "H2035_0000_P23.JP2"
/* IDENTIFICATION DATA ELEMENTS */
DATA_SET_ID = "MEX-M-HRSC-5-REFDR-MAPPROJECTED-V3.0"
DATA_SET_NAME = "MARS EXPRESS HRSC MAP PROJECTED REFDR V3.0"
DETECTOR_ID = MEX_HRSC_P2
EVENT_TYPE = "MARS-REGIONAL-MAPPING-Im-Fl-La"
INSTRUMENT_HOST_ID = MEX
INSTRUMENT_HOST_NAME = "MARS EXPRESS"
INSTRUMENT_ID = HRSC
INSTRUMENT_NAME = "HIGH RESOLUTION STEREO CAMERA"
MISSION_NAME = "MARS EXPRESS"
MISSION_PHASE_NAME = MR_Phase_7
PROCESSING_LEVEL_ID = 3
PRODUCT_CREATION_TIME = 2016-03-10T10:27:20.000Z
PRODUCT_ID = "H2035_0000_P23.JP2"
RELEASE_ID = 0026
REVISION_ID = 0000
/* QUALITY DATA ELEMENTS */
DATA_QUALITY_ID = 1
DATA_QUALITY_DESC = "Data calculated based on original SPICE kernels"
/* TIME DATA ELEMENTS */
SPACECRAFT_CLOCK_START_COUNT = "1/0072192809.57327"
SPACECRAFT_CLOCK_STOP_COUNT = "1/0072193198.53542"
START_TIME = 2005-08-15T13:33:46.713Z
STOP_TIME = 2005-08-15T13:41:03.024Z
/* ORBITAL DATA ELEMENTS */
ASCENDING_NODE_LONGITUDE = 185.61
MAXIMUM_RESOLUTION = 48.7
FOOTPRINT_POINT_LATITUDE = (-6.65814,-6.65779,-6.63365,-6.06243, -5.49934,-4.94659,-4.13058,-3.57553, -3.01129,-2.18007,-1.62123,-1.08222, -0.271483,0.552345,1.36106,1.90348, 2.43779,2.9812,3.53482,4.07863,4.62303, 5.43956,5.98403,6.54615,7.11249,8.24613 ,9.09587,9.6635,10.2302,10.8148,11.402, 11.9898,12.5768,13.1698,14.0775,14.6848 ,15.3001,15.6139,15.9277,16.2411, 16.5543,17.1805,17.8064,18.4315,19.0554 ,19.9904,20.6126,21.5432,22.1639, 22.2176,22.2154,22.2132,21.9012,21.2816 ,20.661,20.0396,19.4172,18.7939,18.1697 ,17.5449,16.9194,16.6062,16.292,15.6661 ,15.0394,14.4349,13.8254,12.9154, 12.3274,11.7398,11.1542,10.5655,9.98848 ,9.14483,8.57915,8.01203,7.16216, 6.59621,6.03139,5.48318,4.66136,4.11584 ,3.5771,2.76678,1.95266,1.412,0.867805, 0.329228,-0.212926,-0.761561,-1.30289, -2.13089,-2.68809,-3.51102,-4.06685, -4.62418,-5.17542,-5.72813,-6.29861, -6.65814)
FOOTPRINT_POINT_LONGITUDE = (324.362,323.947,323.559,323.562, 323.565,323.568,323.578,323.58,323.577, 323.581,323.581,323.582,323.581,323.574 ,323.574,323.572,323.575,323.573, 323.566,323.564,323.561,323.557,323.554 ,323.551,323.547,323.539,323.533, 323.527,323.523,323.517,323.512,323.506 ,323.5,323.493,323.485,323.478,323.469, 323.465,323.461,323.457,323.453,323.444 ,323.435,323.426,323.417,323.403, 323.393,323.379,323.368,323.717,324.107 ,324.51,324.803,324.788,324.774,324.761 ,324.748,324.736,324.725,324.714, 324.704,324.699,324.694,324.685,324.676 ,324.669,324.661,324.651,324.645, 324.639,324.635,324.631,324.626,324.624 ,324.621,324.619,324.615,324.614, 324.613,324.61,324.607,324.607,324.609, 324.611,324.613,324.615,324.615,324.618 ,324.619,324.618,324.62,324.623,324.627 ,324.637,324.641,324.645,324.65,324.655 ,324.66,324.362)
ORBIT_NUMBER = 2035
ORBITAL_ECCENTRICITY = 0.572
ORBITAL_INCLINATION = 86.62
ORBITAL_SEMIMAJOR_AXIS = 8619.82
PERIAPSIS_ALTITUDE = 292.53
PERIAPSIS_ARGUMENT_ANGLE = 0.83
PERIAPSIS_TIME = 2005-08-15T13:35:59.000Z
SPACECRAFT_ORIENTATION = (0.0,1.0,0.0)
^MEX_ORIENTATION_DESC = "MEX_ORIENTATION_DESC.TXT"
SPACECRAFT_POINTING_MODE = ACROSSTRACK
^MEX_POINTING_DESC = "MEX_POINTING_DESC.TXT"
RIGHT_ASCENSION = -1e+32
DECLINATION = -1e+32
OFFSET_ANGLE = 0.05
SPACECRAFT_SOLAR_DISTANCE = 2.07537e+08
TARGET_NAME = MARS
/* CAMERA DATA ELEMENTS */
DETECTOR_TEMPERATURE = 18.7783
FOCAL_PLANE_TEMPERATURE = 9.3989
INST_CMPRS_NAME = "DISCRETE COSINE TRANSFORMATION (DCT)"
INST_CMPRS_RATIO = 8.0834
INST_CMPRS_QUALITY = 0
INST_CMPRS_QUANTZ_TBL_ID = 0
INSTRUMENT_TEMPERATURE = 11.4379
LENS_TEMPERATURE = 9.6028
MACROPIXEL_SIZE = 4
MISSING_FRAMES = 0
PIXEL_SUBSAMPLING_FLAG = N
SIGNAL_CHAIN_ID = 3
/* RADIOMETRIC DATA ELEMENTS */
BANDWIDTH = 177.0
CENTER_FILTER_WAVELENGTH = 676.5
RADIANCE_OFFSET = 3.49167
RADIANCE_SCALING_FACTOR = 0.0204817
REFLECTANCE_SCALING_FACTOR = 0.000467748
MEX:REFLECTANCE_OFFSET = 0.0797405
/* IMAGE OBJECT DEFINITIONS */
OBJECT = IMAGE
  INTERCHANGE_FORMAT = BINARY
  LINES = 34190
  LINE_SAMPLES = 1697
  SAMPLE_TYPE = UNSIGNED_INTEGER
  SAMPLE_BITS = 8
  BANDS = 1
  BAND_STORAGE_TYPE = BAND_SEQUENTIAL
  MAXIMUM = 302
  MEAN = 212.467
  MINIMUM = 117
  STANDARD_DEVIATION = 29.3453
END_OBJECT = IMAGE
/* MAP OBJECT DEFINITIONS */
OBJECT = IMAGE_MAP_PROJECTION
  ^DATA_SET_MAP_PROJECTION_CATALOG= "DSMAP.CAT"
  A_AXIS_RADIUS = 3396.0
  B_AXIS_RADIUS = 3396.0
  C_AXIS_RADIUS = 3396.0
  CENTER_LATITUDE = 0.0
  CENTER_LONGITUDE = 324.0
  COORDINATE_SYSTEM_NAME = PLANETOGRAPHIC
  COORDINATE_SYSTEM_TYPE = "BODY-FIXED ROTATING"
  EASTERNMOST_LONGITUDE = 324.803
  FIRST_STANDARD_PARALLEL = "N/A"
  LINE_FIRST_PIXEL = 1
  LINE_LAST_PIXEL = 34190
  LINE_PROJECTION_OFFSET = 26303.375
  MAP_PROJECTION_ROTATION = 0.0
  MAP_PROJECTION_TYPE = SINUSOIDAL
  MAP_RESOLUTION = 1185.42760773333
  MAP_SCALE = 0.05
  MAXIMUM_LATITUDE = 22.2176
  MINIMUM_LATITUDE = -6.65814
  POSITIVE_LONGITUDE_DIRECTION = EAST
  REFERENCE_LATITUDE = "N/A"
  REFERENCE_LONGITUDE = "N/A"
  SAMPLE_FIRST_PIXEL = 1
  SAMPLE_LAST_PIXEL = 1697
  SAMPLE_PROJECTION_OFFSET = 754.375
  SECOND_STANDARD_PARALLEL = "N/A"
  WESTERNMOST_LONGITUDE = 323.368
END_OBJECT = IMAGE_MAP_PROJECTION
/* The JPEG2000 image data file associated with this label. */
OBJECT = COMPRESSED_FILE
  FILE_NAME = "H2035_0000_P23.JP2"
  RECORD_TYPE = UNDEFINED
  FILE_RECORDS = UNK
  ENCODING_TYPE = "JP2"
  INTERCHANGE_FORMAT = BINARY
  UNCOMPRESSED_FILE_NAME = "H2035_0000_P23.IMG"
  REQUIRED_STORAGE_BYTES = "58040794"
  ^DESCRIPTION = "JP2INFO.TXT"
END_OBJECT = COMPRESSED_FILE
END
