PDS_VERSION_ID = PDS3
/* FILE DATA ELEMENTS */
RECORD_TYPE = STREAM
/* POINTERS TO DATA OBJECTS */
^COMPRESSED_FILE = "H2037_0000_RE3.JP2"
/* IDENTIFICATION DATA ELEMENTS */
DATA_SET_ID = "MEX-M-HRSC-5-REFDR-MAPPROJECTED-V3.0"
DATA_SET_NAME = "MARS EXPRESS HRSC MAP PROJECTED REFDR V3.0"
DETECTOR_ID = MEX_HRSC_RED
EVENT_TYPE = "MARS-REGIONAL-MAPPING-Te-Fl-Pf"
INSTRUMENT_HOST_ID = MEX
INSTRUMENT_HOST_NAME = "MARS EXPRESS"
INSTRUMENT_ID = HRSC
INSTRUMENT_NAME = "HIGH RESOLUTION STEREO CAMERA"
MISSION_NAME = "MARS EXPRESS"
MISSION_PHASE_NAME = MR_Phase_7
PROCESSING_LEVEL_ID = 3
PRODUCT_CREATION_TIME = 2016-03-10T10:27:20.000Z
PRODUCT_ID = "H2037_0000_RE3.JP2"
RELEASE_ID = 0026
REVISION_ID = 0000
/* QUALITY DATA ELEMENTS */
DATA_QUALITY_ID = 1
DATA_QUALITY_DESC = "Data calculated based on original SPICE kernels"
/* TIME DATA ELEMENTS */
SPACECRAFT_CLOCK_START_COUNT = "1/0072241208.57964"
SPACECRAFT_CLOCK_STOP_COUNT = "1/0072241503.65308"
START_TIME = 2005-08-16T03:00:20.805Z
STOP_TIME = 2005-08-16T03:04:17.416Z
/* ORBITAL DATA ELEMENTS */
ASCENDING_NODE_LONGITUDE = 185.56
MAXIMUM_RESOLUTION = 49.2
FOOTPRINT_POINT_LATITUDE = (-5.3804,-5.36401,-5.34642,-5.33717, -5.17562,-4.85874,-4.3871,-4.08081, -3.77522,-3.4688,-3.15953,-2.69997, -2.39252,-1.92745,-1.6149,-1.30594, -0.995693,-0.684739,-0.377646,0.0893719 ,0.559771,1.02614,1.33933,1.64811, 2.11248,2.42591,2.73835,3.04956,3.36328 ,3.83339,4.14687,4.45767,4.77082, 5.08537,5.39744,5.71261,6.02513,6.34016 ,6.65369,6.96719,7.27932,7.59404, 8.06588,8.3788,8.6946,9.00965,9.33291, 9.65908,9.8226,10.1483,10.3344,10.3222, 10.307,10.2957,10.2862,9.95926,9.79477, 9.46823,9.14282,8.82515,8.51153,8.19699 ,7.88274,7.41294,7.09896,6.78474, 6.47106,6.15687,5.6861,5.21524,4.74504, 4.43128,4.11641,3.8042,3.49277,3.17983, 2.86615,2.55699,2.24609,1.935,1.62178, 1.1543,0.691704,0.220826,-0.0955229, -0.56041,-0.870902,-1.1798,-1.48978, -1.80065,-2.10894,-2.57502,-3.03699, -3.34521,-3.65127,-4.1117,-4.41739, -4.88795,-5.20471,-5.3804)
FOOTPRINT_POINT_LONGITUDE = (127.187,126.865,126.536,126.368, 126.213,126.214,126.216,126.218,126.22, 126.221,126.22,126.223,126.224,126.222, 126.219,126.219,126.218,126.217,126.219 ,126.217,126.212,126.211,126.208, 126.209,126.21,126.208,126.206,126.206, 126.203,126.199,126.197,126.197,126.195 ,126.191,126.19,126.186,126.185,126.181 ,126.179,126.176,126.175,126.172, 126.167,126.165,126.16,126.156,126.153, 126.149,126.147,126.143,126.304,126.532 ,126.841,127.101,127.279,127.278, 127.277,127.276,127.275,127.274,127.273 ,127.272,127.272,127.271,127.27,127.27, 127.269,127.269,127.269,127.269,127.269 ,127.27,127.27,127.27,127.27,127.271, 127.272,127.272,127.272,127.272,127.273 ,127.275,127.275,127.278,127.28,127.282 ,127.283,127.284,127.286,127.288, 127.289,127.292,127.294,127.296,127.297 ,127.3,127.302,127.304,127.306,127.187)
ORBIT_NUMBER = 2037
ORBITAL_ECCENTRICITY = 0.572
ORBITAL_INCLINATION = 86.6
ORBITAL_SEMIMAJOR_AXIS = 8626.89
PERIAPSIS_ALTITUDE = 292.4
PERIAPSIS_ARGUMENT_ANGLE = 0.49
PERIAPSIS_TIME = 2005-08-16T03:02:12.000Z
SPACECRAFT_ORIENTATION = (0.0,1.0,0.0)
^MEX_ORIENTATION_DESC = "MEX_ORIENTATION_DESC.TXT"
SPACECRAFT_POINTING_MODE = ACROSSTRACK
^MEX_POINTING_DESC = "MEX_POINTING_DESC.TXT"
RIGHT_ASCENSION = -1e+32
DECLINATION = -1e+32
OFFSET_ANGLE = 0.85
SPACECRAFT_SOLAR_DISTANCE = 2.07571e+08
TARGET_NAME = MARS
/* CAMERA DATA ELEMENTS */
DETECTOR_TEMPERATURE = 18.9822
FOCAL_PLANE_TEMPERATURE = 10.0106
INST_CMPRS_NAME = "DISCRETE COSINE TRANSFORMATION (DCT)"
INST_CMPRS_RATIO = 9.17133
INST_CMPRS_QUALITY = 0
INST_CMPRS_QUANTZ_TBL_ID = 0
INSTRUMENT_TEMPERATURE = 11.6418
LENS_TEMPERATURE = 10.2145
MACROPIXEL_SIZE = 4
MISSING_FRAMES = 0
PIXEL_SUBSAMPLING_FLAG = N
SIGNAL_CHAIN_ID = 2
/* RADIOMETRIC DATA ELEMENTS */
BANDWIDTH = 48.0
CENTER_FILTER_WAVELENGTH = 748.0
RADIANCE_OFFSET = 1.58271
RADIANCE_SCALING_FACTOR = 0.00467572
REFLECTANCE_SCALING_FACTOR = 0.000459737
MEX:REFLECTANCE_OFFSET = 0.155619
/* IMAGE OBJECT DEFINITIONS */
OBJECT = IMAGE
  INTERCHANGE_FORMAT = BINARY
  LINES = 18563
  LINE_SAMPLES = 1463
  SAMPLE_TYPE = UNSIGNED_INTEGER
  SAMPLE_BITS = 8
  BANDS = 1
  BAND_STORAGE_TYPE = BAND_SEQUENTIAL
  MAXIMUM = 269
  MEAN = 209.709
  MINIMUM = 143
  STANDARD_DEVIATION = 12.0992
END_OBJECT = IMAGE
/* MAP OBJECT DEFINITIONS */
OBJECT = IMAGE_MAP_PROJECTION
  ^DATA_SET_MAP_PROJECTION_CATALOG= "DSMAP.CAT"
  A_AXIS_RADIUS = 3396.0
  B_AXIS_RADIUS = 3396.0
  C_AXIS_RADIUS = 3396.0
  CENTER_LATITUDE = 0.0
  CENTER_LONGITUDE = 127.0
  COORDINATE_SYSTEM_NAME = PLANETOGRAPHIC
  COORDINATE_SYSTEM_TYPE = "BODY-FIXED ROTATING"
  EASTERNMOST_LONGITUDE = 127.306
  FIRST_STANDARD_PARALLEL = "N/A"
  LINE_FIRST_PIXEL = 1
  LINE_LAST_PIXEL = 18563
  LINE_PROJECTION_OFFSET = 12214.875
  MAP_PROJECTION_ROTATION = 0.0
  MAP_PROJECTION_TYPE = SINUSOIDAL
  MAP_RESOLUTION = 1185.42760773333
  MAP_SCALE = 0.05
  MAXIMUM_LATITUDE = 10.3344
  MINIMUM_LATITUDE = -5.3804
  POSITIVE_LONGITUDE_DIRECTION = EAST
  REFERENCE_LATITUDE = "N/A"
  REFERENCE_LONGITUDE = "N/A"
  SAMPLE_FIRST_PIXEL = 1
  SAMPLE_LAST_PIXEL = 1463
  SAMPLE_PROJECTION_OFFSET = 1107.125
  SECOND_STANDARD_PARALLEL = "N/A"
  WESTERNMOST_LONGITUDE = 126.143
END_OBJECT = IMAGE_MAP_PROJECTION
/* The JPEG2000 image data file associated with this label. */
OBJECT = COMPRESSED_FILE
  FILE_NAME = "H2037_0000_RE3.JP2"
  RECORD_TYPE = UNDEFINED
  FILE_RECORDS = UNK
  ENCODING_TYPE = "JP2"
  INTERCHANGE_FORMAT = BINARY
  UNCOMPRESSED_FILE_NAME = "H2037_0000_RE3.IMG"
  REQUIRED_STORAGE_BYTES = "27176688"
  ^DESCRIPTION = "JP2INFO.TXT"
END_OBJECT = COMPRESSED_FILE
END
