PDS_VERSION_ID = PDS3
/* FILE DATA ELEMENTS */
RECORD_TYPE = STREAM
/* POINTERS TO DATA OBJECTS */
^COMPRESSED_FILE = "H2041_0000_BL3.JP2"
/* IDENTIFICATION DATA ELEMENTS */
DATA_SET_ID = "MEX-M-HRSC-5-REFDR-MAPPROJECTED-V3.0"
DATA_SET_NAME = "MARS EXPRESS HRSC MAP PROJECTED REFDR V3.0"
DETECTOR_ID = MEX_HRSC_BLUE
EVENT_TYPE = "MARS-LOCAL-STEREO-Vo-Lc-Eo"
INSTRUMENT_HOST_ID = MEX
INSTRUMENT_HOST_NAME = "MARS EXPRESS"
INSTRUMENT_ID = HRSC
INSTRUMENT_NAME = "HIGH RESOLUTION STEREO CAMERA"
MISSION_NAME = "MARS EXPRESS"
MISSION_PHASE_NAME = MR_Phase_7
PROCESSING_LEVEL_ID = 3
PRODUCT_CREATION_TIME = 2016-03-10T10:27:20.000Z
PRODUCT_ID = "H2041_0000_BL3.JP2"
RELEASE_ID = 0026
REVISION_ID = 0000
/* QUALITY DATA ELEMENTS */
DATA_QUALITY_ID = 1
DATA_QUALITY_DESC = "Data calculated based on original SPICE kernels"
/* TIME DATA ELEMENTS */
SPACECRAFT_CLOCK_START_COUNT = "1/0072337986.57160"
SPACECRAFT_CLOCK_STOP_COUNT = "1/0072338240.07964"
START_TIME = 2005-08-17T05:53:35.888Z
STOP_TIME = 2005-08-17T05:56:23.031Z
/* ORBITAL DATA ELEMENTS */
ASCENDING_NODE_LONGITUDE = 185.47
MAXIMUM_RESOLUTION = 46.4
FOOTPRINT_POINT_LATITUDE = (-4.07293,-4.07454,-4.07594,-4.07788, -3.86056,-3.5349,-3.31781,-3.10075, -2.88357,-2.66607,-2.44889,-2.12287, -1.90548,-1.57843,-1.36006,-1.14256, -0.925462,-0.709391,-0.491269,-0.261376 ,-0.0439997,0.174076,0.541723,0.759876, 0.977615,1.19543,1.52207,1.75167, 1.96937,2.18757,2.40565,2.62354,2.8413, 3.05914,3.38583,3.60338,3.82138,4.03958 ,4.25794,4.47451,4.6982,4.9245,5.15077, 5.48998,5.71563,5.94174,6.28067,6.50652 ,6.7327,6.95842,7.00043,7.00155,7.00232 ,7.00237,6.77682,6.55093,6.32512, 6.09809,5.87375,5.64769,5.4209,5.19526, 4.96898,4.74274,4.51848,4.30093,4.0834, 3.75623,3.53812,3.21116,2.99333,2.77585 ,2.55821,2.34045,2.01348,1.79546, 1.45701,1.23917,0.911933,0.585242, 0.367522,0.108271,-0.218225,-0.435969, -0.774039,-0.990336,-1.20699,-1.42435, -1.64275,-1.86208,-2.07987,-2.297, -2.51441,-2.73142,-3.05692,-3.2742, -3.49122,-3.81677,-4.03352,-4.07293)
FOOTPRINT_POINT_LONGITUDE = (95.1873,94.8788,94.5728,94.3339, 94.3338,94.334,94.3342,94.3343,94.3344, 94.3342,94.3343,94.3342,94.3341,94.3332 ,94.3322,94.332,94.3321,94.3331,94.3323 ,94.3315,94.3313,94.3305,94.3298, 94.3289,94.3283,94.3276,94.3266,94.3258 ,94.3251,94.3239,94.3228,94.3219,94.321 ,94.32,94.3184,94.3176,94.3162,94.3147, 94.313,94.3128,94.3106,94.3091,94.3075, 94.3051,94.3038,94.3021,94.2996,94.298, 94.2959,94.2942,94.5109,94.8189,95.0688 ,95.3637,95.3625,95.3606,95.3591, 95.3548,95.3574,95.3558,95.3526,95.3524 ,95.3507,95.3493,95.3483,95.348,95.3479 ,95.3457,95.3443,95.343,95.3426,95.3431 ,95.3433,95.3433,95.3426,95.342,95.3422 ,95.3422,95.3411,95.3414,95.3418, 95.3414,95.3422,95.3426,95.3438,95.3478 ,95.3507,95.3519,95.3504,95.3465, 95.3465,95.348,95.3488,95.3505,95.3529, 95.3537,95.355,95.3568,95.3586,95.1873)
ORBIT_NUMBER = 2041
ORBITAL_ECCENTRICITY = 0.573
ORBITAL_INCLINATION = 86.62
ORBITAL_SEMIMAJOR_AXIS = 8629.33
PERIAPSIS_ALTITUDE = 291.13
PERIAPSIS_ARGUMENT_ANGLE = 359.74
PERIAPSIS_TIME = 2005-08-17T05:54:38.000Z
SPACECRAFT_ORIENTATION = (0.0,1.0,0.0)
^MEX_ORIENTATION_DESC = "MEX_ORIENTATION_DESC.TXT"
SPACECRAFT_POINTING_MODE = ACROSSTRACK
^MEX_POINTING_DESC = "MEX_POINTING_DESC.TXT"
RIGHT_ASCENSION = -1e+32
DECLINATION = -1e+32
OFFSET_ANGLE = -0.25
SPACECRAFT_SOLAR_DISTANCE = 2.07643e+08
TARGET_NAME = MARS
/* CAMERA DATA ELEMENTS */
DETECTOR_TEMPERATURE = 18.3705
FOCAL_PLANE_TEMPERATURE = 10.0106
INST_CMPRS_NAME = "DISCRETE COSINE TRANSFORMATION (DCT)"
INST_CMPRS_RATIO = 6.65276
INST_CMPRS_QUALITY = 0
INST_CMPRS_QUANTZ_TBL_ID = 0
INSTRUMENT_TEMPERATURE = 11.8457
LENS_TEMPERATURE = 10.2145
MACROPIXEL_SIZE = 4
MISSING_FRAMES = 11
PIXEL_SUBSAMPLING_FLAG = N
SIGNAL_CHAIN_ID = 2
/* RADIOMETRIC DATA ELEMENTS */
BANDWIDTH = 76.0
CENTER_FILTER_WAVELENGTH = 444.0
RADIANCE_OFFSET = 0.670502
RADIANCE_SCALING_FACTOR = 0.00176291
REFLECTANCE_SCALING_FACTOR = 7.8094e-05
MEX:REFLECTANCE_OFFSET = 0.0297022
/* IMAGE OBJECT DEFINITIONS */
OBJECT = IMAGE
  INTERCHANGE_FORMAT = BINARY
  LINES = 15447
  LINE_SAMPLES = 1352
  SAMPLE_TYPE = UNSIGNED_INTEGER
  SAMPLE_BITS = 8
  BANDS = 1
  BAND_STORAGE_TYPE = BAND_SEQUENTIAL
  MAXIMUM = 162
  MEAN = 123.82
  MINIMUM = 84
  STANDARD_DEVIATION = 5.24748
END_OBJECT = IMAGE
/* MAP OBJECT DEFINITIONS */
OBJECT = IMAGE_MAP_PROJECTION
  ^DATA_SET_MAP_PROJECTION_CATALOG= "DSMAP.CAT"
  A_AXIS_RADIUS = 3396.0
  B_AXIS_RADIUS = 3396.0
  C_AXIS_RADIUS = 3396.0
  CENTER_LATITUDE = 0.0
  CENTER_LONGITUDE = 95.0
  COORDINATE_SYSTEM_NAME = PLANETOGRAPHIC
  COORDINATE_SYSTEM_TYPE = "BODY-FIXED ROTATING"
  EASTERNMOST_LONGITUDE = 95.36369999999999
  FIRST_STANDARD_PARALLEL = "N/A"
  LINE_FIRST_PIXEL = 1
  LINE_LAST_PIXEL = 15447
  LINE_PROJECTION_OFFSET = 10614.875
  MAP_PROJECTION_ROTATION = 0.0
  MAP_PROJECTION_TYPE = SINUSOIDAL
  MAP_RESOLUTION = 1185.42760773333
  MAP_SCALE = 0.05
  MAXIMUM_LATITUDE = 7.00237
  MINIMUM_LATITUDE = -4.07788
  POSITIVE_LONGITUDE_DIRECTION = EAST
  REFERENCE_LATITUDE = "N/A"
  REFERENCE_LONGITUDE = "N/A"
  SAMPLE_FIRST_PIXEL = 1
  SAMPLE_LAST_PIXEL = 1352
  SAMPLE_PROJECTION_OFFSET = 857.625
  SECOND_STANDARD_PARALLEL = "N/A"
  WESTERNMOST_LONGITUDE = 94.2942
END_OBJECT = IMAGE_MAP_PROJECTION
/* The JPEG2000 image data file associated with this label. */
OBJECT = COMPRESSED_FILE
  FILE_NAME = "H2041_0000_BL3.JP2"
  RECORD_TYPE = UNDEFINED
  FILE_RECORDS = UNK
  ENCODING_TYPE = "JP2"
  INTERCHANGE_FORMAT = BINARY
  UNCOMPRESSED_FILE_NAME = "H2041_0000_BL3.IMG"
  REQUIRED_STORAGE_BYTES = "20903272"
  ^DESCRIPTION = "JP2INFO.TXT"
END_OBJECT = COMPRESSED_FILE
END
