PDS_VERSION_ID = PDS3
/* FILE DATA ELEMENTS */
RECORD_TYPE = STREAM
/* POINTERS TO DATA OBJECTS */
^COMPRESSED_FILE = "H2041_0000_S23.JP2"
/* IDENTIFICATION DATA ELEMENTS */
DATA_SET_ID = "MEX-M-HRSC-5-REFDR-MAPPROJECTED-V3.0"
DATA_SET_NAME = "MARS EXPRESS HRSC MAP PROJECTED REFDR V3.0"
DETECTOR_ID = MEX_HRSC_S2
EVENT_TYPE = "MARS-LOCAL-STEREO-Vo-Lc-Eo"
INSTRUMENT_HOST_ID = MEX
INSTRUMENT_HOST_NAME = "MARS EXPRESS"
INSTRUMENT_ID = HRSC
INSTRUMENT_NAME = "HIGH RESOLUTION STEREO CAMERA"
MISSION_NAME = "MARS EXPRESS"
MISSION_PHASE_NAME = MR_Phase_7
PROCESSING_LEVEL_ID = 3
PRODUCT_CREATION_TIME = 2016-03-10T10:27:20.000Z
PRODUCT_ID = "H2041_0000_S23.JP2"
RELEASE_ID = 0026
REVISION_ID = 0000
/* QUALITY DATA ELEMENTS */
DATA_QUALITY_ID = 1
DATA_QUALITY_DESC = "Data calculated based on original SPICE kernels"
/* TIME DATA ELEMENTS */
SPACECRAFT_CLOCK_START_COUNT = "1/0072337986.57160"
SPACECRAFT_CLOCK_STOP_COUNT = "1/0072338240.07964"
START_TIME = 2005-08-17T05:53:14.041Z
STOP_TIME = 2005-08-17T05:56:22.901Z
/* ORBITAL DATA ELEMENTS */
ASCENDING_NODE_LONGITUDE = 185.47
MAXIMUM_RESOLUTION = 24.7
FOOTPRINT_POINT_LATITUDE = (-4.06717,-4.07429,-4.08041,-3.96515, -3.71238,-3.4599,-3.20797,-2.95569, -2.70569,-2.46326,-2.21938,-1.97577, -1.73555,-1.48071,-1.23206,-0.990248, -0.753366,-0.507554,-0.236139, 0.00754468,0.255742,0.500467,0.748304, 0.994209,1.24083,1.73626,2.10759, 2.35643,2.60407,2.85115,3.12252,3.36978 ,3.61571,3.99242,4.24431,4.61644, 4.99094,5.24342,5.61987,5.99281,6.2466, 6.50719,6.76782,7.02712,7.28564,7.54431 ,7.80333,8.19194,8.45087,8.46641,8.4703 ,8.47484,8.48164,8.2239,7.96562,7.70649 ,7.44774,7.18668,6.92955,6.67092, 6.41157,6.15136,5.77477,5.51971,5.27199 ,5.02162,4.64691,4.27468,4.02752, 3.77724,3.52682,3.27764,3.02962,2.63731 ,2.39039,2.14239,1.8937,1.5211,1.27428, 1.02545,0.655467,0.408853,0.161315, -0.0826271,-0.329463,-0.601101, -0.840833,-1.07694,-1.31927,-1.56854, -1.82264,-2.07093,-2.31115,-2.55562, -2.79788,-3.17488,-3.42705,-3.80498, -4.05508,-4.06717)
FOOTPRINT_POINT_LONGITUDE = (95.1451,94.8185,94.4945,94.3213, 94.3217,94.3221,94.3226,94.323,94.3231, 94.3235,94.3237,94.3239,94.3246,94.323, 94.3223,94.3227,94.3238,94.3235,94.3229 ,94.3229,94.3221,94.3219,94.3212, 94.3208,94.3202,94.3191,94.3179,94.3169 ,94.316,94.3152,94.3142,94.3133,94.3126 ,94.3103,94.3086,94.3069,94.3048, 94.3029,94.3003,94.2982,94.2974,94.2955 ,94.2936,94.2918,94.2902,94.2885, 94.2867,94.2839,94.2821,94.4591,94.6578 ,94.8995,95.2697,95.3675,95.3663, 95.3648,95.3635,95.3612,95.3608,95.3596 ,95.3583,95.3565,95.3558,95.3522, 95.3519,95.3504,95.3487,95.3481,95.3481 ,95.3468,95.3454,95.3446,95.3443, 95.3454,95.3456,95.3454,95.3448,95.3454 ,95.3457,95.3451,95.3455,95.3459, 95.3457,95.3472,95.3474,95.347,95.3503, 95.3552,95.3573,95.3563,95.3531,95.3525 ,95.3554,95.3564,95.3585,95.3616, 95.3632,95.3658,95.3682,95.1451)
ORBIT_NUMBER = 2041
ORBITAL_ECCENTRICITY = 0.573
ORBITAL_INCLINATION = 86.62
ORBITAL_SEMIMAJOR_AXIS = 8629.33
PERIAPSIS_ALTITUDE = 291.13
PERIAPSIS_ARGUMENT_ANGLE = 359.74
PERIAPSIS_TIME = 2005-08-17T05:54:38.000Z
SPACECRAFT_ORIENTATION = (0.0,1.0,0.0)
^MEX_ORIENTATION_DESC = "MEX_ORIENTATION_DESC.TXT"
SPACECRAFT_POINTING_MODE = ACROSSTRACK
^MEX_POINTING_DESC = "MEX_POINTING_DESC.TXT"
RIGHT_ASCENSION = -1e+32
DECLINATION = -1e+32
OFFSET_ANGLE = -0.25
SPACECRAFT_SOLAR_DISTANCE = 2.07643e+08
TARGET_NAME = MARS
/* CAMERA DATA ELEMENTS */
DETECTOR_TEMPERATURE = 17.9627
FOCAL_PLANE_TEMPERATURE = 10.0106
INST_CMPRS_NAME = "DISCRETE COSINE TRANSFORMATION (DCT)"
INST_CMPRS_RATIO = 10.3841
INST_CMPRS_QUALITY = 0
INST_CMPRS_QUANTZ_TBL_ID = 0
INSTRUMENT_TEMPERATURE = 11.8457
LENS_TEMPERATURE = 10.2145
MACROPIXEL_SIZE = 2
MISSING_FRAMES = 17
PIXEL_SUBSAMPLING_FLAG = N
SIGNAL_CHAIN_ID = 1
/* RADIOMETRIC DATA ELEMENTS */
BANDWIDTH = 178.0
CENTER_FILTER_WAVELENGTH = 679.0
RADIANCE_OFFSET = 5.35166
RADIANCE_SCALING_FACTOR = 0.0179263
REFLECTANCE_SCALING_FACTOR = 0.000409312
MEX:REFLECTANCE_OFFSET = 0.122195
/* IMAGE OBJECT DEFINITIONS */
OBJECT = IMAGE
  INTERCHANGE_FORMAT = BINARY
  LINES = 30894
  LINE_SAMPLES = 2704
  SAMPLE_TYPE = UNSIGNED_INTEGER
  SAMPLE_BITS = 8
  BANDS = 1
  BAND_STORAGE_TYPE = BAND_SEQUENTIAL
  MAXIMUM = 187
  MEAN = 142.422
  MINIMUM = 91
  STANDARD_DEVIATION = 7.6035
END_OBJECT = IMAGE
/* MAP OBJECT DEFINITIONS */
OBJECT = IMAGE_MAP_PROJECTION
  ^DATA_SET_MAP_PROJECTION_CATALOG= "DSMAP.CAT"
  A_AXIS_RADIUS = 3396.0
  B_AXIS_RADIUS = 3396.0
  C_AXIS_RADIUS = 3396.0
  CENTER_LATITUDE = 0.0
  CENTER_LONGITUDE = 95.0
  COORDINATE_SYSTEM_NAME = PLANETOGRAPHIC
  COORDINATE_SYSTEM_TYPE = "BODY-FIXED ROTATING"
  EASTERNMOST_LONGITUDE = 95.3682
  FIRST_STANDARD_PARALLEL = "N/A"
  LINE_FIRST_PIXEL = 1
  LINE_LAST_PIXEL = 30894
  LINE_PROJECTION_OFFSET = 21230.25
  MAP_PROJECTION_ROTATION = 0.0
  MAP_PROJECTION_TYPE = SINUSOIDAL
  MAP_RESOLUTION = 2370.85521546667
  MAP_SCALE = 0.025
  MAXIMUM_LATITUDE = 8.481640000000001
  MINIMUM_LATITUDE = -4.08041
  POSITIVE_LONGITUDE_DIRECTION = EAST
  REFERENCE_LATITUDE = "N/A"
  REFERENCE_LONGITUDE = "N/A"
  SAMPLE_FIRST_PIXEL = 1
  SAMPLE_LAST_PIXEL = 2704
  SAMPLE_PROJECTION_OFFSET = 1715.75
  SECOND_STANDARD_PARALLEL = "N/A"
  WESTERNMOST_LONGITUDE = 94.2821
END_OBJECT = IMAGE_MAP_PROJECTION
/* The JPEG2000 image data file associated with this label. */
OBJECT = COMPRESSED_FILE
  FILE_NAME = "H2041_0000_S23.JP2"
  RECORD_TYPE = UNDEFINED
  FILE_RECORDS = UNK
  ENCODING_TYPE = "JP2"
  INTERCHANGE_FORMAT = BINARY
  UNCOMPRESSED_FILE_NAME = "H2041_0000_S23.IMG"
  REQUIRED_STORAGE_BYTES = "83559008"
  ^DESCRIPTION = "JP2INFO.TXT"
END_OBJECT = COMPRESSED_FILE
END
