PDS_VERSION_ID = PDS3
/* FILE DATA ELEMENTS */
RECORD_TYPE = STREAM
/* POINTERS TO DATA OBJECTS */
^COMPRESSED_FILE = "H2044_0001_IR3.JP2"
/* IDENTIFICATION DATA ELEMENTS */
DATA_SET_ID = "MEX-M-HRSC-5-REFDR-MAPPROJECTED-V3.0"
DATA_SET_NAME = "MARS EXPRESS HRSC MAP PROJECTED REFDR V3.0"
DETECTOR_ID = MEX_HRSC_IR
EVENT_TYPE = "MARS-REGIONAL-MAPPING-Te-Pf"
INSTRUMENT_HOST_ID = MEX
INSTRUMENT_HOST_NAME = "MARS EXPRESS"
INSTRUMENT_ID = HRSC
INSTRUMENT_NAME = "HIGH RESOLUTION STEREO CAMERA"
MISSION_NAME = "MARS EXPRESS"
MISSION_PHASE_NAME = MR_Phase_7
PROCESSING_LEVEL_ID = 3
PRODUCT_CREATION_TIME = 2016-03-10T10:27:20.000Z
PRODUCT_ID = "H2044_0001_IR3.JP2"
RELEASE_ID = 0026
REVISION_ID = 0000
/* QUALITY DATA ELEMENTS */
DATA_QUALITY_ID = 1
DATA_QUALITY_DESC = "Data calculated based on original SPICE kernels"
/* TIME DATA ELEMENTS */
SPACECRAFT_CLOCK_START_COUNT = "1/0072410660.57944"
SPACECRAFT_CLOCK_STOP_COUNT = "1/0072410898.49275"
START_TIME = 2005-08-18T02:05:15.599Z
STOP_TIME = 2005-08-18T02:08:18.395Z
/* ORBITAL DATA ELEMENTS */
ASCENDING_NODE_LONGITUDE = 185.41
MAXIMUM_RESOLUTION = 100.6
FOOTPRINT_POINT_LATITUDE = (3.01005,3.01786,3.02498,3.34616, 3.56945,3.79214,4.01724,4.23951,4.56883 ,4.79057,5.01218,5.23357,5.4548,5.67592 ,5.89681,6.12324,6.35184,6.58027, 6.80842,7.03632,7.264,7.4914,7.71868, 7.94572,8.17252,8.40098,8.74524,8.97894 ,9.21283,9.5632,9.79593,10.1447,10.3779 ,10.6101,10.8514,11.0886,11.3299, 11.5684,11.8073,12.0455,12.2835,12.5264 ,12.7717,13.0168,13.2615,13.5059, 13.7501,13.9939,14.237,14.4799,14.6748, 14.6665,14.6618,14.6569,14.6488,14.2797 ,14.0367,13.7934,13.5495,13.3054, 13.0611,12.8164,12.5712,12.3262,12.0885 ,11.734,11.3772,11.1393,10.8982,10.5368 ,10.1906,9.959,9.72545,9.37319,9.14112, 8.9059,8.55331,8.32703,8.10052,7.87373, 7.64674,7.41953,7.19209,6.96451,6.73674 ,6.50798,6.16655,5.93688,5.71643, 5.49557,5.27448,5.05322,4.83175,4.61008 ,4.27856,3.94413,3.61051,3.38793, 3.16518,3.01005)
FOOTPRINT_POINT_LONGITUDE = (160.451,160.137,159.827,159.684, 159.683,159.681,159.68,159.678,159.676, 159.674,159.673,159.671,159.669,159.668 ,159.666,159.664,159.662,159.66,159.658 ,159.656,159.654,159.652,159.65,159.648 ,159.646,159.644,159.64,159.638,159.635 ,159.632,159.629,159.625,159.623,159.62 ,159.618,159.615,159.612,159.609, 159.606,159.603,159.6,159.597,159.594, 159.591,159.588,159.585,159.581,159.578 ,159.575,159.571,159.662,160.045, 160.238,160.432,160.736,160.848,160.844 ,160.839,160.835,160.831,160.827, 160.824,160.82,160.816,160.813,160.806, 160.8,160.796,160.794,160.792,160.787, 160.783,160.781,160.779,160.776,160.775 ,160.772,160.77,160.768,160.766,160.764 ,160.762,160.761,160.759,160.757, 160.756,160.753,160.752,160.751,160.75, 160.749,160.748,160.747,160.746,160.743 ,160.743,160.742,160.741,160.741, 160.451)
ORBIT_NUMBER = 2044
ORBITAL_ECCENTRICITY = 0.572
ORBITAL_INCLINATION = 86.62
ORBITAL_SEMIMAJOR_AXIS = 8621.04
PERIAPSIS_ALTITUDE = 291.73
PERIAPSIS_ARGUMENT_ANGLE = 359.25
PERIAPSIS_TIME = 2005-08-18T02:03:57.000Z
SPACECRAFT_ORIENTATION = (0.0,1.0,0.0)
^MEX_ORIENTATION_DESC = "MEX_ORIENTATION_DESC.TXT"
SPACECRAFT_POINTING_MODE = ACROSSTRACK
^MEX_POINTING_DESC = "MEX_POINTING_DESC.TXT"
RIGHT_ASCENSION = -1e+32
DECLINATION = -1e+32
OFFSET_ANGLE = -0.4
SPACECRAFT_SOLAR_DISTANCE = 2.07698e+08
TARGET_NAME = MARS
/* CAMERA DATA ELEMENTS */
DETECTOR_TEMPERATURE = 18.7783
FOCAL_PLANE_TEMPERATURE = 11.0301
INST_CMPRS_NAME = "DISCRETE COSINE TRANSFORMATION (DCT)"
INST_CMPRS_RATIO = 13.2036
INST_CMPRS_QUALITY = 0
INST_CMPRS_QUANTZ_TBL_ID = 0
INSTRUMENT_TEMPERATURE = 13.273
LENS_TEMPERATURE = 9.8067
MACROPIXEL_SIZE = 8
MISSING_FRAMES = 0
PIXEL_SUBSAMPLING_FLAG = N
SIGNAL_CHAIN_ID = 2
/* RADIOMETRIC DATA ELEMENTS */
BANDWIDTH = 81.0
CENTER_FILTER_WAVELENGTH = 955.5
RADIANCE_OFFSET = 1.17416
RADIANCE_SCALING_FACTOR = 0.00648599
REFLECTANCE_SCALING_FACTOR = 0.000603627
MEX:REFLECTANCE_OFFSET = 0.109275
/* IMAGE OBJECT DEFINITIONS */
OBJECT = IMAGE
  INTERCHANGE_FORMAT = BINARY
  LINES = 6912
  LINE_SAMPLES = 758
  SAMPLE_TYPE = UNSIGNED_INTEGER
  SAMPLE_BITS = 8
  BANDS = 1
  BAND_STORAGE_TYPE = BAND_SEQUENTIAL
  MAXIMUM = 227
  MEAN = 156.779
  MINIMUM = 90
  STANDARD_DEVIATION = 26.0711
END_OBJECT = IMAGE
/* MAP OBJECT DEFINITIONS */
OBJECT = IMAGE_MAP_PROJECTION
  ^DATA_SET_MAP_PROJECTION_CATALOG= "DSMAP.CAT"
  A_AXIS_RADIUS = 3396.0
  B_AXIS_RADIUS = 3396.0
  C_AXIS_RADIUS = 3396.0
  CENTER_LATITUDE = 0.0
  CENTER_LONGITUDE = 160.0
  COORDINATE_SYSTEM_NAME = PLANETOGRAPHIC
  COORDINATE_SYSTEM_TYPE = "BODY-FIXED ROTATING"
  EASTERNMOST_LONGITUDE = 160.848
  FIRST_STANDARD_PARALLEL = "N/A"
  LINE_FIRST_PIXEL = 1
  LINE_LAST_PIXEL = 6912
  LINE_PROJECTION_OFFSET = 8698.6875
  MAP_PROJECTION_ROTATION = 0.0
  MAP_PROJECTION_TYPE = SINUSOIDAL
  MAP_RESOLUTION = 592.713803866667
  MAP_SCALE = 0.1
  MAXIMUM_LATITUDE = 14.6748
  MINIMUM_LATITUDE = 3.01005
  POSITIVE_LONGITUDE_DIRECTION = EAST
  REFERENCE_LATITUDE = "N/A"
  REFERENCE_LONGITUDE = "N/A"
  SAMPLE_FIRST_PIXEL = 1
  SAMPLE_LAST_PIXEL = 758
  SAMPLE_PROJECTION_OFFSET = 246.6875
  SECOND_STANDARD_PARALLEL = "N/A"
  WESTERNMOST_LONGITUDE = 159.571
END_OBJECT = IMAGE_MAP_PROJECTION
/* The JPEG2000 image data file associated with this label. */
OBJECT = COMPRESSED_FILE
  FILE_NAME = "H2044_0001_IR3.JP2"
  RECORD_TYPE = UNDEFINED
  FILE_RECORDS = UNK
  ENCODING_TYPE = "JP2"
  INTERCHANGE_FORMAT = BINARY
  UNCOMPRESSED_FILE_NAME = "H2044_0001_IR3.IMG"
  REQUIRED_STORAGE_BYTES = "5257488"
  ^DESCRIPTION = "JP2INFO.TXT"
END_OBJECT = COMPRESSED_FILE
END
