PDS_VERSION_ID = PDS3
/* FILE DATA ELEMENTS */
RECORD_TYPE = STREAM
/* POINTERS TO DATA OBJECTS */
^COMPRESSED_FILE = "H2044_0001_P13.JP2"
/* IDENTIFICATION DATA ELEMENTS */
DATA_SET_ID = "MEX-M-HRSC-5-REFDR-MAPPROJECTED-V3.0"
DATA_SET_NAME = "MARS EXPRESS HRSC MAP PROJECTED REFDR V3.0"
DETECTOR_ID = MEX_HRSC_P1
EVENT_TYPE = "MARS-REGIONAL-MAPPING-Te-Pf"
INSTRUMENT_HOST_ID = MEX
INSTRUMENT_HOST_NAME = "MARS EXPRESS"
INSTRUMENT_ID = HRSC
INSTRUMENT_NAME = "HIGH RESOLUTION STEREO CAMERA"
MISSION_NAME = "MARS EXPRESS"
MISSION_PHASE_NAME = MR_Phase_7
PROCESSING_LEVEL_ID = 3
PRODUCT_CREATION_TIME = 2016-03-10T10:27:20.000Z
PRODUCT_ID = "H2044_0001_P13.JP2"
RELEASE_ID = 0026
REVISION_ID = 0000
/* QUALITY DATA ELEMENTS */
DATA_QUALITY_ID = 1
DATA_QUALITY_DESC = "Data calculated based on original SPICE kernels"
/* TIME DATA ELEMENTS */
SPACECRAFT_CLOCK_START_COUNT = "1/0072410660.57944"
SPACECRAFT_CLOCK_STOP_COUNT = "1/0072410898.49275"
START_TIME = 2005-08-18T02:05:10.953Z
STOP_TIME = 2005-08-18T02:08:12.552Z
/* ORBITAL DATA ELEMENTS */
ASCENDING_NODE_LONGITUDE = 185.41
MAXIMUM_RESOLUTION = 24.7
FOOTPRINT_POINT_LATITUDE = (3.00497,3.01128,3.017,3.34121,3.56506, 3.78846,4.01326,4.23679,4.45675,4.67944 ,4.90195,5.12437,5.34659,5.56868, 5.79066,6.01241,6.23394,6.57697,6.80626 ,7.03535,7.26419,7.49282,7.72136, 7.94964,8.17773,8.40651,8.63379,8.86445 ,9.09855,9.33401,9.56876,9.80314, 10.1544,10.5061,10.7429,10.9775,11.2164 ,11.4638,11.7038,11.9443,12.1844, 12.4243,12.6638,13.0331,13.2798,13.5263 ,13.8957,14.1414,14.3865,14.6316, 14.6616,14.6558,14.6517,14.6473,14.5187 ,14.274,14.0287,13.783,13.5371,13.2908, 13.0443,12.7974,12.4346,12.1952,11.8369 ,11.5975,11.2344,10.9933,10.6378, 10.4007,10.1683,9.93524,9.69821,9.34496 ,9.11217,8.87534,8.64392,8.41643, 8.18866,7.96068,7.73246,7.5041,7.27551, 7.04677,6.81787,6.58856,6.24543,6.02261 ,5.8015,5.57976,5.3578,5.13568,4.91337, 4.69091,4.24585,3.91119,3.68803,3.46471 ,3.24131,3.00497)
FOOTPRINT_POINT_LONGITUDE = (160.47,160.144,159.822,159.676,159.675 ,159.673,159.672,159.671,159.669, 159.667,159.666,159.664,159.662,159.661 ,159.659,159.657,159.656,159.653, 159.651,159.649,159.647,159.645,159.643 ,159.641,159.638,159.636,159.634, 159.632,159.629,159.627,159.625,159.622 ,159.618,159.614,159.612,159.609, 159.606,159.604,159.601,159.598,159.595 ,159.592,159.589,159.584,159.581, 159.578,159.573,159.57,159.566,159.563, 159.895,160.205,160.405,160.605,160.848 ,160.843,160.839,160.835,160.831, 160.827,160.823,160.819,160.814,160.81, 160.804,160.8,160.794,160.791,160.79, 160.787,160.783,160.78,160.779,160.777, 160.773,160.772,160.77,160.768,160.766, 160.764,160.763,160.761,160.759,160.757 ,160.756,160.754,160.751,160.751,160.75 ,160.748,160.747,160.746,160.745, 160.744,160.742,160.741,160.741,160.74, 160.74,160.47)
ORBIT_NUMBER = 2044
ORBITAL_ECCENTRICITY = 0.572
ORBITAL_INCLINATION = 86.62
ORBITAL_SEMIMAJOR_AXIS = 8621.04
PERIAPSIS_ALTITUDE = 291.73
PERIAPSIS_ARGUMENT_ANGLE = 359.25
PERIAPSIS_TIME = 2005-08-18T02:03:57.000Z
SPACECRAFT_ORIENTATION = (0.0,1.0,0.0)
^MEX_ORIENTATION_DESC = "MEX_ORIENTATION_DESC.TXT"
SPACECRAFT_POINTING_MODE = ACROSSTRACK
^MEX_POINTING_DESC = "MEX_POINTING_DESC.TXT"
RIGHT_ASCENSION = -1e+32
DECLINATION = -1e+32
OFFSET_ANGLE = -0.4
SPACECRAFT_SOLAR_DISTANCE = 2.07698e+08
TARGET_NAME = MARS
/* CAMERA DATA ELEMENTS */
DETECTOR_TEMPERATURE = 18.7783
FOCAL_PLANE_TEMPERATURE = 11.0301
INST_CMPRS_NAME = "DISCRETE COSINE TRANSFORMATION (DCT)"
INST_CMPRS_RATIO = 8.97601
INST_CMPRS_QUALITY = 0
INST_CMPRS_QUANTZ_TBL_ID = 0
INSTRUMENT_TEMPERATURE = 13.273
LENS_TEMPERATURE = 9.8067
MACROPIXEL_SIZE = 2
MISSING_FRAMES = 3
PIXEL_SUBSAMPLING_FLAG = N
SIGNAL_CHAIN_ID = 3
/* RADIOMETRIC DATA ELEMENTS */
BANDWIDTH = 174.0
CENTER_FILTER_WAVELENGTH = 675.0
RADIANCE_OFFSET = 4.89708
RADIANCE_SCALING_FACTOR = 0.0206446
REFLECTANCE_SCALING_FACTOR = 0.000479021
MEX:REFLECTANCE_OFFSET = 0.113628
/* IMAGE OBJECT DEFINITIONS */
OBJECT = IMAGE
  INTERCHANGE_FORMAT = BINARY
  LINES = 27647
  LINE_SAMPLES = 3031
  SAMPLE_TYPE = UNSIGNED_INTEGER
  SAMPLE_BITS = 8
  BANDS = 1
  BAND_STORAGE_TYPE = BAND_SEQUENTIAL
  MAXIMUM = 255
  MEAN = 179.976
  MINIMUM = 118
  STANDARD_DEVIATION = 24.3791
END_OBJECT = IMAGE
/* MAP OBJECT DEFINITIONS */
OBJECT = IMAGE_MAP_PROJECTION
  ^DATA_SET_MAP_PROJECTION_CATALOG= "DSMAP.CAT"
  A_AXIS_RADIUS = 3396.0
  B_AXIS_RADIUS = 3396.0
  C_AXIS_RADIUS = 3396.0
  CENTER_LATITUDE = 0.0
  CENTER_LONGITUDE = 160.0
  COORDINATE_SYSTEM_NAME = PLANETOGRAPHIC
  COORDINATE_SYSTEM_TYPE = "BODY-FIXED ROTATING"
  EASTERNMOST_LONGITUDE = 160.848
  FIRST_STANDARD_PARALLEL = "N/A"
  LINE_FIRST_PIXEL = 1
  LINE_LAST_PIXEL = 27647
  LINE_PROJECTION_OFFSET = 34796.25
  MAP_PROJECTION_ROTATION = 0.0
  MAP_PROJECTION_TYPE = SINUSOIDAL
  MAP_RESOLUTION = 2370.85521546667
  MAP_SCALE = 0.025
  MAXIMUM_LATITUDE = 14.6616
  MINIMUM_LATITUDE = 3.00497
  POSITIVE_LONGITUDE_DIRECTION = EAST
  REFERENCE_LATITUDE = "N/A"
  REFERENCE_LONGITUDE = "N/A"
  SAMPLE_FIRST_PIXEL = 1
  SAMPLE_LAST_PIXEL = 3031
  SAMPLE_PROJECTION_OFFSET = 988.25
  SECOND_STANDARD_PARALLEL = "N/A"
  WESTERNMOST_LONGITUDE = 159.563
END_OBJECT = IMAGE_MAP_PROJECTION
/* The JPEG2000 image data file associated with this label. */
OBJECT = COMPRESSED_FILE
  FILE_NAME = "H2044_0001_P13.JP2"
  RECORD_TYPE = UNDEFINED
  FILE_RECORDS = UNK
  ENCODING_TYPE = "JP2"
  INTERCHANGE_FORMAT = BINARY
  UNCOMPRESSED_FILE_NAME = "H2044_0001_P13.IMG"
  REQUIRED_STORAGE_BYTES = "83822305"
  ^DESCRIPTION = "JP2INFO.TXT"
END_OBJECT = COMPRESSED_FILE
END
