PDS_VERSION_ID = PDS3
/* FILE DATA ELEMENTS */
RECORD_TYPE = STREAM
/* POINTERS TO DATA OBJECTS */
^COMPRESSED_FILE = "H2054_0000_BL3.JP2"
/* IDENTIFICATION DATA ELEMENTS */
DATA_SET_ID = "MEX-M-HRSC-5-REFDR-MAPPROJECTED-V3.0"
DATA_SET_NAME = "MARS EXPRESS HRSC MAP PROJECTED REFDR V3.0"
DETECTOR_ID = MEX_HRSC_BLUE
EVENT_TYPE = "MARS-REGIONAL-MAPPING-Vo-Te"
INSTRUMENT_HOST_ID = MEX
INSTRUMENT_HOST_NAME = "MARS EXPRESS"
INSTRUMENT_ID = HRSC
INSTRUMENT_NAME = "HIGH RESOLUTION STEREO CAMERA"
MISSION_NAME = "MARS EXPRESS"
MISSION_PHASE_NAME = MR_Phase_7
PROCESSING_LEVEL_ID = 3
PRODUCT_CREATION_TIME = 2016-03-10T10:27:20.000Z
PRODUCT_ID = "H2054_0000_BL3.JP2"
RELEASE_ID = 0026
REVISION_ID = 0000
/* QUALITY DATA ELEMENTS */
DATA_QUALITY_ID = 2
DATA_QUALITY_DESC = "Data calculated based on photogrammetrically improved orbit and attitude data"
/* TIME DATA ELEMENTS */
SPACECRAFT_CLOCK_START_COUNT = "1/0072652141.57266"
SPACECRAFT_CLOCK_STOP_COUNT = "1/0072652497.15872"
START_TIME = 2005-08-20T21:09:47.704Z
STOP_TIME = 2005-08-20T21:14:32.737Z
/* ORBITAL DATA ELEMENTS */
ASCENDING_NODE_LONGITUDE = 185.2
MAXIMUM_RESOLUTION = 90.7
FOOTPRINT_POINT_LATITUDE = (-21.6851,-21.6856,-21.6878,-21.2978, -20.9071,-20.5156,-20.1235,-19.7306, -19.337,-18.9426,-18.5478,-18.1521, -17.756,-17.3591,-16.9617,-16.5646, -16.1788,-15.7924,-15.4055,-14.826, -14.4507,-14.0749,-13.6987,-13.3222, -12.76,-12.3954,-12.0305,-11.6653, -11.2996,-10.9335,-10.5671,-10.2059, -9.85188,-9.49771,-9.14325,-8.78754, -8.43371,-8.0786,-7.72292,-7.19019, -6.83324,-6.48352,-6.13834,-5.79759, -5.45438,-5.10919,-4.5947,-4.07851, -3.73427,-3.38995,-3.15377,-3.15146, -3.66867,-4.01304,-4.35729,-4.70141, -5.04538,-5.56118,-5.90503,-6.24841, -6.58993,-7.12295,-7.47851,-7.8323, -8.18897,-8.54404,-8.89885,-9.25359, -9.60815,-9.96253,-10.3166,-10.8653, -11.2313,-11.5971,-11.9626,-12.3277, -12.6922,-13.2523,-13.6291,-14.0053, -14.3813,-14.7569,-15.3345,-15.7217, -16.1083,-16.4943,-16.8893,-17.287, -17.6841,-18.0806,-18.4763,-18.8715, -19.266,-19.6599,-20.053,-20.4455, -20.8374,-21.2287,-21.619,-21.6851)
FOOTPRINT_POINT_LONGITUDE = (257.966,257.552,256.922,256.93,256.939 ,256.947,256.955,256.962,256.969, 256.976,256.983,256.99,256.996,257.003, 257.008,257.014,257.019,257.025,257.029 ,257.036,257.041,257.045,257.048, 257.052,257.057,257.061,257.064,257.067 ,257.069,257.072,257.074,257.076, 257.078,257.08,257.082,257.083,257.085, 257.086,257.087,257.089,257.09,257.09, 257.089,257.091,257.092,257.091,257.092 ,257.092,257.092,257.092,257.519, 257.898,258.073,258.074,258.075,258.075 ,258.077,258.078,258.079,258.081, 258.087,258.086,258.089,258.096,258.096 ,258.099,258.102,258.105,258.108,258.11 ,258.113,258.118,258.122,258.126,258.13 ,258.135,258.139,258.146,258.151, 258.156,258.161,258.165,258.173,258.178 ,258.184,258.19,258.196,258.202,258.208 ,258.215,258.222,258.228,258.235, 258.242,258.249,258.256,258.263,258.27, 258.277,257.966)
ORBIT_NUMBER = 2054
ORBITAL_ECCENTRICITY = 0.573
ORBITAL_INCLINATION = 86.61
ORBITAL_SEMIMAJOR_AXIS = 8638.31
PERIAPSIS_ALTITUDE = 289.94
PERIAPSIS_ARGUMENT_ANGLE = 357.44
PERIAPSIS_TIME = 2005-08-20T21:14:47.000Z
SPACECRAFT_ORIENTATION = (0.0,1.0,0.0)
^MEX_ORIENTATION_DESC = "MEX_ORIENTATION_DESC.TXT"
SPACECRAFT_POINTING_MODE = ACROSSTRACK
^MEX_POINTING_DESC = "MEX_POINTING_DESC.TXT"
RIGHT_ASCENSION = -1e+32
DECLINATION = -1e+32
OFFSET_ANGLE = -0.3
SPACECRAFT_SOLAR_DISTANCE = 2.07892e+08
TARGET_NAME = MARS
/* CAMERA DATA ELEMENTS */
DETECTOR_TEMPERATURE = 18.5744
FOCAL_PLANE_TEMPERATURE = 9.8067
INST_CMPRS_NAME = "DISCRETE COSINE TRANSFORMATION (DCT)"
INST_CMPRS_RATIO = 21.8409
INST_CMPRS_QUALITY = 0
INST_CMPRS_QUANTZ_TBL_ID = 0
INSTRUMENT_TEMPERATURE = 11.6418
LENS_TEMPERATURE = 10.2145
MACROPIXEL_SIZE = 8
MISSING_FRAMES = 0
PIXEL_SUBSAMPLING_FLAG = N
SIGNAL_CHAIN_ID = 2
/* RADIOMETRIC DATA ELEMENTS */
BANDWIDTH = 76.0
CENTER_FILTER_WAVELENGTH = 444.0
RADIANCE_OFFSET = 0.524292
RADIANCE_SCALING_FACTOR = 0.00392519
REFLECTANCE_SCALING_FACTOR = 0.000174298
MEX:REFLECTANCE_OFFSET = 0.0232812
/* IMAGE OBJECT DEFINITIONS */
OBJECT = IMAGE
  INTERCHANGE_FORMAT = BINARY
  LINES = 11059
  LINE_SAMPLES = 807
  SAMPLE_TYPE = UNSIGNED_INTEGER
  SAMPLE_BITS = 8
  BANDS = 1
  BAND_STORAGE_TYPE = BAND_SEQUENTIAL
  MAXIMUM = 171
  MEAN = 104.852
  MINIMUM = 50
  STANDARD_DEVIATION = 6.84436
END_OBJECT = IMAGE
/* MAP OBJECT DEFINITIONS */
OBJECT = IMAGE_MAP_PROJECTION
  ^DATA_SET_MAP_PROJECTION_CATALOG= "DSMAP.CAT"
  A_AXIS_RADIUS = 3396.0
  B_AXIS_RADIUS = 3396.0
  C_AXIS_RADIUS = 3396.0
  CENTER_LATITUDE = 0.0
  CENTER_LONGITUDE = 258.0
  COORDINATE_SYSTEM_NAME = PLANETOGRAPHIC
  COORDINATE_SYSTEM_TYPE = "BODY-FIXED ROTATING"
  EASTERNMOST_LONGITUDE = 258.277
  FIRST_STANDARD_PARALLEL = "N/A"
  LINE_FIRST_PIXEL = 1
  LINE_LAST_PIXEL = 11059
  LINE_PROJECTION_OFFSET = -1868.8125
  MAP_PROJECTION_ROTATION = 0.0
  MAP_PROJECTION_TYPE = SINUSOIDAL
  MAP_RESOLUTION = 592.713803866667
  MAP_SCALE = 0.1
  MAXIMUM_LATITUDE = -3.15146
  MINIMUM_LATITUDE = -21.6878
  POSITIVE_LONGITUDE_DIRECTION = EAST
  REFERENCE_LATITUDE = "N/A"
  REFERENCE_LONGITUDE = "N/A"
  SAMPLE_FIRST_PIXEL = 1
  SAMPLE_LAST_PIXEL = 807
  SAMPLE_PROJECTION_OFFSET = 614.6875
  SECOND_STANDARD_PARALLEL = "N/A"
  WESTERNMOST_LONGITUDE = 256.922
END_OBJECT = IMAGE_MAP_PROJECTION
/* The JPEG2000 image data file associated with this label. */
OBJECT = COMPRESSED_FILE
  FILE_NAME = "H2054_0000_BL3.JP2"
  RECORD_TYPE = UNDEFINED
  FILE_RECORDS = UNK
  ENCODING_TYPE = "JP2"
  INTERCHANGE_FORMAT = BINARY
  UNCOMPRESSED_FILE_NAME = "H2054_0000_BL3.IMG"
  REQUIRED_STORAGE_BYTES = "8942367"
  ^DESCRIPTION = "JP2INFO.TXT"
END_OBJECT = COMPRESSED_FILE
END
