PDS_VERSION_ID = PDS3
/* FILE DATA ELEMENTS */
RECORD_TYPE = STREAM
/* POINTERS TO DATA OBJECTS */
^COMPRESSED_FILE = "H2054_0000_IR3.JP2"
/* IDENTIFICATION DATA ELEMENTS */
DATA_SET_ID = "MEX-M-HRSC-5-REFDR-MAPPROJECTED-V3.0"
DATA_SET_NAME = "MARS EXPRESS HRSC MAP PROJECTED REFDR V3.0"
DETECTOR_ID = MEX_HRSC_IR
EVENT_TYPE = "MARS-REGIONAL-MAPPING-Vo-Te"
INSTRUMENT_HOST_ID = MEX
INSTRUMENT_HOST_NAME = "MARS EXPRESS"
INSTRUMENT_ID = HRSC
INSTRUMENT_NAME = "HIGH RESOLUTION STEREO CAMERA"
MISSION_NAME = "MARS EXPRESS"
MISSION_PHASE_NAME = MR_Phase_7
PROCESSING_LEVEL_ID = 3
PRODUCT_CREATION_TIME = 2016-03-10T10:27:20.000Z
PRODUCT_ID = "H2054_0000_IR3.JP2"
RELEASE_ID = 0026
REVISION_ID = 0000
/* QUALITY DATA ELEMENTS */
DATA_QUALITY_ID = 2
DATA_QUALITY_DESC = "Data calculated based on photogrammetrically improved orbit and attitude data"
/* TIME DATA ELEMENTS */
SPACECRAFT_CLOCK_START_COUNT = "1/0072652141.57266"
SPACECRAFT_CLOCK_STOP_COUNT = "1/0072652497.15872"
START_TIME = 2005-08-20T21:10:13.524Z
STOP_TIME = 2005-08-20T21:14:57.943Z
/* ORBITAL DATA ELEMENTS */
ASCENDING_NODE_LONGITUDE = 185.2
MAXIMUM_RESOLUTION = 94.2
FOOTPRINT_POINT_LATITUDE = (-22.1254,-22.1184,-22.0881,-21.6704, -21.2523,-20.8337,-20.2055,-19.7865, -19.3671,-18.9477,-18.7377,-18.3227, -17.9159,-17.5089,-17.1015,-16.6944, -16.1036,-15.5127,-15.1184,-14.5307, -14.1503,-13.7696,-13.3885,-13.0077, -12.6269,-12.2456,-11.8718,-11.5041, -11.137,-10.7702,-10.4037,-10.0375, -9.67085,-9.30423,-8.75551,-8.20832, -7.85657,-7.3249,-6.97456,-6.62255, -6.10462,-5.7448,-5.39371,-5.05233, -4.69293,-4.16816,-3.81824,-3.46888, -3.11892,-3.12402,-3.13531,-3.48459, -3.83404,-4.18277,-4.53256,-4.8827, -5.23238,-5.75898,-6.1085,-6.45968, -6.82498,-7.16355,-7.51751,-8.04953, -8.587,-8.95395,-9.32026,-9.68637, -10.0522,-10.4181,-10.7845,-11.1524, -11.52,-11.887,-12.4517,-12.8335, -13.2145,-13.7861,-14.1672,-14.5476, -15.1357,-15.7268,-16.1209,-16.7123, -17.1196,-17.7308,-18.1381,-18.5476, -18.7577,-18.9678,-19.1779,-19.3879, -19.8078,-20.018,-20.4375,-20.8566, -21.2743,-21.6928,-22.1112,-22.1254)
FOOTPRINT_POINT_LONGITUDE = (257.688,257.287,256.937,256.946, 256.954,256.962,256.973,256.981,256.988 ,256.994,256.998,257.004,257.01,257.016 ,257.021,257.026,257.033,257.04,257.044 ,257.05,257.054,257.057,257.06,257.063, 257.066,257.069,257.072,257.074,257.076 ,257.078,257.08,257.082,257.083,257.085 ,257.086,257.088,257.089,257.09,257.09, 257.091,257.09,257.091,257.091,257.09, 257.091,257.09,257.089,257.089,257.242, 257.536,258.072,258.072,258.073,258.073 ,258.073,258.074,258.075,258.077, 258.077,258.078,258.088,258.082,258.085 ,258.09,258.093,258.096,258.098,258.101 ,258.103,258.105,258.108,258.112, 258.115,258.119,258.125,258.129,258.133 ,258.139,258.144,258.148,258.155, 258.162,258.167,258.175,258.18,258.189, 258.195,258.201,258.204,258.207,258.21, 258.214,258.22,258.224,258.23,258.237, 258.243,258.25,258.257,257.688)
ORBIT_NUMBER = 2054
ORBITAL_ECCENTRICITY = 0.573
ORBITAL_INCLINATION = 86.61
ORBITAL_SEMIMAJOR_AXIS = 8638.31
PERIAPSIS_ALTITUDE = 289.94
PERIAPSIS_ARGUMENT_ANGLE = 357.44
PERIAPSIS_TIME = 2005-08-20T21:14:47.000Z
SPACECRAFT_ORIENTATION = (0.0,1.0,0.0)
^MEX_ORIENTATION_DESC = "MEX_ORIENTATION_DESC.TXT"
SPACECRAFT_POINTING_MODE = ACROSSTRACK
^MEX_POINTING_DESC = "MEX_POINTING_DESC.TXT"
RIGHT_ASCENSION = -1e+32
DECLINATION = -1e+32
OFFSET_ANGLE = -0.3
SPACECRAFT_SOLAR_DISTANCE = 2.07892e+08
TARGET_NAME = MARS
/* CAMERA DATA ELEMENTS */
DETECTOR_TEMPERATURE = 17.7588
FOCAL_PLANE_TEMPERATURE = 9.8067
INST_CMPRS_NAME = "DISCRETE COSINE TRANSFORMATION (DCT)"
INST_CMPRS_RATIO = 12.24
INST_CMPRS_QUALITY = 0
INST_CMPRS_QUANTZ_TBL_ID = 0
INSTRUMENT_TEMPERATURE = 11.6418
LENS_TEMPERATURE = 10.2145
MACROPIXEL_SIZE = 8
MISSING_FRAMES = 0
PIXEL_SUBSAMPLING_FLAG = N
SIGNAL_CHAIN_ID = 2
/* RADIOMETRIC DATA ELEMENTS */
BANDWIDTH = 81.0
CENTER_FILTER_WAVELENGTH = 955.5
RADIANCE_OFFSET = 1.24065
RADIANCE_SCALING_FACTOR = 0.0102241
REFLECTANCE_SCALING_FACTOR = 0.000953298
MEX:REFLECTANCE_OFFSET = 0.115678
/* IMAGE OBJECT DEFINITIONS */
OBJECT = IMAGE
  INTERCHANGE_FORMAT = BINARY
  LINES = 11059
  LINE_SAMPLES = 807
  SAMPLE_TYPE = UNSIGNED_INTEGER
  SAMPLE_BITS = 8
  BANDS = 1
  BAND_STORAGE_TYPE = BAND_SEQUENTIAL
  MAXIMUM = 220
  MEAN = 134.489
  MINIMUM = 64
  STANDARD_DEVIATION = 16.4127
END_OBJECT = IMAGE
/* MAP OBJECT DEFINITIONS */
OBJECT = IMAGE_MAP_PROJECTION
  ^DATA_SET_MAP_PROJECTION_CATALOG= "DSMAP.CAT"
  A_AXIS_RADIUS = 3396.0
  B_AXIS_RADIUS = 3396.0
  C_AXIS_RADIUS = 3396.0
  CENTER_LATITUDE = 0.0
  CENTER_LONGITUDE = 258.0
  COORDINATE_SYSTEM_NAME = PLANETOGRAPHIC
  COORDINATE_SYSTEM_TYPE = "BODY-FIXED ROTATING"
  EASTERNMOST_LONGITUDE = 258.257
  FIRST_STANDARD_PARALLEL = "N/A"
  LINE_FIRST_PIXEL = 1
  LINE_LAST_PIXEL = 11059
  LINE_PROJECTION_OFFSET = -1868.8125
  MAP_PROJECTION_ROTATION = 0.0
  MAP_PROJECTION_TYPE = SINUSOIDAL
  MAP_RESOLUTION = 592.713803866667
  MAP_SCALE = 0.1
  MAXIMUM_LATITUDE = -3.11892
  MINIMUM_LATITUDE = -22.1254
  POSITIVE_LONGITUDE_DIRECTION = EAST
  REFERENCE_LATITUDE = "N/A"
  REFERENCE_LONGITUDE = "N/A"
  SAMPLE_FIRST_PIXEL = 1
  SAMPLE_LAST_PIXEL = 807
  SAMPLE_PROJECTION_OFFSET = 614.6875
  SECOND_STANDARD_PARALLEL = "N/A"
  WESTERNMOST_LONGITUDE = 256.937
END_OBJECT = IMAGE_MAP_PROJECTION
/* The JPEG2000 image data file associated with this label. */
OBJECT = COMPRESSED_FILE
  FILE_NAME = "H2054_0000_IR3.JP2"
  RECORD_TYPE = UNDEFINED
  FILE_RECORDS = UNK
  ENCODING_TYPE = "JP2"
  INTERCHANGE_FORMAT = BINARY
  UNCOMPRESSED_FILE_NAME = "H2054_0000_IR3.IMG"
  REQUIRED_STORAGE_BYTES = "8942367"
  ^DESCRIPTION = "JP2INFO.TXT"
END_OBJECT = COMPRESSED_FILE
END
