PDS_VERSION_ID = PDS3
/* FILE DATA ELEMENTS */
RECORD_TYPE = STREAM
/* POINTERS TO DATA OBJECTS */
^COMPRESSED_FILE = "H2054_0001_P13.JP2"
/* IDENTIFICATION DATA ELEMENTS */
DATA_SET_ID = "MEX-M-HRSC-5-REFDR-MAPPROJECTED-V3.0"
DATA_SET_NAME = "MARS EXPRESS HRSC MAP PROJECTED REFDR V3.0"
DETECTOR_ID = MEX_HRSC_P1
EVENT_TYPE = "MARS-REGIONAL-MAPPING-Vo"
INSTRUMENT_HOST_ID = MEX
INSTRUMENT_HOST_NAME = "MARS EXPRESS"
INSTRUMENT_ID = HRSC
INSTRUMENT_NAME = "HIGH RESOLUTION STEREO CAMERA"
MISSION_NAME = "MARS EXPRESS"
MISSION_PHASE_NAME = MR_Phase_7
PROCESSING_LEVEL_ID = 3
PRODUCT_CREATION_TIME = 2016-03-10T10:27:20.000Z
PRODUCT_ID = "H2054_0001_P13.JP2"
RELEASE_ID = 0026
REVISION_ID = 0000
/* QUALITY DATA ELEMENTS */
DATA_QUALITY_ID = 1
DATA_QUALITY_DESC = "Data calculated based on original SPICE kernels"
/* TIME DATA ELEMENTS */
SPACECRAFT_CLOCK_START_COUNT = "1/0072652623.56193"
SPACECRAFT_CLOCK_STOP_COUNT = "1/0072652827.37157"
START_TIME = 2005-08-20T21:17:57.322Z
STOP_TIME = 2005-08-20T21:20:19.725Z
/* ORBITAL DATA ELEMENTS */
ASCENDING_NODE_LONGITUDE = 185.2
MAXIMUM_RESOLUTION = 52.1
FOOTPRINT_POINT_LATITUDE = (8.82963,8.83236,8.83495,8.83732,8.8395 ,8.95003,9.28317,9.4509,9.70218,9.86833 ,10.0406,10.301,10.4746,10.6462,10.8169 ,10.9865,11.1552,11.3235,11.4909, 11.7473,11.9191,12.091,12.2626,12.4352, 12.6049,12.7733,12.9438,13.1136,13.367, 13.5363,13.7069,13.8759,14.0457,14.2154 ,14.3844,14.5538,14.8076,14.9768, 15.1457,15.3148,15.484,15.6531,15.8537, 16.1552,16.3562,16.5564,16.8568,17.0565 ,17.2563,17.456,17.7442,17.7421,17.7388 ,17.7343,17.7299,17.6245,17.4254, 17.2259,17.026,16.8265,16.6264,16.4266, 16.1258,15.925,15.626,15.4571,15.2032, 15.0339,14.8642,14.6943,14.4396,14.2696 ,14.0993,13.9285,13.758,13.5868,13.4156 ,13.2442,12.9864,12.8145,12.6429, 12.4705,12.2974,12.1252,11.9526,11.7797 ,11.5207,11.3521,11.183,11.0133,10.8439 ,10.6749,10.5054,10.3353,10.1644, 9.90849,9.65786,9.33012,9.08399, 8.82963)
FOOTPRINT_POINT_LONGITUDE = (257.975,257.804,257.633,257.463, 257.293,257.0,256.997,256.996,256.994, 256.993,256.991,256.99,256.988,256.987, 256.985,256.983,256.981,256.979,256.977 ,256.973,256.971,256.968,256.965, 256.963,256.96,256.956,256.953,256.95, 256.945,256.942,256.939,256.936,256.933 ,256.93,256.927,256.924,256.92,256.917, 256.914,256.911,256.908,256.905,256.901 ,256.896,256.892,256.888,256.883, 256.879,256.875,256.872,256.956,257.179 ,257.454,257.784,258.035,258.276, 258.271,258.266,258.261,258.256,258.251 ,258.245,258.238,258.233,258.226, 258.222,258.216,258.212,258.208,258.205 ,258.199,258.195,258.192,258.188, 258.185,258.182,258.178,258.175,258.171 ,258.168,258.164,258.161,258.159, 258.156,258.153,258.15,258.146,258.145, 258.143,258.142,258.14,258.138,258.137, 258.135,258.135,258.133,258.132,258.128 ,258.125,257.975)
ORBIT_NUMBER = 2054
ORBITAL_ECCENTRICITY = 0.573
ORBITAL_INCLINATION = 86.61
ORBITAL_SEMIMAJOR_AXIS = 8638.31
PERIAPSIS_ALTITUDE = 289.94
PERIAPSIS_ARGUMENT_ANGLE = 357.44
PERIAPSIS_TIME = 2005-08-20T21:14:47.000Z
SPACECRAFT_ORIENTATION = (0.0,1.0,0.0)
^MEX_ORIENTATION_DESC = "MEX_ORIENTATION_DESC.TXT"
SPACECRAFT_POINTING_MODE = ACROSSTRACK
^MEX_POINTING_DESC = "MEX_POINTING_DESC.TXT"
RIGHT_ASCENSION = -1e+32
DECLINATION = -1e+32
OFFSET_ANGLE = -0.3
SPACECRAFT_SOLAR_DISTANCE = 2.07892e+08
TARGET_NAME = MARS
/* CAMERA DATA ELEMENTS */
DETECTOR_TEMPERATURE = 19.39
FOCAL_PLANE_TEMPERATURE = 10.2145
INST_CMPRS_NAME = "DISCRETE COSINE TRANSFORMATION (DCT)"
INST_CMPRS_RATIO = 4.40382
INST_CMPRS_QUALITY = 0
INST_CMPRS_QUANTZ_TBL_ID = 0
INSTRUMENT_TEMPERATURE = 14.0886
LENS_TEMPERATURE = 10.2145
MACROPIXEL_SIZE = 4
MISSING_FRAMES = 0
PIXEL_SUBSAMPLING_FLAG = N
SIGNAL_CHAIN_ID = 3
/* RADIOMETRIC DATA ELEMENTS */
BANDWIDTH = 174.0
CENTER_FILTER_WAVELENGTH = 675.0
RADIANCE_OFFSET = 2.7588
RADIANCE_SCALING_FACTOR = 0.0313261
REFLECTANCE_SCALING_FACTOR = 0.00072823
MEX:REFLECTANCE_OFFSET = 0.064133
/* IMAGE OBJECT DEFINITIONS */
OBJECT = IMAGE
  INTERCHANGE_FORMAT = BINARY
  LINES = 10557
  LINE_SAMPLES = 1649
  SAMPLE_TYPE = UNSIGNED_INTEGER
  SAMPLE_BITS = 8
  BANDS = 1
  BAND_STORAGE_TYPE = BAND_SEQUENTIAL
  MAXIMUM = 267
  MEAN = 175.246
  MINIMUM = 63
  STANDARD_DEVIATION = 16.7931
END_OBJECT = IMAGE
/* MAP OBJECT DEFINITIONS */
OBJECT = IMAGE_MAP_PROJECTION
  ^DATA_SET_MAP_PROJECTION_CATALOG= "DSMAP.CAT"
  A_AXIS_RADIUS = 3396.0
  B_AXIS_RADIUS = 3396.0
  C_AXIS_RADIUS = 3396.0
  CENTER_LATITUDE = 0.0
  CENTER_LONGITUDE = 258.0
  COORDINATE_SYSTEM_NAME = PLANETOGRAPHIC
  COORDINATE_SYSTEM_TYPE = "BODY-FIXED ROTATING"
  EASTERNMOST_LONGITUDE = 258.276
  FIRST_STANDARD_PARALLEL = "N/A"
  LINE_FIRST_PIXEL = 1
  LINE_LAST_PIXEL = 10557
  LINE_PROJECTION_OFFSET = 21025.375
  MAP_PROJECTION_ROTATION = 0.0
  MAP_PROJECTION_TYPE = SINUSOIDAL
  MAP_RESOLUTION = 1185.42760773333
  MAP_SCALE = 0.05
  MAXIMUM_LATITUDE = 17.7442
  MINIMUM_LATITUDE = 8.82963
  POSITIVE_LONGITUDE_DIRECTION = EAST
  REFERENCE_LATITUDE = "N/A"
  REFERENCE_LONGITUDE = "N/A"
  SAMPLE_FIRST_PIXEL = 1
  SAMPLE_LAST_PIXEL = 1649
  SAMPLE_PROJECTION_OFFSET = 1285.125
  SECOND_STANDARD_PARALLEL = "N/A"
  WESTERNMOST_LONGITUDE = 256.872
END_OBJECT = IMAGE_MAP_PROJECTION
/* The JPEG2000 image data file associated with this label. */
OBJECT = COMPRESSED_FILE
  FILE_NAME = "H2054_0001_P13.JP2"
  RECORD_TYPE = UNDEFINED
  FILE_RECORDS = UNK
  ENCODING_TYPE = "JP2"
  INTERCHANGE_FORMAT = BINARY
  UNCOMPRESSED_FILE_NAME = "H2054_0001_P13.IMG"
  REQUIRED_STORAGE_BYTES = "17428281"
  ^DESCRIPTION = "JP2INFO.TXT"
END_OBJECT = COMPRESSED_FILE
END
