PDS_VERSION_ID = PDS3
/* FILE DATA ELEMENTS */
RECORD_TYPE = STREAM
/* POINTERS TO DATA OBJECTS */
^COMPRESSED_FILE = "H2055_0000_S23.JP2"
/* IDENTIFICATION DATA ELEMENTS */
DATA_SET_ID = "MEX-M-HRSC-5-REFDR-MAPPROJECTED-V3.0"
DATA_SET_NAME = "MARS EXPRESS HRSC MAP PROJECTED REFDR V3.0"
DETECTOR_ID = MEX_HRSC_S2
EVENT_TYPE = "MARS-REGIONAL-MAPPING-Im-Fl"
INSTRUMENT_HOST_ID = MEX
INSTRUMENT_HOST_NAME = "MARS EXPRESS"
INSTRUMENT_ID = HRSC
INSTRUMENT_NAME = "HIGH RESOLUTION STEREO CAMERA"
MISSION_NAME = "MARS EXPRESS"
MISSION_PHASE_NAME = MR_Phase_7
PROCESSING_LEVEL_ID = 3
PRODUCT_CREATION_TIME = 2016-03-10T10:27:20.000Z
PRODUCT_ID = "H2055_0000_S23.JP2"
RELEASE_ID = 0026
REVISION_ID = 0000
/* QUALITY DATA ELEMENTS */
DATA_QUALITY_ID = 1
DATA_QUALITY_DESC = "Data calculated based on original SPICE kernels"
/* TIME DATA ELEMENTS */
SPACECRAFT_CLOCK_START_COUNT = "1/0072676268.57936"
SPACECRAFT_CLOCK_STOP_COUNT = "1/0072676499.42332"
START_TIME = 2005-08-21T03:51:16.059Z
STOP_TIME = 2005-08-21T03:53:54.200Z
/* ORBITAL DATA ELEMENTS */
ASCENDING_NODE_LONGITUDE = 185.17
MAXIMUM_RESOLUTION = 29.2
FOOTPRINT_POINT_LATITUDE = (-25.7559,-25.7599,-25.763,-25.7652, -25.7666,-25.7465,-25.2943,-25.1035, -24.9207,-24.7376,-24.5544,-24.2822, -24.0115,-23.7323,-23.5476,-23.3538, -23.1673,-22.9812,-22.7953,-22.6101, -22.3356,-22.1487,-21.9613,-21.7707, -21.5851,-21.3964,-21.2066,-21.0186, -20.83,-20.6407,-20.3537,-20.1574, -19.9668,-19.7771,-19.5927,-19.3999, -19.2079,-19.0167,-18.8248,-18.6324, -18.4401,-18.2464,-18.0525,-17.7618, -17.57,-17.3763,-17.1774,-16.9769, -16.7816,-16.5885,-16.4005,-16.2954, -16.2869,-16.2826,-16.2763,-16.3691, -16.5644,-16.7601,-17.053,-17.3455, -17.5395,-17.7329,-18.0231,-18.2168, -18.4099,-18.6025,-18.7954,-18.9891, -19.2782,-19.5647,-19.85,-20.0409, -20.2313,-20.4213,-20.6107,-20.8017, -21.089,-21.3731,-21.5627,-21.7509, -22.0315,-22.2193,-22.4077,-22.689, -22.8748,-23.0619,-23.25,-23.4366, -23.6216,-23.8078,-23.9929,-24.1766, -24.3594,-24.5417,-24.7249,-24.9084, -25.091,-25.2729,-25.6364,-25.7559)
FOOTPRINT_POINT_LONGITUDE = (159.959,159.698,159.437,159.177, 158.918,158.489,158.505,158.51,158.516, 158.522,158.528,158.537,158.547,158.555 ,158.56,158.564,158.57,158.575,158.58, 158.586,158.594,158.599,158.604,158.609 ,158.614,158.619,158.623,158.628, 158.633,158.637,158.643,158.647,158.651 ,158.655,158.66,158.664,158.668,158.672 ,158.676,158.68,158.684,158.687,158.691 ,158.696,158.7,158.703,158.706,158.709, 158.712,158.715,158.719,159.047,159.303 ,159.499,159.782,159.986,159.989, 159.992,159.997,160.002,160.005,160.009 ,160.014,160.018,160.021,160.025, 160.028,160.031,160.036,160.042,160.049 ,160.053,160.056,160.06,160.065,160.068 ,160.073,160.078,160.082,160.086, 160.093,160.097,160.101,160.107,160.111 ,160.115,160.118,160.122,160.127, 160.131,160.135,160.14,160.145,160.151, 160.155,160.16,160.165,160.17,160.18, 159.959)
ORBIT_NUMBER = 2055
ORBITAL_ECCENTRICITY = 0.572
ORBITAL_INCLINATION = 86.62
ORBITAL_SEMIMAJOR_AXIS = 8620.98
PERIAPSIS_ALTITUDE = 290.64
PERIAPSIS_ARGUMENT_ANGLE = 357.29
PERIAPSIS_TIME = 2005-08-21T03:57:52.000Z
SPACECRAFT_ORIENTATION = (0.0,1.0,0.0)
^MEX_ORIENTATION_DESC = "MEX_ORIENTATION_DESC.TXT"
SPACECRAFT_POINTING_MODE = ACROSSTRACK
^MEX_POINTING_DESC = "MEX_POINTING_DESC.TXT"
RIGHT_ASCENSION = -1e+32
DECLINATION = -1e+32
OFFSET_ANGLE = -0.3
SPACECRAFT_SOLAR_DISTANCE = 2.07912e+08
TARGET_NAME = MARS
/* CAMERA DATA ELEMENTS */
DETECTOR_TEMPERATURE = 18.9822
FOCAL_PLANE_TEMPERATURE = 10.0106
INST_CMPRS_NAME = "DISCRETE COSINE TRANSFORMATION (DCT)"
INST_CMPRS_RATIO = 9.81186
INST_CMPRS_QUALITY = 0
INST_CMPRS_QUANTZ_TBL_ID = 0
INSTRUMENT_TEMPERATURE = 11.6418
LENS_TEMPERATURE = 10.4184
MACROPIXEL_SIZE = 2
MISSING_FRAMES = 0
PIXEL_SUBSAMPLING_FLAG = N
SIGNAL_CHAIN_ID = 1
/* RADIOMETRIC DATA ELEMENTS */
BANDWIDTH = 178.0
CENTER_FILTER_WAVELENGTH = 679.0
RADIANCE_OFFSET = 5.77392
RADIANCE_SCALING_FACTOR = 0.0226428
REFLECTANCE_SCALING_FACTOR = 0.000518346
MEX:REFLECTANCE_OFFSET = 0.132178
/* IMAGE OBJECT DEFINITIONS */
OBJECT = IMAGE
  INTERCHANGE_FORMAT = BINARY
  LINES = 17634
  LINE_SAMPLES = 3516
  SAMPLE_TYPE = UNSIGNED_INTEGER
  SAMPLE_BITS = 8
  BANDS = 1
  BAND_STORAGE_TYPE = BAND_SEQUENTIAL
  MAXIMUM = 176
  MEAN = 125.58
  MINIMUM = 80
  STANDARD_DEVIATION = 13.129
END_OBJECT = IMAGE
/* MAP OBJECT DEFINITIONS */
OBJECT = IMAGE_MAP_PROJECTION
  ^DATA_SET_MAP_PROJECTION_CATALOG= "DSMAP.CAT"
  A_AXIS_RADIUS = 3396.0
  B_AXIS_RADIUS = 3396.0
  C_AXIS_RADIUS = 3396.0
  CENTER_LATITUDE = 0.0
  CENTER_LONGITUDE = 159.0
  COORDINATE_SYSTEM_NAME = PLANETOGRAPHIC
  COORDINATE_SYSTEM_TYPE = "BODY-FIXED ROTATING"
  EASTERNMOST_LONGITUDE = 160.18
  FIRST_STANDARD_PARALLEL = "N/A"
  LINE_FIRST_PIXEL = 1
  LINE_LAST_PIXEL = 17634
  LINE_PROJECTION_OFFSET = -43358.75
  MAP_PROJECTION_ROTATION = 0.0
  MAP_PROJECTION_TYPE = SINUSOIDAL
  MAP_RESOLUTION = 2370.85521546667
  MAP_SCALE = 0.025
  MAXIMUM_LATITUDE = -16.2763
  MINIMUM_LATITUDE = -25.7666
  POSITIVE_LONGITUDE_DIRECTION = EAST
  REFERENCE_LATITUDE = "N/A"
  REFERENCE_LONGITUDE = "N/A"
  SAMPLE_FIRST_PIXEL = 1
  SAMPLE_LAST_PIXEL = 3516
  SAMPLE_PROJECTION_OFFSET = 1014.25
  SECOND_STANDARD_PARALLEL = "N/A"
  WESTERNMOST_LONGITUDE = 158.489
END_OBJECT = IMAGE_MAP_PROJECTION
/* The JPEG2000 image data file associated with this label. */
OBJECT = COMPRESSED_FILE
  FILE_NAME = "H2055_0000_S23.JP2"
  RECORD_TYPE = UNDEFINED
  FILE_RECORDS = UNK
  ENCODING_TYPE = "JP2"
  INTERCHANGE_FORMAT = BINARY
  UNCOMPRESSED_FILE_NAME = "H2055_0000_S23.IMG"
  REQUIRED_STORAGE_BYTES = "62025756"
  ^DESCRIPTION = "JP2INFO.TXT"
END_OBJECT = COMPRESSED_FILE
END
