PDS_VERSION_ID = PDS3
/* FILE DATA ELEMENTS */
RECORD_TYPE = STREAM
/* POINTERS TO DATA OBJECTS */
^COMPRESSED_FILE = "H2055_0001_P23.JP2"
/* IDENTIFICATION DATA ELEMENTS */
DATA_SET_ID = "MEX-M-HRSC-5-REFDR-MAPPROJECTED-V3.0"
DATA_SET_NAME = "MARS EXPRESS HRSC MAP PROJECTED REFDR V3.0"
DETECTOR_ID = MEX_HRSC_P2
EVENT_TYPE = "MARS-REGIONAL-MAPPING-Te-Pf"
INSTRUMENT_HOST_ID = MEX
INSTRUMENT_HOST_NAME = "MARS EXPRESS"
INSTRUMENT_ID = HRSC
INSTRUMENT_NAME = "HIGH RESOLUTION STEREO CAMERA"
MISSION_NAME = "MARS EXPRESS"
MISSION_PHASE_NAME = MR_Phase_7
PROCESSING_LEVEL_ID = 3
PRODUCT_CREATION_TIME = 2016-03-10T10:27:20.000Z
PRODUCT_ID = "H2055_0001_P23.JP2"
RELEASE_ID = 0026
REVISION_ID = 0000
/* QUALITY DATA ELEMENTS */
DATA_QUALITY_ID = 1
DATA_QUALITY_DESC = "Data calculated based on original SPICE kernels"
/* TIME DATA ELEMENTS */
SPACECRAFT_CLOCK_START_COUNT = "1/0072676727.56177"
SPACECRAFT_CLOCK_STOP_COUNT = "1/0072676957.48301"
START_TIME = 2005-08-21T04:00:20.862Z
STOP_TIME = 2005-08-21T04:01:49.775Z
/* ORBITAL DATA ELEMENTS */
ASCENDING_NODE_LONGITUDE = 185.17
MAXIMUM_RESOLUTION = 51.8
FOOTPRINT_POINT_LATITUDE = (8.36097,8.35809,8.35546,8.3529,8.35044 ,8.34802,8.36217,8.57235,8.78225, 9.15196,9.36253,9.52036,9.72974,9.94121 ,10.1013,10.2644,10.4276,10.5364,10.645 ,10.7537,10.8624,10.971,11.0797,11.1884 ,11.3513,11.4599,11.6228,11.7856, 11.8941,12.0026,12.1708,12.283,12.3952, 12.5634,12.6755,12.7876,12.8997,13.0118 ,13.1239,13.292,13.4601,13.5721,13.6841 ,13.7963,13.9114,14.0269,14.1426, 14.2583,14.2725,14.2748,14.2781,14.2804 ,14.2827,14.2844,14.2858,14.1702, 13.9968,13.8811,13.7671,13.6552,13.5433 ,13.4313,13.3193,13.1513,12.9832, 12.8151,12.703,12.5908,12.4786,12.3103, 12.1981,12.0859,11.9755,11.867,11.7578, 11.6498,11.4869,11.378,11.2146,11.1063, 10.9974,10.8894,10.7808,10.6719,10.5631 ,10.4546,10.3459,10.2371,10.1292, 9.96896,9.8104,9.6535,9.49602,9.33843, 9.18049,8.81141,8.70452,8.59886,8.39006 ,8.36097)
FOOTPRINT_POINT_LONGITUDE = (159.735,159.559,159.394,159.229, 159.066,158.903,158.755,158.753,158.751 ,158.748,158.745,158.744,158.742, 158.739,158.738,158.736,158.734,158.733 ,158.732,158.731,158.73,158.728,158.727 ,158.726,158.724,158.723,158.721, 158.719,158.718,158.717,158.715,158.713 ,158.712,158.71,158.709,158.707,158.706 ,158.704,158.703,158.701,158.699, 158.697,158.696,158.694,158.693,158.692 ,158.69,158.689,158.849,159.034,159.277 ,159.452,159.628,159.757,159.938, 159.936,159.933,159.931,159.93,159.928, 159.926,159.925,159.923,159.921,159.919 ,159.916,159.915,159.913,159.912,159.91 ,159.908,159.907,159.906,159.904, 159.902,159.902,159.9,159.898,159.896, 159.895,159.893,159.893,159.892,159.89, 159.889,159.888,159.887,159.886,159.885 ,159.883,159.882,159.881,159.88,159.878 ,159.877,159.875,159.873,159.871, 159.871,159.735)
ORBIT_NUMBER = 2055
ORBITAL_ECCENTRICITY = 0.572
ORBITAL_INCLINATION = 86.62
ORBITAL_SEMIMAJOR_AXIS = 8620.98
PERIAPSIS_ALTITUDE = 290.64
PERIAPSIS_ARGUMENT_ANGLE = 357.29
PERIAPSIS_TIME = 2005-08-21T03:57:52.000Z
SPACECRAFT_ORIENTATION = (0.0,1.0,0.0)
^MEX_ORIENTATION_DESC = "MEX_ORIENTATION_DESC.TXT"
SPACECRAFT_POINTING_MODE = ACROSSTRACK
^MEX_POINTING_DESC = "MEX_POINTING_DESC.TXT"
RIGHT_ASCENSION = -1e+32
DECLINATION = -1e+32
OFFSET_ANGLE = -0.3
SPACECRAFT_SOLAR_DISTANCE = 2.07912e+08
TARGET_NAME = MARS
/* CAMERA DATA ELEMENTS */
DETECTOR_TEMPERATURE = 20.6134
FOCAL_PLANE_TEMPERATURE = 10.6223
INST_CMPRS_NAME = "DISCRETE COSINE TRANSFORMATION (DCT)"
INST_CMPRS_RATIO = 9.38069
INST_CMPRS_QUALITY = 0
INST_CMPRS_QUANTZ_TBL_ID = 0
INSTRUMENT_TEMPERATURE = 13.273
LENS_TEMPERATURE = 10.4184
MACROPIXEL_SIZE = 4
MISSING_FRAMES = 66
PIXEL_SUBSAMPLING_FLAG = N
SIGNAL_CHAIN_ID = 3
/* RADIOMETRIC DATA ELEMENTS */
BANDWIDTH = 177.0
CENTER_FILTER_WAVELENGTH = 676.5
RADIANCE_OFFSET = 4.96872
RADIANCE_SCALING_FACTOR = 0.0169505
REFLECTANCE_SCALING_FACTOR = 0.000388508
MEX:REFLECTANCE_OFFSET = 0.113884
/* IMAGE OBJECT DEFINITIONS */
OBJECT = IMAGE
  INTERCHANGE_FORMAT = BINARY
  LINES = 8383
  LINE_SAMPLES = 1546
  SAMPLE_TYPE = UNSIGNED_INTEGER
  SAMPLE_BITS = 8
  BANDS = 1
  BAND_STORAGE_TYPE = BAND_SEQUENTIAL
  MAXIMUM = 235
  MEAN = 171.313
  MINIMUM = 121
  STANDARD_DEVIATION = 18.5567
END_OBJECT = IMAGE
/* MAP OBJECT DEFINITIONS */
OBJECT = IMAGE_MAP_PROJECTION
  ^DATA_SET_MAP_PROJECTION_CATALOG= "DSMAP.CAT"
  A_AXIS_RADIUS = 3396.0
  B_AXIS_RADIUS = 3396.0
  C_AXIS_RADIUS = 3396.0
  CENTER_LATITUDE = 0.0
  CENTER_LONGITUDE = 159.0
  COORDINATE_SYSTEM_NAME = PLANETOGRAPHIC
  COORDINATE_SYSTEM_TYPE = "BODY-FIXED ROTATING"
  EASTERNMOST_LONGITUDE = 159.938
  FIRST_STANDARD_PARALLEL = "N/A"
  LINE_FIRST_PIXEL = 1
  LINE_LAST_PIXEL = 8383
  LINE_PROJECTION_OFFSET = 16898.625
  MAP_PROJECTION_ROTATION = 0.0
  MAP_PROJECTION_TYPE = SINUSOIDAL
  MAP_RESOLUTION = 1185.42760773333
  MAP_SCALE = 0.05
  MAXIMUM_LATITUDE = 14.2858
  MINIMUM_LATITUDE = 8.34802
  POSITIVE_LONGITUDE_DIRECTION = EAST
  REFERENCE_LATITUDE = "N/A"
  REFERENCE_LONGITUDE = "N/A"
  SAMPLE_FIRST_PIXEL = 1
  SAMPLE_LAST_PIXEL = 1546
  SAMPLE_PROJECTION_OFFSET = 395.625
  SECOND_STANDARD_PARALLEL = "N/A"
  WESTERNMOST_LONGITUDE = 158.689
END_OBJECT = IMAGE_MAP_PROJECTION
/* The JPEG2000 image data file associated with this label. */
OBJECT = COMPRESSED_FILE
  FILE_NAME = "H2055_0001_P23.JP2"
  RECORD_TYPE = UNDEFINED
  FILE_RECORDS = UNK
  ENCODING_TYPE = "JP2"
  INTERCHANGE_FORMAT = BINARY
  UNCOMPRESSED_FILE_NAME = "H2055_0001_P23.IMG"
  REQUIRED_STORAGE_BYTES = "12978670"
  ^DESCRIPTION = "JP2INFO.TXT"
END_OBJECT = COMPRESSED_FILE
END
