PDS_VERSION_ID = PDS3
/* FILE DATA ELEMENTS */
RECORD_TYPE = STREAM
/* POINTERS TO DATA OBJECTS */
^COMPRESSED_FILE = "H2055_0001_RE3.JP2"
/* IDENTIFICATION DATA ELEMENTS */
DATA_SET_ID = "MEX-M-HRSC-5-REFDR-MAPPROJECTED-V3.0"
DATA_SET_NAME = "MARS EXPRESS HRSC MAP PROJECTED REFDR V3.0"
DETECTOR_ID = MEX_HRSC_RED
EVENT_TYPE = "MARS-REGIONAL-MAPPING-Te-Pf"
INSTRUMENT_HOST_ID = MEX
INSTRUMENT_HOST_NAME = "MARS EXPRESS"
INSTRUMENT_ID = HRSC
INSTRUMENT_NAME = "HIGH RESOLUTION STEREO CAMERA"
MISSION_NAME = "MARS EXPRESS"
MISSION_PHASE_NAME = MR_Phase_7
PROCESSING_LEVEL_ID = 3
PRODUCT_CREATION_TIME = 2016-03-10T10:27:20.000Z
PRODUCT_ID = "H2055_0001_RE3.JP2"
RELEASE_ID = 0026
REVISION_ID = 0000
/* QUALITY DATA ELEMENTS */
DATA_QUALITY_ID = 1
DATA_QUALITY_DESC = "Data calculated based on original SPICE kernels"
/* TIME DATA ELEMENTS */
SPACECRAFT_CLOCK_START_COUNT = "1/0072676727.56177"
SPACECRAFT_CLOCK_STOP_COUNT = "1/0072676957.48301"
START_TIME = 2005-08-21T04:00:19.136Z
STOP_TIME = 2005-08-21T04:01:44.782Z
/* ORBITAL DATA ELEMENTS */
ASCENDING_NODE_LONGITUDE = 185.17
MAXIMUM_RESOLUTION = 105.1
FOOTPRINT_POINT_LATITUDE = (8.56064,8.55789,8.55456,8.55131, 8.54817,8.54516,8.5424,8.54023,8.70468, 8.89539,9.03165,9.32386,9.46807,9.70656 ,9.99546,10.368,10.4673,10.6165,10.7654 ,10.8647,11.0137,11.113,11.2123,11.3116 ,11.4109,11.5102,11.6095,11.7087,11.808 ,11.9071,12.056,12.1552,12.304,12.4054, 12.5079,12.6104,12.7129,12.8155,12.918, 13.0205,13.1231,13.2257,13.3282,13.482, 13.5845,13.6869,13.7898,13.8917,13.9941 ,14.0964,14.2007,14.2831,14.2859, 14.2887,14.292,14.2937,14.2955,14.2978, 14.3009,14.1423,14.0399,13.9375,13.835, 13.7326,13.6302,13.5278,13.4254,13.2716 ,13.1691,13.0666,12.9641,12.8615,12.759 ,12.6051,12.5025,12.3489,12.2001, 12.1009,11.9523,11.8526,11.7532,11.6544 ,11.5554,11.4559,11.3556,11.2562,11.108 ,10.9587,10.7607,10.6614,10.5621, 10.4129,10.0411,9.84878,9.56173,9.36985 ,9.07877,8.94067,8.7491,8.56064)
FOOTPRINT_POINT_LONGITUDE = (159.859,159.724,159.558,159.393, 159.228,159.065,158.912,158.79,158.76, 158.758,158.757,158.754,158.753,158.751 ,158.748,158.744,158.743,158.741,158.74 ,158.739,158.737,158.736,158.735, 158.734,158.733,158.732,158.73,158.729, 158.728,158.727,158.725,158.724,158.723 ,158.721,158.72,158.719,158.718,158.717 ,158.716,158.714,158.713,158.712, 158.711,158.709,158.707,158.706,158.705 ,158.704,158.702,158.701,158.7,158.777, 158.961,159.146,159.331,159.435,159.54, 159.68,159.856,159.932,159.93,159.929, 159.927,159.926,159.924,159.923,159.922 ,159.919,159.918,159.917,159.915, 159.914,159.913,159.91,159.909,159.907, 159.905,159.904,159.902,159.901,159.9, 159.899,159.898,159.897,159.895,159.894 ,159.892,159.891,159.889,159.888, 159.887,159.885,159.882,159.88,159.878, 159.876,159.874,159.872,159.871, 159.859)
ORBIT_NUMBER = 2055
ORBITAL_ECCENTRICITY = 0.572
ORBITAL_INCLINATION = 86.62
ORBITAL_SEMIMAJOR_AXIS = 8620.98
PERIAPSIS_ALTITUDE = 290.64
PERIAPSIS_ARGUMENT_ANGLE = 357.29
PERIAPSIS_TIME = 2005-08-21T03:57:52.000Z
SPACECRAFT_ORIENTATION = (0.0,1.0,0.0)
^MEX_ORIENTATION_DESC = "MEX_ORIENTATION_DESC.TXT"
SPACECRAFT_POINTING_MODE = ACROSSTRACK
^MEX_POINTING_DESC = "MEX_POINTING_DESC.TXT"
RIGHT_ASCENSION = -1e+32
DECLINATION = -1e+32
OFFSET_ANGLE = -0.3
SPACECRAFT_SOLAR_DISTANCE = 2.07912e+08
TARGET_NAME = MARS
/* CAMERA DATA ELEMENTS */
DETECTOR_TEMPERATURE = 20.6134
FOCAL_PLANE_TEMPERATURE = 10.6223
INST_CMPRS_NAME = "DISCRETE COSINE TRANSFORMATION (DCT)"
INST_CMPRS_RATIO = 20.2472
INST_CMPRS_QUALITY = 0
INST_CMPRS_QUANTZ_TBL_ID = 0
INSTRUMENT_TEMPERATURE = 13.273
LENS_TEMPERATURE = 10.4184
MACROPIXEL_SIZE = 8
MISSING_FRAMES = 51
PIXEL_SUBSAMPLING_FLAG = N
SIGNAL_CHAIN_ID = 2
/* RADIOMETRIC DATA ELEMENTS */
BANDWIDTH = 48.0
CENTER_FILTER_WAVELENGTH = 748.0
RADIANCE_OFFSET = 1.36194
RADIANCE_SCALING_FACTOR = 0.00512516
REFLECTANCE_SCALING_FACTOR = 0.000505582
MEX:REFLECTANCE_OFFSET = 0.134352
/* IMAGE OBJECT DEFINITIONS */
OBJECT = IMAGE
  INTERCHANGE_FORMAT = BINARY
  LINES = 4192
  LINE_SAMPLES = 773
  SAMPLE_TYPE = UNSIGNED_INTEGER
  SAMPLE_BITS = 8
  BANDS = 1
  BAND_STORAGE_TYPE = BAND_SEQUENTIAL
  MAXIMUM = 195
  MEAN = 139.912
  MINIMUM = 98
  STANDARD_DEVIATION = 17.4696
END_OBJECT = IMAGE
/* MAP OBJECT DEFINITIONS */
OBJECT = IMAGE_MAP_PROJECTION
  ^DATA_SET_MAP_PROJECTION_CATALOG= "DSMAP.CAT"
  A_AXIS_RADIUS = 3396.0
  B_AXIS_RADIUS = 3396.0
  C_AXIS_RADIUS = 3396.0
  CENTER_LATITUDE = 0.0
  CENTER_LONGITUDE = 159.0
  COORDINATE_SYSTEM_NAME = PLANETOGRAPHIC
  COORDINATE_SYSTEM_TYPE = "BODY-FIXED ROTATING"
  EASTERNMOST_LONGITUDE = 159.932
  FIRST_STANDARD_PARALLEL = "N/A"
  LINE_FIRST_PIXEL = 1
  LINE_LAST_PIXEL = 4192
  LINE_PROJECTION_OFFSET = 8449.0625
  MAP_PROJECTION_ROTATION = 0.0
  MAP_PROJECTION_TYPE = SINUSOIDAL
  MAP_RESOLUTION = 592.713803866667
  MAP_SCALE = 0.1
  MAXIMUM_LATITUDE = 14.3009
  MINIMUM_LATITUDE = 8.540229999999999
  POSITIVE_LONGITUDE_DIRECTION = EAST
  REFERENCE_LATITUDE = "N/A"
  REFERENCE_LONGITUDE = "N/A"
  SAMPLE_FIRST_PIXEL = 1
  SAMPLE_LAST_PIXEL = 773
  SAMPLE_PROJECTION_OFFSET = 197.5625
  SECOND_STANDARD_PARALLEL = "N/A"
  WESTERNMOST_LONGITUDE = 158.7
END_OBJECT = IMAGE_MAP_PROJECTION
/* The JPEG2000 image data file associated with this label. */
OBJECT = COMPRESSED_FILE
  FILE_NAME = "H2055_0001_RE3.JP2"
  RECORD_TYPE = UNDEFINED
  FILE_RECORDS = UNK
  ENCODING_TYPE = "JP2"
  INTERCHANGE_FORMAT = BINARY
  UNCOMPRESSED_FILE_NAME = "H2055_0001_RE3.IMG"
  REQUIRED_STORAGE_BYTES = "3258195"
  ^DESCRIPTION = "JP2INFO.TXT"
END_OBJECT = COMPRESSED_FILE
END
