PDS_VERSION_ID = PDS3
/* FILE DATA ELEMENTS */
RECORD_TYPE = STREAM
/* POINTERS TO DATA OBJECTS */
^COMPRESSED_FILE = "H2055_0001_S13.JP2"
/* IDENTIFICATION DATA ELEMENTS */
DATA_SET_ID = "MEX-M-HRSC-5-REFDR-MAPPROJECTED-V3.0"
DATA_SET_NAME = "MARS EXPRESS HRSC MAP PROJECTED REFDR V3.0"
DETECTOR_ID = MEX_HRSC_S1
EVENT_TYPE = "MARS-REGIONAL-MAPPING-Te-Pf"
INSTRUMENT_HOST_ID = MEX
INSTRUMENT_HOST_NAME = "MARS EXPRESS"
INSTRUMENT_ID = HRSC
INSTRUMENT_NAME = "HIGH RESOLUTION STEREO CAMERA"
MISSION_NAME = "MARS EXPRESS"
MISSION_PHASE_NAME = MR_Phase_7
PROCESSING_LEVEL_ID = 3
PRODUCT_CREATION_TIME = 2016-03-10T10:27:20.000Z
PRODUCT_ID = "H2055_0001_S13.JP2"
RELEASE_ID = 0026
REVISION_ID = 0000
/* QUALITY DATA ELEMENTS */
DATA_QUALITY_ID = 1
DATA_QUALITY_DESC = "Data calculated based on original SPICE kernels"
/* TIME DATA ELEMENTS */
SPACECRAFT_CLOCK_START_COUNT = "1/0072676727.56177"
SPACECRAFT_CLOCK_STOP_COUNT = "1/0072676957.48301"
START_TIME = 2005-08-21T04:00:21.008Z
STOP_TIME = 2005-08-21T04:02:42.907Z
/* ORBITAL DATA ELEMENTS */
ASCENDING_NODE_LONGITUDE = 185.17
MAXIMUM_RESOLUTION = 26.7
FOOTPRINT_POINT_LATITUDE = (5.35248,5.35665,5.36067,5.36444, 5.36799,5.37129,5.37442,5.83575,6.20896 ,6.60874,6.84881,7.10758,7.35497, 7.51973,7.68433,7.84879,8.01311,8.1773, 8.34124,8.66893,8.91951,9.08909,9.25678 ,9.42483,9.59453,9.76277,9.93015, 10.1817,10.3493,10.5167,10.6897,10.8623 ,11.0349,11.2072,11.3794,11.5513, 11.7231,11.8948,12.0662,12.2375,12.4086 ,12.5796,12.7503,12.9207,13.091,13.261, 13.4309,13.6005,13.7699,13.9393,14.2235 ,14.2202,14.2164,14.2124,14.2077, 14.2012,14.1946,14.026,13.8571,13.688, 13.5185,13.3489,13.1791,13.0092,12.839, 12.6687,12.4982,12.3275,12.0714,11.8996 ,11.7293,11.5564,11.3865,11.1285, 10.9556,10.6964,10.5235,10.3553,10.1873 ,10.018,9.85146,9.68218,9.42969,9.1763, 9.01009,8.83586,8.51133,8.3461,8.18204, 8.01807,7.85392,7.68959,7.44278,7.27823 ,7.1136,6.69396,6.21429,5.8418,5.60077, 5.35248)
FOOTPRINT_POINT_LONGITUDE = (159.826,159.655,159.484,159.313, 159.144,158.976,158.807,158.755,158.751 ,158.746,158.744,158.741,158.738, 158.736,158.734,158.732,158.73,158.728, 158.726,158.722,158.719,158.717,158.715 ,158.713,158.711,158.708,158.706, 158.703,158.7,158.698,158.695,158.693, 158.691,158.688,158.685,158.683,158.68, 158.678,158.675,158.673,158.67,158.667, 158.665,158.662,158.659,158.656,158.653 ,158.651,158.648,158.645,158.691, 158.897,159.103,159.284,159.492,159.753 ,159.98,159.977,159.974,159.97,159.967, 159.964,159.961,159.958,159.955,159.953 ,159.95,159.947,159.943,159.94,159.937, 159.935,159.931,159.928,159.925,159.922 ,159.92,159.917,159.915,159.914,159.911 ,159.91,159.907,159.904,159.901,159.901 ,159.896,159.895,159.893,159.891,159.89 ,159.888,159.886,159.884,159.883, 159.879,159.875,159.872,159.871, 159.826)
ORBIT_NUMBER = 2055
ORBITAL_ECCENTRICITY = 0.572
ORBITAL_INCLINATION = 86.62
ORBITAL_SEMIMAJOR_AXIS = 8620.98
PERIAPSIS_ALTITUDE = 290.64
PERIAPSIS_ARGUMENT_ANGLE = 357.29
PERIAPSIS_TIME = 2005-08-21T03:57:52.000Z
SPACECRAFT_ORIENTATION = (0.0,1.0,0.0)
^MEX_ORIENTATION_DESC = "MEX_ORIENTATION_DESC.TXT"
SPACECRAFT_POINTING_MODE = ACROSSTRACK
^MEX_POINTING_DESC = "MEX_POINTING_DESC.TXT"
RIGHT_ASCENSION = -1e+32
DECLINATION = -1e+32
OFFSET_ANGLE = -0.3
SPACECRAFT_SOLAR_DISTANCE = 2.07912e+08
TARGET_NAME = MARS
/* CAMERA DATA ELEMENTS */
DETECTOR_TEMPERATURE = 19.1861
FOCAL_PLANE_TEMPERATURE = 10.6223
INST_CMPRS_NAME = "DISCRETE COSINE TRANSFORMATION (DCT)"
INST_CMPRS_RATIO = 8.86775
INST_CMPRS_QUALITY = 0
INST_CMPRS_QUANTZ_TBL_ID = 0
INSTRUMENT_TEMPERATURE = 13.273
LENS_TEMPERATURE = 10.4184
MACROPIXEL_SIZE = 2
MISSING_FRAMES = 152
PIXEL_SUBSAMPLING_FLAG = N
SIGNAL_CHAIN_ID = 1
/* RADIOMETRIC DATA ELEMENTS */
BANDWIDTH = 180.0
CENTER_FILTER_WAVELENGTH = 677.0
RADIANCE_OFFSET = 5.60772
RADIANCE_SCALING_FACTOR = 0.0184799
REFLECTANCE_SCALING_FACTOR = 0.000416776
MEX:REFLECTANCE_OFFSET = 0.126471
/* IMAGE OBJECT DEFINITIONS */
OBJECT = IMAGE
  INTERCHANGE_FORMAT = BINARY
  LINES = 16766
  LINE_SAMPLES = 3092
  SAMPLE_TYPE = UNSIGNED_INTEGER
  SAMPLE_BITS = 8
  BANDS = 1
  BAND_STORAGE_TYPE = BAND_SEQUENTIAL
  MAXIMUM = 237
  MEAN = 170.357
  MINIMUM = 117
  STANDARD_DEVIATION = 21.8519
END_OBJECT = IMAGE
/* MAP OBJECT DEFINITIONS */
OBJECT = IMAGE_MAP_PROJECTION
  ^DATA_SET_MAP_PROJECTION_CATALOG= "DSMAP.CAT"
  A_AXIS_RADIUS = 3396.0
  B_AXIS_RADIUS = 3396.0
  C_AXIS_RADIUS = 3396.0
  CENTER_LATITUDE = 0.0
  CENTER_LONGITUDE = 159.0
  COORDINATE_SYSTEM_NAME = PLANETOGRAPHIC
  COORDINATE_SYSTEM_TYPE = "BODY-FIXED ROTATING"
  EASTERNMOST_LONGITUDE = 159.98
  FIRST_STANDARD_PARALLEL = "N/A"
  LINE_FIRST_PIXEL = 1
  LINE_LAST_PIXEL = 16766
  LINE_PROJECTION_OFFSET = 33797.75
  MAP_PROJECTION_ROTATION = 0.0
  MAP_PROJECTION_TYPE = SINUSOIDAL
  MAP_RESOLUTION = 2370.85521546667
  MAP_SCALE = 0.025
  MAXIMUM_LATITUDE = 14.2235
  MINIMUM_LATITUDE = 5.35248
  POSITIVE_LONGITUDE_DIRECTION = EAST
  REFERENCE_LATITUDE = "N/A"
  REFERENCE_LONGITUDE = "N/A"
  SAMPLE_FIRST_PIXEL = 1
  SAMPLE_LAST_PIXEL = 3092
  SAMPLE_PROJECTION_OFFSET = 791.75
  SECOND_STANDARD_PARALLEL = "N/A"
  WESTERNMOST_LONGITUDE = 158.645
END_OBJECT = IMAGE_MAP_PROJECTION
/* The JPEG2000 image data file associated with this label. */
OBJECT = COMPRESSED_FILE
  FILE_NAME = "H2055_0001_S13.JP2"
  RECORD_TYPE = UNDEFINED
  FILE_RECORDS = UNK
  ENCODING_TYPE = "JP2"
  INTERCHANGE_FORMAT = BINARY
  UNCOMPRESSED_FILE_NAME = "H2055_0001_S13.IMG"
  REQUIRED_STORAGE_BYTES = "51862116"
  ^DESCRIPTION = "JP2INFO.TXT"
END_OBJECT = COMPRESSED_FILE
END
