PDS_VERSION_ID = PDS3
/* FILE DATA ELEMENTS */
RECORD_TYPE = STREAM
/* POINTERS TO DATA OBJECTS */
^COMPRESSED_FILE = "H2056_0000_P13.JP2"
/* IDENTIFICATION DATA ELEMENTS */
DATA_SET_ID = "MEX-M-HRSC-5-REFDR-MAPPROJECTED-V3.0"
DATA_SET_NAME = "MARS EXPRESS HRSC MAP PROJECTED REFDR V3.0"
DETECTOR_ID = MEX_HRSC_P1
EVENT_TYPE = "MARS-REGIONAL-MAPPING-Im-Lc-Eo"
INSTRUMENT_HOST_ID = MEX
INSTRUMENT_HOST_NAME = "MARS EXPRESS"
INSTRUMENT_ID = HRSC
INSTRUMENT_NAME = "HIGH RESOLUTION STEREO CAMERA"
MISSION_NAME = "MARS EXPRESS"
MISSION_PHASE_NAME = MR_Phase_7
PROCESSING_LEVEL_ID = 3
PRODUCT_CREATION_TIME = 2016-03-10T10:27:20.000Z
PRODUCT_ID = "H2056_0000_P13.JP2"
RELEASE_ID = 0026
REVISION_ID = 0000
/* QUALITY DATA ELEMENTS */
DATA_QUALITY_ID = 1
DATA_QUALITY_DESC = "Data calculated based on original SPICE kernels"
/* TIME DATA ELEMENTS */
SPACECRAFT_CLOCK_START_COUNT = "1/0072699998.57157"
SPACECRAFT_CLOCK_STOP_COUNT = "1/0072700557.16647"
START_TIME = 2005-08-21T10:29:20.321Z
STOP_TIME = 2005-08-21T10:35:50.875Z
/* ORBITAL DATA ELEMENTS */
ASCENDING_NODE_LONGITUDE = 185.16
MAXIMUM_RESOLUTION = 30.8
FOOTPRINT_POINT_LATITUDE = (-48.28,-48.2627,-48.2363,-48.2198, -47.635,-47.0027,-46.3756,-45.7604, -45.1529,-44.5547,-43.9653,-43.3829, -42.8089,-42.243,-41.6842,-41.1325, -40.5879,-40.0513,-39.5224,-39.0, -38.4811,-37.9713,-37.4661,-36.9676, -36.4739,-35.992,-35.5109,-35.0341, -34.5651,-33.8691,-33.1843,-32.7326, -32.2883,-31.8462,-31.4075,-30.9748, -30.3356,-29.6993,-29.276,-28.8629, -28.2495,-27.8509,-27.4522,-26.8616, -26.4718,-26.0809,-25.689,-25.2965, -24.9063,-24.5119,-24.1183,-24.0631, -24.0568,-24.444,-24.8403,-25.2333, -25.6254,-26.2132,-26.6024,-26.993, -27.5888,-27.9868,-28.3927,-28.8051, -29.4291,-29.8493,-30.2721,-30.7011, -31.3528,-31.7901,-32.2317,-32.6755, -33.1284,-33.8149,-34.511,-34.9786, -35.4563,-35.9373,-36.4256,-36.9193, -37.4185,-37.9231,-38.4369,-38.9561, -39.481,-40.0125,-40.5503,-41.0962, -41.6503,-42.2105,-42.779,-43.3561, -43.9416,-44.5346,-45.1364,-45.7465, -46.3662,-46.9923,-47.6326,-48.28)
FOOTPRINT_POINT_LONGITUDE = (60.4282,59.3449,58.2173,57.6483, 57.3277,57.4222,57.5168,57.6035,57.6865 ,57.7643,57.8376,57.9083,57.9752, 58.0387,58.0996,58.1581,58.2142,58.2668 ,58.3156,58.3622,58.4094,58.4524, 58.4964,58.5369,58.576,58.6084,58.6446, 58.6783,58.7109,58.7582,58.8028,58.8304 ,58.8583,58.8846,58.9138,58.9373, 58.9716,59.0123,59.0393,59.0642,59.0942 ,59.1118,59.1284,59.1557,59.1712, 59.1869,59.2027,59.2183,59.2304,59.2463 ,59.2604,59.9189,60.4084,60.7206, 60.7241,60.7277,60.7313,60.7368,60.7406 ,60.7443,60.75,60.7539,60.7578,60.7619, 60.7682,60.7725,60.7769,60.7813,60.7883 ,60.793,60.7977,60.8024,60.8072,60.8147 ,60.8223,60.8271,60.8323,60.8376,60.843 ,60.8483,60.8538,60.8593,60.8651, 60.8708,60.8765,60.8823,60.8881,60.8941 ,60.9002,60.9061,60.9122,60.9185, 60.9247,60.9309,60.9371,60.9432,60.9495 ,60.9552,60.9617,60.4282)
ORBIT_NUMBER = 2056
ORBITAL_ECCENTRICITY = 0.573
ORBITAL_INCLINATION = 86.63
ORBITAL_SEMIMAJOR_AXIS = 8628.81
PERIAPSIS_ALTITUDE = 289.69
PERIAPSIS_ARGUMENT_ANGLE = 357.1
PERIAPSIS_TIME = 2005-08-21T10:40:54.000Z
SPACECRAFT_ORIENTATION = (0.0,1.0,0.0)
^MEX_ORIENTATION_DESC = "MEX_ORIENTATION_DESC.TXT"
SPACECRAFT_POINTING_MODE = ACROSSTRACK
^MEX_POINTING_DESC = "MEX_POINTING_DESC.TXT"
RIGHT_ASCENSION = -1e+32
DECLINATION = -1e+32
OFFSET_ANGLE = 0.7
SPACECRAFT_SOLAR_DISTANCE = 2.07933e+08
TARGET_NAME = MARS
/* CAMERA DATA ELEMENTS */
DETECTOR_TEMPERATURE = 18.1666
FOCAL_PLANE_TEMPERATURE = 10.2145
INST_CMPRS_NAME = "DISCRETE COSINE TRANSFORMATION (DCT)"
INST_CMPRS_RATIO = 11.205
INST_CMPRS_QUALITY = 0
INST_CMPRS_QUANTZ_TBL_ID = 0
INSTRUMENT_TEMPERATURE = 11.8457
LENS_TEMPERATURE = 10.6223
MACROPIXEL_SIZE = 2
MISSING_FRAMES = 0
PIXEL_SUBSAMPLING_FLAG = N
SIGNAL_CHAIN_ID = 3
/* RADIOMETRIC DATA ELEMENTS */
BANDWIDTH = 174.0
CENTER_FILTER_WAVELENGTH = 675.0
RADIANCE_OFFSET = 5.67585
RADIANCE_SCALING_FACTOR = 0.0222582
REFLECTANCE_SCALING_FACTOR = 0.00051763
MEX:REFLECTANCE_OFFSET = 0.131996
/* IMAGE OBJECT DEFINITIONS */
OBJECT = IMAGE
  INTERCHANGE_FORMAT = BINARY
  LINES = 57695
  LINE_SAMPLES = 6340
  SAMPLE_TYPE = UNSIGNED_INTEGER
  SAMPLE_BITS = 8
  BANDS = 1
  BAND_STORAGE_TYPE = BAND_SEQUENTIAL
  MAXIMUM = 275
  MEAN = 220.551
  MINIMUM = 130
  STANDARD_DEVIATION = 33.2064
END_OBJECT = IMAGE
/* MAP OBJECT DEFINITIONS */
OBJECT = IMAGE_MAP_PROJECTION
  ^DATA_SET_MAP_PROJECTION_CATALOG= "DSMAP.CAT"
  A_AXIS_RADIUS = 3396.0
  B_AXIS_RADIUS = 3396.0
  C_AXIS_RADIUS = 3396.0
  CENTER_LATITUDE = 0.0
  CENTER_LONGITUDE = 60.0
  COORDINATE_SYSTEM_NAME = PLANETOGRAPHIC
  COORDINATE_SYSTEM_TYPE = "BODY-FIXED ROTATING"
  EASTERNMOST_LONGITUDE = 60.9617
  FIRST_STANDARD_PARALLEL = "N/A"
  LINE_FIRST_PIXEL = 1
  LINE_LAST_PIXEL = 57695
  LINE_PROJECTION_OFFSET = -57049.75
  MAP_PROJECTION_ROTATION = 0.0
  MAP_PROJECTION_TYPE = SINUSOIDAL
  MAP_RESOLUTION = 2370.85521546667
  MAP_SCALE = 0.025
  MAXIMUM_LATITUDE = -24.0568
  MINIMUM_LATITUDE = -48.28
  POSITIVE_LONGITUDE_DIRECTION = EAST
  REFERENCE_LATITUDE = "N/A"
  REFERENCE_LONGITUDE = "N/A"
  SAMPLE_FIRST_PIXEL = 1
  SAMPLE_LAST_PIXEL = 6340
  SAMPLE_PROJECTION_OFFSET = 4576.25
  SECOND_STANDARD_PARALLEL = "N/A"
  WESTERNMOST_LONGITUDE = 57.3277
END_OBJECT = IMAGE_MAP_PROJECTION
/* The JPEG2000 image data file associated with this label. */
OBJECT = COMPRESSED_FILE
  FILE_NAME = "H2056_0000_P13.JP2"
  RECORD_TYPE = UNDEFINED
  FILE_RECORDS = UNK
  ENCODING_TYPE = "JP2"
  INTERCHANGE_FORMAT = BINARY
  UNCOMPRESSED_FILE_NAME = "H2056_0000_P13.IMG"
  REQUIRED_STORAGE_BYTES = "365818000"
  ^DESCRIPTION = "JP2INFO.TXT"
END_OBJECT = COMPRESSED_FILE
END
