PDS_VERSION_ID = PDS3
/* FILE DATA ELEMENTS */
RECORD_TYPE = STREAM
/* POINTERS TO DATA OBJECTS */
^COMPRESSED_FILE = "H2057_0000_P13.JP2"
/* IDENTIFICATION DATA ELEMENTS */
DATA_SET_ID = "MEX-M-HRSC-5-REFDR-MAPPROJECTED-V3.0"
DATA_SET_NAME = "MARS EXPRESS HRSC MAP PROJECTED REFDR V3.0"
DETECTOR_ID = MEX_HRSC_P1
EVENT_TYPE = "MARS-REGIONAL-MAPPING-Fl"
INSTRUMENT_HOST_ID = MEX
INSTRUMENT_HOST_NAME = "MARS EXPRESS"
INSTRUMENT_ID = HRSC
INSTRUMENT_NAME = "HIGH RESOLUTION STEREO CAMERA"
MISSION_NAME = "MARS EXPRESS"
MISSION_PHASE_NAME = MR_Phase_7
PROCESSING_LEVEL_ID = 3
PRODUCT_CREATION_TIME = 2016-03-10T10:27:20.000Z
PRODUCT_ID = "H2057_0000_P13.JP2"
RELEASE_ID = 0026
REVISION_ID = 0000
/* QUALITY DATA ELEMENTS */
DATA_QUALITY_ID = 1
DATA_QUALITY_DESC = "Data calculated based on original SPICE kernels"
/* TIME DATA ELEMENTS */
SPACECRAFT_CLOCK_START_COUNT = "1/0072724947.56200"
SPACECRAFT_CLOCK_STOP_COUNT = "1/0072725166.62993"
START_TIME = 2005-08-21T17:23:18.140Z
STOP_TIME = 2005-08-21T17:26:02.900Z
/* ORBITAL DATA ELEMENTS */
ASCENDING_NODE_LONGITUDE = 185.14
MAXIMUM_RESOLUTION = 23.9
FOOTPRINT_POINT_LATITUDE = (-6.70615,-6.71023,-6.7319,-6.39228, -6.17583,-5.96,-5.74392,-5.52799, -5.31215,-5.09733,-4.88105,-4.66564, -4.45019,-4.2349,-4.01942,-3.80426, -3.58889,-3.37347,-3.0512,-2.83632, -2.51413,-2.29935,-2.08473,-1.87025, -1.65605,-1.33938,-1.12739,-0.91417, -0.595156,-0.38237,-0.169852,0.0439884, 0.258252,0.474706,0.690359,1.00934, 1.34864,1.56859,1.78976,2.01042,2.22812 ,2.45166,2.78214,3.00156,3.22144, 3.44106,3.66089,3.88097,4.09919,4.12983 ,4.13338,4.14306,4.03521,3.81597, 3.48654,3.26682,3.0467,2.82707,2.60647, 2.27591,2.05531,1.83442,1.61372,1.39266 ,1.17077,0.836427,0.622544,0.302527, 0.0982767,-0.114225,-0.327667,-0.541169 ,-0.755116,-1.07634,-1.29052,-1.50485, -1.7194,-1.93395,-2.14873,-2.3635, -2.57837,-2.79341,-3.1157,-3.33143, -3.54676,-3.76085,-3.9763,-4.19154, -4.40681,-4.62222,-4.83759,-5.05251, -5.2777,-5.59944,-5.81571,-6.0381, -6.25509,-6.4737,-6.68962,-6.70615)
FOOTPRINT_POINT_LONGITUDE = (322.324,322.005,321.766,321.778, 321.778,321.778,321.779,321.779,321.779 ,321.778,321.778,321.778,321.778, 321.777,321.777,321.776,321.776,321.776 ,321.775,321.774,321.773,321.772, 321.771,321.771,321.77,321.765,321.762, 321.76,321.757,321.755,321.753,321.752, 321.751,321.752,321.753,321.75,321.753, 321.75,321.749,321.747,321.743,321.744, 321.741,321.739,321.737,321.735,321.733 ,321.731,321.728,322.01,322.242,322.577 ,322.808,322.807,322.806,322.805, 322.805,322.804,322.803,322.802,322.802 ,322.801,322.801,322.8,322.8,322.802, 322.802,322.802,322.799,322.799,322.799 ,322.798,322.798,322.798,322.798, 322.798,322.799,322.799,322.799,322.799 ,322.8,322.8,322.8,322.801,322.801, 322.801,322.802,322.802,322.803,322.803 ,322.804,322.804,322.807,322.808, 322.809,322.811,322.812,322.813,322.814 ,322.324)
ORBIT_NUMBER = 2057
ORBITAL_ECCENTRICITY = 0.572
ORBITAL_INCLINATION = 86.63
ORBITAL_SEMIMAJOR_AXIS = 8619.52
PERIAPSIS_ALTITUDE = 290.4
PERIAPSIS_ARGUMENT_ANGLE = 356.92
PERIAPSIS_TIME = 2005-08-21T17:23:57.000Z
SPACECRAFT_ORIENTATION = (0.0,1.0,0.0)
^MEX_ORIENTATION_DESC = "MEX_ORIENTATION_DESC.TXT"
SPACECRAFT_POINTING_MODE = ACROSSTRACK
^MEX_POINTING_DESC = "MEX_POINTING_DESC.TXT"
RIGHT_ASCENSION = -1e+32
DECLINATION = -1e+32
OFFSET_ANGLE = 0.25
SPACECRAFT_SOLAR_DISTANCE = 2.07953e+08
TARGET_NAME = MARS
/* CAMERA DATA ELEMENTS */
DETECTOR_TEMPERATURE = 18.1666
FOCAL_PLANE_TEMPERATURE = 10.4184
INST_CMPRS_NAME = "DISCRETE COSINE TRANSFORMATION (DCT)"
INST_CMPRS_RATIO = 9.75834
INST_CMPRS_QUALITY = 0
INST_CMPRS_QUANTZ_TBL_ID = 0
INSTRUMENT_TEMPERATURE = 13.0691
LENS_TEMPERATURE = 10.8262
MACROPIXEL_SIZE = 2
MISSING_FRAMES = 0
PIXEL_SUBSAMPLING_FLAG = N
SIGNAL_CHAIN_ID = 3
/* RADIOMETRIC DATA ELEMENTS */
BANDWIDTH = 174.0
CENTER_FILTER_WAVELENGTH = 675.0
RADIANCE_OFFSET = 4.96651
RADIANCE_SCALING_FACTOR = 0.0211302
REFLECTANCE_SCALING_FACTOR = 0.000491497
MEX:REFLECTANCE_OFFSET = 0.115523
/* IMAGE OBJECT DEFINITIONS */
OBJECT = IMAGE
  INTERCHANGE_FORMAT = BINARY
  LINES = 25749
  LINE_SAMPLES = 2717
  SAMPLE_TYPE = UNSIGNED_INTEGER
  SAMPLE_BITS = 8
  BANDS = 1
  BAND_STORAGE_TYPE = BAND_SEQUENTIAL
  MAXIMUM = 229
  MEAN = 152.495
  MINIMUM = 100
  STANDARD_DEVIATION = 15.7511
END_OBJECT = IMAGE
/* MAP OBJECT DEFINITIONS */
OBJECT = IMAGE_MAP_PROJECTION
  ^DATA_SET_MAP_PROJECTION_CATALOG= "DSMAP.CAT"
  A_AXIS_RADIUS = 3396.0
  B_AXIS_RADIUS = 3396.0
  C_AXIS_RADIUS = 3396.0
  CENTER_LATITUDE = 0.0
  CENTER_LONGITUDE = 322.0
  COORDINATE_SYSTEM_NAME = PLANETOGRAPHIC
  COORDINATE_SYSTEM_TYPE = "BODY-FIXED ROTATING"
  EASTERNMOST_LONGITUDE = 322.814
  FIRST_STANDARD_PARALLEL = "N/A"
  LINE_FIRST_PIXEL = 1
  LINE_LAST_PIXEL = 25749
  LINE_PROJECTION_OFFSET = 9844.25
  MAP_PROJECTION_ROTATION = 0.0
  MAP_PROJECTION_TYPE = SINUSOIDAL
  MAP_RESOLUTION = 2370.85521546667
  MAP_SCALE = 0.025
  MAXIMUM_LATITUDE = 4.14306
  MINIMUM_LATITUDE = -6.7319
  POSITIVE_LONGITUDE_DIRECTION = EAST
  REFERENCE_LATITUDE = "N/A"
  REFERENCE_LONGITUDE = "N/A"
  SAMPLE_FIRST_PIXEL = 1
  SAMPLE_LAST_PIXEL = 2717
  SAMPLE_PROJECTION_OFFSET = 753.75
  SECOND_STANDARD_PARALLEL = "N/A"
  WESTERNMOST_LONGITUDE = 321.728
END_OBJECT = IMAGE_MAP_PROJECTION
/* The JPEG2000 image data file associated with this label. */
OBJECT = COMPRESSED_FILE
  FILE_NAME = "H2057_0000_P13.JP2"
  RECORD_TYPE = UNDEFINED
  FILE_RECORDS = UNK
  ENCODING_TYPE = "JP2"
  INTERCHANGE_FORMAT = BINARY
  UNCOMPRESSED_FILE_NAME = "H2057_0000_P13.IMG"
  REQUIRED_STORAGE_BYTES = "69981769"
  ^DESCRIPTION = "JP2INFO.TXT"
END_OBJECT = COMPRESSED_FILE
END
