PDS_VERSION_ID = PDS3
/* FILE DATA ELEMENTS */
RECORD_TYPE = STREAM
/* POINTERS TO DATA OBJECTS */
^COMPRESSED_FILE = "H2059_0000_BL3.JP2"
/* IDENTIFICATION DATA ELEMENTS */
DATA_SET_ID = "MEX-M-HRSC-5-REFDR-MAPPROJECTED-V3.0"
DATA_SET_NAME = "MARS EXPRESS HRSC MAP PROJECTED REFDR V3.0"
DETECTOR_ID = MEX_HRSC_BLUE
EVENT_TYPE = "MARS-REGIONAL-MAPPING-Te-Fl-Pf"
INSTRUMENT_HOST_ID = MEX
INSTRUMENT_HOST_NAME = "MARS EXPRESS"
INSTRUMENT_ID = HRSC
INSTRUMENT_NAME = "HIGH RESOLUTION STEREO CAMERA"
MISSION_NAME = "MARS EXPRESS"
MISSION_PHASE_NAME = MR_Phase_7
PROCESSING_LEVEL_ID = 3
PRODUCT_CREATION_TIME = 2016-03-10T10:27:20.000Z
PRODUCT_ID = "H2059_0000_BL3.JP2"
RELEASE_ID = 0026
REVISION_ID = 0000
/* QUALITY DATA ELEMENTS */
DATA_QUALITY_ID = 1
DATA_QUALITY_DESC = "Data calculated based on original SPICE kernels"
/* TIME DATA ELEMENTS */
SPACECRAFT_CLOCK_START_COUNT = "1/0072773346.57168"
SPACECRAFT_CLOCK_STOP_COUNT = "1/0072773642.15815"
START_TIME = 2005-08-22T06:49:35.687Z
STOP_TIME = 2005-08-22T06:53:32.169Z
/* ORBITAL DATA ELEMENTS */
ASCENDING_NODE_LONGITUDE = 185.09
MAXIMUM_RESOLUTION = 46.3
FOOTPRINT_POINT_LATITUDE = (-5.25605,-5.25561,-5.25557,-4.9531, -4.64979,-4.19615,-3.89307,-3.58982, -3.28698,-2.98375,-2.68052,-2.37706, -2.07352,-1.7697,-1.3142,-1.01119, -0.707785,-0.253214,0.0500824,0.354704, 0.659374,0.962934,1.26552,1.56806, 2.02231,2.32552,2.79549,3.26705,3.58137 ,3.89525,4.20947,4.52341,4.83748, 5.15128,5.6217,5.93517,6.2568,6.58179, 6.90619,7.23041,7.71658,8.04018,8.36386 ,8.69327,9.02918,9.52983,9.86415, 10.1981,10.3829,10.3829,10.3826,10.3822 ,10.381,10.0471,9.7134,9.37908,9.04461, 8.70998,8.21782,7.89432,7.57038,7.24652 ,6.92223,6.59776,6.27311,5.95111, 5.63753,5.32374,5.01013,4.69601,4.38259 ,4.06865,3.59686,3.28239,2.81057, 2.49603,2.18827,1.88716,1.58298,1.28012 ,0.97672,0.672691,0.217066,-0.237762, -0.541242,-0.996309,-1.29988,-1.60327, -1.90691,-2.21112,-2.51406,-2.81779, -3.12034,-3.42377,-3.87872,-4.33305, -4.6359,-4.93838,-5.24149,-5.25605)
FOOTPRINT_POINT_LONGITUDE = (126.092,125.789,125.381,125.382, 125.381,125.382,125.382,125.381,125.381 ,125.381,125.38,125.379,125.378,125.376 ,125.373,125.373,125.371,125.37,125.369 ,125.365,125.361,125.358,125.358, 125.357,125.355,125.353,125.349,125.346 ,125.343,125.342,125.339,125.336, 125.333,125.33,125.326,125.322,125.319, 125.315,125.312,125.309,125.303,125.3, 125.296,125.292,125.285,125.281,125.276 ,125.271,125.377,125.564,125.935, 126.251,126.439,126.435,126.432,126.429 ,126.426,126.423,126.418,126.416, 126.414,126.412,126.409,126.407,126.406 ,126.404,126.402,126.4,126.399,126.397, 126.396,126.395,126.393,126.392,126.39, 126.39,126.389,126.39,126.388,126.388, 126.388,126.386,126.385,126.385,126.385 ,126.385,126.385,126.385,126.385, 126.385,126.386,126.386,126.387,126.387 ,126.388,126.39,126.391,126.392,126.393 ,126.092)
ORBIT_NUMBER = 2059
ORBITAL_ECCENTRICITY = 0.573
ORBITAL_INCLINATION = 86.61
ORBITAL_SEMIMAJOR_AXIS = 8626.68
PERIAPSIS_ALTITUDE = 290.14
PERIAPSIS_ARGUMENT_ANGLE = 356.57
PERIAPSIS_TIME = 2005-08-22T06:50:08.000Z
SPACECRAFT_ORIENTATION = (0.0,1.0,0.0)
^MEX_ORIENTATION_DESC = "MEX_ORIENTATION_DESC.TXT"
SPACECRAFT_POINTING_MODE = ACROSSTRACK
^MEX_POINTING_DESC = "MEX_POINTING_DESC.TXT"
RIGHT_ASCENSION = -1e+32
DECLINATION = -1e+32
OFFSET_ANGLE = 0.14
SPACECRAFT_SOLAR_DISTANCE = 2.07995e+08
TARGET_NAME = MARS
/* CAMERA DATA ELEMENTS */
DETECTOR_TEMPERATURE = 18.1666
FOCAL_PLANE_TEMPERATURE = 10.0106
INST_CMPRS_NAME = "DISCRETE COSINE TRANSFORMATION (DCT)"
INST_CMPRS_RATIO = 4.49077
INST_CMPRS_QUALITY = 0
INST_CMPRS_QUANTZ_TBL_ID = 0
INSTRUMENT_TEMPERATURE = 11.6418
LENS_TEMPERATURE = 10.2145
MACROPIXEL_SIZE = 4
MISSING_FRAMES = 0
PIXEL_SUBSAMPLING_FLAG = N
SIGNAL_CHAIN_ID = 2
/* RADIOMETRIC DATA ELEMENTS */
BANDWIDTH = 76.0
CENTER_FILTER_WAVELENGTH = 444.0
RADIANCE_OFFSET = 0.676443
RADIANCE_SCALING_FACTOR = 0.00172918
REFLECTANCE_SCALING_FACTOR = 7.68602e-05
MEX:REFLECTANCE_OFFSET = 0.0300672
/* IMAGE OBJECT DEFINITIONS */
OBJECT = IMAGE
  INTERCHANGE_FORMAT = BINARY
  LINES = 18524
  LINE_SAMPLES = 1451
  SAMPLE_TYPE = UNSIGNED_INTEGER
  SAMPLE_BITS = 8
  BANDS = 1
  BAND_STORAGE_TYPE = BAND_SEQUENTIAL
  MAXIMUM = 233
  MEAN = 188.244
  MINIMUM = 121
  STANDARD_DEVIATION = 7.45684
END_OBJECT = IMAGE
/* MAP OBJECT DEFINITIONS */
OBJECT = IMAGE_MAP_PROJECTION
  ^DATA_SET_MAP_PROJECTION_CATALOG= "DSMAP.CAT"
  A_AXIS_RADIUS = 3396.0
  B_AXIS_RADIUS = 3396.0
  C_AXIS_RADIUS = 3396.0
  CENTER_LATITUDE = 0.0
  CENTER_LONGITUDE = 126.0
  COORDINATE_SYSTEM_NAME = PLANETOGRAPHIC
  COORDINATE_SYSTEM_TYPE = "BODY-FIXED ROTATING"
  EASTERNMOST_LONGITUDE = 126.439
  FIRST_STANDARD_PARALLEL = "N/A"
  LINE_FIRST_PIXEL = 1
  LINE_LAST_PIXEL = 18524
  LINE_PROJECTION_OFFSET = 12292.875
  MAP_PROJECTION_ROTATION = 0.0
  MAP_PROJECTION_TYPE = SINUSOIDAL
  MAP_RESOLUTION = 1185.42760773333
  MAP_SCALE = 0.05
  MAXIMUM_LATITUDE = 10.3829
  MINIMUM_LATITUDE = -5.25605
  POSITIVE_LONGITUDE_DIRECTION = EAST
  REFERENCE_LATITUDE = "N/A"
  REFERENCE_LONGITUDE = "N/A"
  SAMPLE_FIRST_PIXEL = 1
  SAMPLE_LAST_PIXEL = 1451
  SAMPLE_PROJECTION_OFFSET = 909.375
  SECOND_STANDARD_PARALLEL = "N/A"
  WESTERNMOST_LONGITUDE = 125.271
END_OBJECT = IMAGE_MAP_PROJECTION
/* The JPEG2000 image data file associated with this label. */
OBJECT = COMPRESSED_FILE
  FILE_NAME = "H2059_0000_BL3.JP2"
  RECORD_TYPE = UNDEFINED
  FILE_RECORDS = UNK
  ENCODING_TYPE = "JP2"
  INTERCHANGE_FORMAT = BINARY
  UNCOMPRESSED_FILE_NAME = "H2059_0000_BL3.IMG"
  REQUIRED_STORAGE_BYTES = "26897187"
  ^DESCRIPTION = "JP2INFO.TXT"
END_OBJECT = COMPRESSED_FILE
END
