PDS_VERSION_ID = PDS3
/* FILE DATA ELEMENTS */
RECORD_TYPE = STREAM
/* POINTERS TO DATA OBJECTS */
^COMPRESSED_FILE = "H2059_0000_GR3.JP2"
/* IDENTIFICATION DATA ELEMENTS */
DATA_SET_ID = "MEX-M-HRSC-5-REFDR-MAPPROJECTED-V3.0"
DATA_SET_NAME = "MARS EXPRESS HRSC MAP PROJECTED REFDR V3.0"
DETECTOR_ID = MEX_HRSC_GREEN
EVENT_TYPE = "MARS-REGIONAL-MAPPING-Te-Fl-Pf"
INSTRUMENT_HOST_ID = MEX
INSTRUMENT_HOST_NAME = "MARS EXPRESS"
INSTRUMENT_ID = HRSC
INSTRUMENT_NAME = "HIGH RESOLUTION STEREO CAMERA"
MISSION_NAME = "MARS EXPRESS"
MISSION_PHASE_NAME = MR_Phase_7
PROCESSING_LEVEL_ID = 3
PRODUCT_CREATION_TIME = 2016-03-10T10:27:20.000Z
PRODUCT_ID = "H2059_0000_GR3.JP2"
RELEASE_ID = 0026
REVISION_ID = 0000
/* QUALITY DATA ELEMENTS */
DATA_QUALITY_ID = 1
DATA_QUALITY_DESC = "Data calculated based on original SPICE kernels"
/* TIME DATA ELEMENTS */
SPACECRAFT_CLOCK_START_COUNT = "1/0072773346.57168"
SPACECRAFT_CLOCK_STOP_COUNT = "1/0072773642.15815"
START_TIME = 2005-08-22T06:49:44.296Z
STOP_TIME = 2005-08-22T06:53:42.013Z
/* ORBITAL DATA ELEMENTS */
ASCENDING_NODE_LONGITUDE = 185.09
MAXIMUM_RESOLUTION = 46.2
FOOTPRINT_POINT_LATITUDE = (-5.25852,-5.25894,-5.25932,-4.95413, -4.65132,-4.3476,-4.04458,-3.74168, -3.43845,-3.13542,-2.681,-2.37237, -2.06972,-1.61613,-1.31365,-1.01069, -0.708346,-0.405655,-0.103308,0.198746, 0.499425,0.800864,1.10304,1.40493, 1.70714,2.0172,2.33004,2.79909,3.26783, 3.58005,4.04826,4.35987,4.82703,5.29371 ,5.61178,5.93385,6.25575,6.57718, 6.89854,7.21965,7.54035,7.86091,8.19138 ,8.52258,8.85352,9.18289,9.51403, 9.84374,10.1827,10.3652,10.3657,10.3661 ,10.3663,10.3663,10.1953,9.85614, 9.52622,9.19619,8.70025,8.20408,7.87317 ,7.55279,7.23185,6.75026,6.42889, 5.94595,5.62397,5.30576,4.99464,4.68359 ,4.37177,3.90394,3.43609,2.96774, 2.49889,2.18617,1.71826,1.41685,1.11506 ,0.813529,0.361373,0.0593179,-0.243468, -0.545691,-0.848486,-1.15079,-1.45332, -1.75602,-2.05808,-2.36089,-2.66958, -2.97282,-3.27629,-3.57897,-3.88213, -4.18543,-4.4887,-4.94354,-5.24675, -5.25852)
FOOTPRINT_POINT_LONGITUDE = (126.12,125.817,125.466,125.381,125.38, 125.382,125.381,125.38,125.38,125.38, 125.379,125.377,125.376,125.373,125.371 ,125.371,125.369,125.369,125.367, 125.365,125.36,125.357,125.356,125.354, 125.354,125.351,125.349,125.345,125.342 ,125.339,125.336,125.333,125.328, 125.324,125.321,125.317,125.314,125.31, 125.306,125.303,125.299,125.295,125.292 ,125.287,125.283,125.276,125.274, 125.269,125.264,125.482,125.659,125.924 ,126.122,126.298,126.442,126.439, 126.436,126.432,126.428,126.423,126.42, 126.418,126.415,126.412,126.41,126.407, 126.405,126.403,126.401,126.4,126.399, 126.397,126.395,126.393,126.391,126.39, 126.39,126.39,126.389,126.388,126.386, 126.385,126.386,126.386,126.386,126.386 ,126.385,126.385,126.384,126.385, 126.385,126.386,126.387,126.387,126.387 ,126.388,126.389,126.39,126.391,126.12)
ORBIT_NUMBER = 2059
ORBITAL_ECCENTRICITY = 0.573
ORBITAL_INCLINATION = 86.61
ORBITAL_SEMIMAJOR_AXIS = 8626.68
PERIAPSIS_ALTITUDE = 290.14
PERIAPSIS_ARGUMENT_ANGLE = 356.57
PERIAPSIS_TIME = 2005-08-22T06:50:08.000Z
SPACECRAFT_ORIENTATION = (0.0,1.0,0.0)
^MEX_ORIENTATION_DESC = "MEX_ORIENTATION_DESC.TXT"
SPACECRAFT_POINTING_MODE = ACROSSTRACK
^MEX_POINTING_DESC = "MEX_POINTING_DESC.TXT"
RIGHT_ASCENSION = -1e+32
DECLINATION = -1e+32
OFFSET_ANGLE = 0.14
SPACECRAFT_SOLAR_DISTANCE = 2.07995e+08
TARGET_NAME = MARS
/* CAMERA DATA ELEMENTS */
DETECTOR_TEMPERATURE = 18.1666
FOCAL_PLANE_TEMPERATURE = 10.0106
INST_CMPRS_NAME = "DISCRETE COSINE TRANSFORMATION (DCT)"
INST_CMPRS_RATIO = 7.10279
INST_CMPRS_QUALITY = 0
INST_CMPRS_QUANTZ_TBL_ID = 0
INSTRUMENT_TEMPERATURE = 11.6418
LENS_TEMPERATURE = 10.2145
MACROPIXEL_SIZE = 4
MISSING_FRAMES = 1
PIXEL_SUBSAMPLING_FLAG = N
SIGNAL_CHAIN_ID = 2
/* RADIOMETRIC DATA ELEMENTS */
BANDWIDTH = 88.0
CENTER_FILTER_WAVELENGTH = 538.0
RADIANCE_OFFSET = 1.76878
RADIANCE_SCALING_FACTOR = 0.00481809
REFLECTANCE_SCALING_FACTOR = 0.000179461
MEX:REFLECTANCE_OFFSET = 0.0658823
/* IMAGE OBJECT DEFINITIONS */
OBJECT = IMAGE
  INTERCHANGE_FORMAT = BINARY
  LINES = 18524
  LINE_SAMPLES = 1451
  SAMPLE_TYPE = UNSIGNED_INTEGER
  SAMPLE_BITS = 8
  BANDS = 1
  BAND_STORAGE_TYPE = BAND_SEQUENTIAL
  MAXIMUM = 288
  MEAN = 238.163
  MINIMUM = 155
  STANDARD_DEVIATION = 10.4364
END_OBJECT = IMAGE
/* MAP OBJECT DEFINITIONS */
OBJECT = IMAGE_MAP_PROJECTION
  ^DATA_SET_MAP_PROJECTION_CATALOG= "DSMAP.CAT"
  A_AXIS_RADIUS = 3396.0
  B_AXIS_RADIUS = 3396.0
  C_AXIS_RADIUS = 3396.0
  CENTER_LATITUDE = 0.0
  CENTER_LONGITUDE = 126.0
  COORDINATE_SYSTEM_NAME = PLANETOGRAPHIC
  COORDINATE_SYSTEM_TYPE = "BODY-FIXED ROTATING"
  EASTERNMOST_LONGITUDE = 126.442
  FIRST_STANDARD_PARALLEL = "N/A"
  LINE_FIRST_PIXEL = 1
  LINE_LAST_PIXEL = 18524
  LINE_PROJECTION_OFFSET = 12292.875
  MAP_PROJECTION_ROTATION = 0.0
  MAP_PROJECTION_TYPE = SINUSOIDAL
  MAP_RESOLUTION = 1185.42760773333
  MAP_SCALE = 0.05
  MAXIMUM_LATITUDE = 10.3663
  MINIMUM_LATITUDE = -5.25932
  POSITIVE_LONGITUDE_DIRECTION = EAST
  REFERENCE_LATITUDE = "N/A"
  REFERENCE_LONGITUDE = "N/A"
  SAMPLE_FIRST_PIXEL = 1
  SAMPLE_LAST_PIXEL = 1451
  SAMPLE_PROJECTION_OFFSET = 909.375
  SECOND_STANDARD_PARALLEL = "N/A"
  WESTERNMOST_LONGITUDE = 125.264
END_OBJECT = IMAGE_MAP_PROJECTION
/* The JPEG2000 image data file associated with this label. */
OBJECT = COMPRESSED_FILE
  FILE_NAME = "H2059_0000_GR3.JP2"
  RECORD_TYPE = UNDEFINED
  FILE_RECORDS = UNK
  ENCODING_TYPE = "JP2"
  INTERCHANGE_FORMAT = BINARY
  UNCOMPRESSED_FILE_NAME = "H2059_0000_GR3.IMG"
  REQUIRED_STORAGE_BYTES = "26897187"
  ^DESCRIPTION = "JP2INFO.TXT"
END_OBJECT = COMPRESSED_FILE
END
