PDS_VERSION_ID = PDS3
/* FILE DATA ELEMENTS */
RECORD_TYPE = STREAM
/* POINTERS TO DATA OBJECTS */
^COMPRESSED_FILE = "H2059_0000_ND3.JP2"
/* IDENTIFICATION DATA ELEMENTS */
DATA_SET_ID = "MEX-M-HRSC-5-REFDR-MAPPROJECTED-V3.0"
DATA_SET_NAME = "MARS EXPRESS HRSC MAP PROJECTED REFDR V3.0"
DETECTOR_ID = MEX_HRSC_NADIR
EVENT_TYPE = "MARS-REGIONAL-MAPPING-Te-Fl-Pf"
INSTRUMENT_HOST_ID = MEX
INSTRUMENT_HOST_NAME = "MARS EXPRESS"
INSTRUMENT_ID = HRSC
INSTRUMENT_NAME = "HIGH RESOLUTION STEREO CAMERA"
MISSION_NAME = "MARS EXPRESS"
MISSION_PHASE_NAME = MR_Phase_7
PROCESSING_LEVEL_ID = 3
PRODUCT_CREATION_TIME = 2016-03-10T10:27:20.000Z
PRODUCT_ID = "H2059_0000_ND3.JP2"
RELEASE_ID = 0026
REVISION_ID = 0000
/* QUALITY DATA ELEMENTS */
DATA_QUALITY_ID = 1
DATA_QUALITY_DESC = "Data calculated based on original SPICE kernels"
/* TIME DATA ELEMENTS */
SPACECRAFT_CLOCK_START_COUNT = "1/0072773346.57168"
SPACECRAFT_CLOCK_STOP_COUNT = "1/0072773642.15815"
START_TIME = 2005-08-22T06:49:40.018Z
STOP_TIME = 2005-08-22T06:53:37.009Z
/* ORBITAL DATA ELEMENTS */
ASCENDING_NODE_LONGITUDE = 185.09
MAXIMUM_RESOLUTION = 11.6
FOOTPRINT_POINT_LATITUDE = (-5.25586,-5.2559,-4.80138,-4.34693, -4.04384,-3.74071,-3.28607,-2.98294, -2.67982,-2.37374,-2.0706,-1.76742, -1.31281,-0.858366,-0.555422,-0.252584, 0.0502454,0.353251,0.656032,0.958728, 1.26118,1.71472,2.01702,2.4853,2.79896, 3.11246,3.42584,3.73906,4.05214,4.36509 ,4.67787,4.99047,5.30291,5.61515, 5.93508,6.25847,6.58169,6.90464,7.22735 ,7.54985,7.87208,8.19405,8.52673, 8.85968,9.19248,9.52465,9.85669,10.1884 ,10.3705,10.371,10.3711,10.2003,9.8686, 9.53666,9.20436,8.87179,8.53889,8.20581 ,7.88389,7.56167,7.23925,6.91655, 6.59364,6.27046,5.9471,5.6268,5.31453, 5.00213,4.68948,4.37679,4.06387,3.75075 ,3.43748,3.12403,2.81053,2.49686,2.0282 ,1.72603,1.42356,1.12105,0.666941, 0.364156,0.0614168,-0.241438,-0.544391, -0.84731,-1.30194,-1.60502,-1.90818, -2.363,-2.66913,-2.97217,-3.27535, -3.5786,-3.88175,-4.33644,-4.63952, -4.9426,-5.24564,-5.25586)
FOOTPRINT_POINT_LONGITUDE = (125.841,125.518,125.375,125.376, 125.376,125.375,125.375,125.374,125.373 ,125.372,125.371,125.369,125.366, 125.365,125.364,125.363,125.362,125.357 ,125.354,125.351,125.35,125.349,125.347 ,125.344,125.341,125.339,125.337, 125.334,125.332,125.329,125.326,125.323 ,125.32,125.317,125.313,125.31,125.306, 125.303,125.299,125.296,125.292,125.288 ,125.284,125.279,125.272,125.27,125.266 ,125.261,125.516,125.808,126.215, 126.439,126.436,126.433,126.43,126.427, 126.424,126.42,126.418,126.415,126.413, 126.411,126.409,126.407,126.405,126.403 ,126.401,126.4,126.398,126.397,126.396, 126.395,126.393,126.392,126.391,126.39, 126.389,126.39,126.389,126.388,126.386, 126.386,126.386,126.386,126.385,126.386 ,126.385,126.385,126.385,126.385, 126.385,126.386,126.387,126.387,126.388 ,126.389,126.39,126.391,126.392, 125.841)
ORBIT_NUMBER = 2059
ORBITAL_ECCENTRICITY = 0.573
ORBITAL_INCLINATION = 86.61
ORBITAL_SEMIMAJOR_AXIS = 8626.68
PERIAPSIS_ALTITUDE = 290.14
PERIAPSIS_ARGUMENT_ANGLE = 356.57
PERIAPSIS_TIME = 2005-08-22T06:50:08.000Z
SPACECRAFT_ORIENTATION = (0.0,1.0,0.0)
^MEX_ORIENTATION_DESC = "MEX_ORIENTATION_DESC.TXT"
SPACECRAFT_POINTING_MODE = ACROSSTRACK
^MEX_POINTING_DESC = "MEX_POINTING_DESC.TXT"
RIGHT_ASCENSION = -1e+32
DECLINATION = -1e+32
OFFSET_ANGLE = 0.14
SPACECRAFT_SOLAR_DISTANCE = 2.07995e+08
TARGET_NAME = MARS
/* CAMERA DATA ELEMENTS */
DETECTOR_TEMPERATURE = 18.1666
FOCAL_PLANE_TEMPERATURE = 10.0106
INST_CMPRS_NAME = "DISCRETE COSINE TRANSFORMATION (DCT)"
INST_CMPRS_RATIO = 5.46712
INST_CMPRS_QUALITY = 0
INST_CMPRS_QUANTZ_TBL_ID = 0
INSTRUMENT_TEMPERATURE = 11.6418
LENS_TEMPERATURE = 10.2145
MACROPIXEL_SIZE = 1
MISSING_FRAMES = 2
PIXEL_SUBSAMPLING_FLAG = N
SIGNAL_CHAIN_ID = 0
/* RADIOMETRIC DATA ELEMENTS */
BANDWIDTH = 177.0
CENTER_FILTER_WAVELENGTH = 677.5
RADIANCE_OFFSET = 4.83662
RADIANCE_SCALING_FACTOR = 0.0189672
REFLECTANCE_SCALING_FACTOR = 0.000435906
MEX:REFLECTANCE_OFFSET = 0.111156
/* IMAGE OBJECT DEFINITIONS */
OBJECT = IMAGE
  INTERCHANGE_FORMAT = BINARY
  LINES = 74096
  LINE_SAMPLES = 5802
  SAMPLE_TYPE = UNSIGNED_INTEGER
  SAMPLE_BITS = 8
  BANDS = 1
  BAND_STORAGE_TYPE = BAND_SEQUENTIAL
  MAXIMUM = 302
  MEAN = 227.646
  MINIMUM = 133
  STANDARD_DEVIATION = 12.9133
END_OBJECT = IMAGE
/* MAP OBJECT DEFINITIONS */
OBJECT = IMAGE_MAP_PROJECTION
  ^DATA_SET_MAP_PROJECTION_CATALOG= "DSMAP.CAT"
  A_AXIS_RADIUS = 3396.0
  B_AXIS_RADIUS = 3396.0
  C_AXIS_RADIUS = 3396.0
  CENTER_LATITUDE = 0.0
  CENTER_LONGITUDE = 126.0
  COORDINATE_SYSTEM_NAME = PLANETOGRAPHIC
  COORDINATE_SYSTEM_TYPE = "BODY-FIXED ROTATING"
  EASTERNMOST_LONGITUDE = 126.439
  FIRST_STANDARD_PARALLEL = "N/A"
  LINE_FIRST_PIXEL = 1
  LINE_LAST_PIXEL = 74096
  LINE_PROJECTION_OFFSET = 49173.0
  MAP_PROJECTION_ROTATION = 0.0
  MAP_PROJECTION_TYPE = SINUSOIDAL
  MAP_RESOLUTION = 4741.71043093333
  MAP_SCALE = 0.0125
  MAXIMUM_LATITUDE = 10.3711
  MINIMUM_LATITUDE = -5.2559
  POSITIVE_LONGITUDE_DIRECTION = EAST
  REFERENCE_LATITUDE = "N/A"
  REFERENCE_LONGITUDE = "N/A"
  SAMPLE_FIRST_PIXEL = 1
  SAMPLE_LAST_PIXEL = 5802
  SAMPLE_PROJECTION_OFFSET = 3639.0
  SECOND_STANDARD_PARALLEL = "N/A"
  WESTERNMOST_LONGITUDE = 125.261
END_OBJECT = IMAGE_MAP_PROJECTION
/* The JPEG2000 image data file associated with this label. */
OBJECT = COMPRESSED_FILE
  FILE_NAME = "H2059_0000_ND3.JP2"
  RECORD_TYPE = UNDEFINED
  FILE_RECORDS = UNK
  ENCODING_TYPE = "JP2"
  INTERCHANGE_FORMAT = BINARY
  UNCOMPRESSED_FILE_NAME = "H2059_0000_ND3.IMG"
  REQUIRED_STORAGE_BYTES = "429934002"
  ^DESCRIPTION = "JP2INFO.TXT"
END_OBJECT = COMPRESSED_FILE
END
