PDS_VERSION_ID = PDS3
/* FILE DATA ELEMENTS */
RECORD_TYPE = STREAM
/* POINTERS TO DATA OBJECTS */
^COMPRESSED_FILE = "H2059_0000_P13.JP2"
/* IDENTIFICATION DATA ELEMENTS */
DATA_SET_ID = "MEX-M-HRSC-5-REFDR-MAPPROJECTED-V3.0"
DATA_SET_NAME = "MARS EXPRESS HRSC MAP PROJECTED REFDR V3.0"
DETECTOR_ID = MEX_HRSC_P1
EVENT_TYPE = "MARS-REGIONAL-MAPPING-Te-Fl-Pf"
INSTRUMENT_HOST_ID = MEX
INSTRUMENT_HOST_NAME = "MARS EXPRESS"
INSTRUMENT_ID = HRSC
INSTRUMENT_NAME = "HIGH RESOLUTION STEREO CAMERA"
MISSION_NAME = "MARS EXPRESS"
MISSION_PHASE_NAME = MR_Phase_7
PROCESSING_LEVEL_ID = 3
PRODUCT_CREATION_TIME = 2016-03-10T10:27:20.000Z
PRODUCT_ID = "H2059_0000_P13.JP2"
RELEASE_ID = 0026
REVISION_ID = 0000
/* QUALITY DATA ELEMENTS */
DATA_QUALITY_ID = 1
DATA_QUALITY_DESC = "Data calculated based on original SPICE kernels"
/* TIME DATA ELEMENTS */
SPACECRAFT_CLOCK_START_COUNT = "1/0072773346.57168"
SPACECRAFT_CLOCK_STOP_COUNT = "1/0072773642.15815"
START_TIME = 2005-08-22T06:49:56.811Z
STOP_TIME = 2005-08-22T06:53:56.759Z
/* ORBITAL DATA ELEMENTS */
ASCENDING_NODE_LONGITUDE = 185.09
MAXIMUM_RESOLUTION = 47.5
FOOTPRINT_POINT_LATITUDE = (-5.25168,-5.25395,-5.25003,-4.94593, -4.64433,-4.33991,-4.03633,-3.7346, -3.4316,-2.97804,-2.67613,-2.37485, -2.07373,-1.77458,-1.4744,-1.17211, -0.721036,-0.419813,-0.119089,0.180947, 0.474959,0.771295,1.23297,1.54475, 1.85714,2.16578,2.47664,2.78517,3.09472 ,3.4035,3.7119,4.02106,4.3284,4.63959, 4.95816,5.27547,5.7524,6.0695,6.54351, 6.86011,7.18248,7.50916,7.83544,8.32375 ,8.64815,8.9718,9.47454,9.80874,10.1416 ,10.3463,10.3489,10.3507,10.3524, 10.3525,10.0199,9.68567,9.35166,9.01697 ,8.6908,8.36779,8.04206,7.71638,7.38964 ,6.9024,6.58631,6.26975,5.95221,5.63543 ,5.15977,4.84175,4.52243,4.21419, 3.90649,3.59969,3.29162,2.98159,2.51913 ,2.21003,1.89382,1.431,1.12026,0.816268 ,0.369487,0.0691535,-0.380358,-0.681121 ,-1.13205,-1.43286,-1.88382,-2.33591, -2.63496,-2.93809,-3.24162,-3.54319, -3.84545,-4.14879,-4.45208,-4.75595, -5.21037,-5.25168)
FOOTPRINT_POINT_LONGITUDE = (125.939,125.636,125.379,125.38,125.379 ,125.379,125.379,125.378,125.378, 125.377,125.376,125.374,125.373,125.37, 125.368,125.368,125.366,125.364,125.363 ,125.361,125.356,125.352,125.35,125.348 ,125.347,125.344,125.342,125.339, 125.337,125.334,125.331,125.329,125.326 ,125.323,125.319,125.315,125.311, 125.307,125.301,125.297,125.293,125.289 ,125.285,125.279,125.274,125.269, 125.262,125.257,125.251,125.36,125.654, 125.89,126.238,126.455,126.45,126.447, 126.443,126.44,126.436,126.433,126.43, 126.427,126.424,126.42,126.418,126.416, 126.414,126.411,126.408,126.406,126.405 ,126.404,126.402,126.4,126.398,126.398, 126.395,126.394,126.395,126.393,126.392 ,126.391,126.389,126.389,126.388, 126.388,126.387,126.387,126.386,126.386 ,126.386,126.386,126.387,126.387, 126.387,126.388,126.389,126.39,126.39, 125.939)
ORBIT_NUMBER = 2059
ORBITAL_ECCENTRICITY = 0.573
ORBITAL_INCLINATION = 86.61
ORBITAL_SEMIMAJOR_AXIS = 8626.68
PERIAPSIS_ALTITUDE = 290.14
PERIAPSIS_ARGUMENT_ANGLE = 356.57
PERIAPSIS_TIME = 2005-08-22T06:50:08.000Z
SPACECRAFT_ORIENTATION = (0.0,1.0,0.0)
^MEX_ORIENTATION_DESC = "MEX_ORIENTATION_DESC.TXT"
SPACECRAFT_POINTING_MODE = ACROSSTRACK
^MEX_POINTING_DESC = "MEX_POINTING_DESC.TXT"
RIGHT_ASCENSION = -1e+32
DECLINATION = -1e+32
OFFSET_ANGLE = 0.14
SPACECRAFT_SOLAR_DISTANCE = 2.07995e+08
TARGET_NAME = MARS
/* CAMERA DATA ELEMENTS */
DETECTOR_TEMPERATURE = 17.7588
FOCAL_PLANE_TEMPERATURE = 10.0106
INST_CMPRS_NAME = "DISCRETE COSINE TRANSFORMATION (DCT)"
INST_CMPRS_RATIO = 11.442
INST_CMPRS_QUALITY = 0
INST_CMPRS_QUANTZ_TBL_ID = 0
INSTRUMENT_TEMPERATURE = 11.6418
LENS_TEMPERATURE = 10.2145
MACROPIXEL_SIZE = 4
MISSING_FRAMES = 0
PIXEL_SUBSAMPLING_FLAG = N
SIGNAL_CHAIN_ID = 3
/* RADIOMETRIC DATA ELEMENTS */
BANDWIDTH = 174.0
CENTER_FILTER_WAVELENGTH = 675.0
RADIANCE_OFFSET = 5.44333
RADIANCE_SCALING_FACTOR = 0.0141918
REFLECTANCE_SCALING_FACTOR = 0.000330239
MEX:REFLECTANCE_OFFSET = 0.126665
/* IMAGE OBJECT DEFINITIONS */
OBJECT = IMAGE
  INTERCHANGE_FORMAT = BINARY
  LINES = 18524
  LINE_SAMPLES = 1451
  SAMPLE_TYPE = UNSIGNED_INTEGER
  SAMPLE_BITS = 8
  BANDS = 1
  BAND_STORAGE_TYPE = BAND_SEQUENTIAL
  MAXIMUM = 304
  MEAN = 251.478
  MINIMUM = 172
  STANDARD_DEVIATION = 76.5378
END_OBJECT = IMAGE
/* MAP OBJECT DEFINITIONS */
OBJECT = IMAGE_MAP_PROJECTION
  ^DATA_SET_MAP_PROJECTION_CATALOG= "DSMAP.CAT"
  A_AXIS_RADIUS = 3396.0
  B_AXIS_RADIUS = 3396.0
  C_AXIS_RADIUS = 3396.0
  CENTER_LATITUDE = 0.0
  CENTER_LONGITUDE = 126.0
  COORDINATE_SYSTEM_NAME = PLANETOGRAPHIC
  COORDINATE_SYSTEM_TYPE = "BODY-FIXED ROTATING"
  EASTERNMOST_LONGITUDE = 126.455
  FIRST_STANDARD_PARALLEL = "N/A"
  LINE_FIRST_PIXEL = 1
  LINE_LAST_PIXEL = 18524
  LINE_PROJECTION_OFFSET = 12292.875
  MAP_PROJECTION_ROTATION = 0.0
  MAP_PROJECTION_TYPE = SINUSOIDAL
  MAP_RESOLUTION = 1185.42760773333
  MAP_SCALE = 0.05
  MAXIMUM_LATITUDE = 10.3525
  MINIMUM_LATITUDE = -5.25395
  POSITIVE_LONGITUDE_DIRECTION = EAST
  REFERENCE_LATITUDE = "N/A"
  REFERENCE_LONGITUDE = "N/A"
  SAMPLE_FIRST_PIXEL = 1
  SAMPLE_LAST_PIXEL = 1451
  SAMPLE_PROJECTION_OFFSET = 909.375
  SECOND_STANDARD_PARALLEL = "N/A"
  WESTERNMOST_LONGITUDE = 125.251
END_OBJECT = IMAGE_MAP_PROJECTION
/* The JPEG2000 image data file associated with this label. */
OBJECT = COMPRESSED_FILE
  FILE_NAME = "H2059_0000_P13.JP2"
  RECORD_TYPE = UNDEFINED
  FILE_RECORDS = UNK
  ENCODING_TYPE = "JP2"
  INTERCHANGE_FORMAT = BINARY
  UNCOMPRESSED_FILE_NAME = "H2059_0000_P13.IMG"
  REQUIRED_STORAGE_BYTES = "26897187"
  ^DESCRIPTION = "JP2INFO.TXT"
END_OBJECT = COMPRESSED_FILE
END
