PDS_VERSION_ID = PDS3
/* FILE DATA ELEMENTS */
RECORD_TYPE = STREAM
/* POINTERS TO DATA OBJECTS */
^COMPRESSED_FILE = "H2059_0000_S13.JP2"
/* IDENTIFICATION DATA ELEMENTS */
DATA_SET_ID = "MEX-M-HRSC-5-REFDR-MAPPROJECTED-V3.0"
DATA_SET_NAME = "MARS EXPRESS HRSC MAP PROJECTED REFDR V3.0"
DETECTOR_ID = MEX_HRSC_S1
EVENT_TYPE = "MARS-REGIONAL-MAPPING-Te-Fl-Pf"
INSTRUMENT_HOST_ID = MEX
INSTRUMENT_HOST_NAME = "MARS EXPRESS"
INSTRUMENT_ID = HRSC
INSTRUMENT_NAME = "HIGH RESOLUTION STEREO CAMERA"
MISSION_NAME = "MARS EXPRESS"
MISSION_PHASE_NAME = MR_Phase_7
PROCESSING_LEVEL_ID = 3
PRODUCT_CREATION_TIME = 2016-03-10T10:27:20.000Z
PRODUCT_ID = "H2059_0000_S13.JP2"
RELEASE_ID = 0026
REVISION_ID = 0000
/* QUALITY DATA ELEMENTS */
DATA_QUALITY_ID = 1
DATA_QUALITY_DESC = "Data calculated based on original SPICE kernels"
/* TIME DATA ELEMENTS */
SPACECRAFT_CLOCK_START_COUNT = "1/0072773346.57168"
SPACECRAFT_CLOCK_STOP_COUNT = "1/0072773642.15815"
START_TIME = 2005-08-22T06:50:05.556Z
STOP_TIME = 2005-08-22T06:54:07.409Z
/* ORBITAL DATA ELEMENTS */
ASCENDING_NODE_LONGITUDE = 185.09
MAXIMUM_RESOLUTION = 24.5
FOOTPRINT_POINT_LATITUDE = (-5.24481,-5.24736,-5.25099,-5.24507, -4.93957,-4.63644,-4.18079,-3.72802, -3.42444,-3.12208,-2.82067,-2.51906, -2.21895,-1.91962,-1.62163,-1.32149, -1.01922,-0.721086,-0.419911,0.0298711, 0.321962,0.62416,1.0888,1.55632,1.86697 ,2.1732,2.482,2.9429,3.24975,3.55574, 3.86393,4.17827,4.49489,4.96802,5.28293 ,5.75451,6.06865,6.38329,6.70639,7.0309 ,7.51459,7.83729,8.32054,8.81802, 9.30547,9.64164,9.96994,10.1396,10.3094 ,10.334,10.3365,10.3392,10.3397,10.3407 ,10.172,10.0025,9.67167,9.34251,8.84667 ,8.51632,8.19087,7.86858,7.38437,7.0608 ,6.73757,6.25403,5.93928,5.62601, 5.31276,4.99719,4.52134,4.20509,3.88985 ,3.58609,3.28058,2.97192,2.51341, 2.20651,1.88989,1.42983,1.12035, 0.812749,0.510341,0.0545851,-0.392207, -0.692719,-1.14255,-1.59228,-1.89255, -2.18844,-2.49369,-2.79098,-3.09582, -3.39838,-3.69915,-4.00188,-4.30568, -4.76119,-5.06497,-5.24481)
FOOTPRINT_POINT_LONGITUDE = (126.117,125.87,125.553,125.374,125.375 ,125.374,125.374,125.373,125.372, 125.371,125.37,125.369,125.368,125.366, 125.363,125.362,125.361,125.358,125.357 ,125.355,125.35,125.346,125.342,125.34, 125.339,125.336,125.333,125.329,125.326 ,125.323,125.321,125.318,125.314, 125.309,125.305,125.3,125.296,125.292, 125.288,125.284,125.277,125.273,125.266 ,125.259,125.248,125.246,125.24,125.237 ,125.234,125.592,125.83,126.055,126.233 ,126.462,126.46,126.458,126.454,126.45, 126.445,126.441,126.437,126.434,126.43, 126.427,126.425,126.421,126.419,126.416 ,126.414,126.412,126.409,126.408, 126.406,126.404,126.402,126.401,126.398 ,126.397,126.398,126.396,126.395, 126.394,126.391,126.391,126.389,126.389 ,126.389,126.388,126.388,126.387, 126.387,126.387,126.387,126.388,126.388 ,126.388,126.388,126.389,126.39, 126.117)
ORBIT_NUMBER = 2059
ORBITAL_ECCENTRICITY = 0.573
ORBITAL_INCLINATION = 86.61
ORBITAL_SEMIMAJOR_AXIS = 8626.68
PERIAPSIS_ALTITUDE = 290.14
PERIAPSIS_ARGUMENT_ANGLE = 356.57
PERIAPSIS_TIME = 2005-08-22T06:50:08.000Z
SPACECRAFT_ORIENTATION = (0.0,1.0,0.0)
^MEX_ORIENTATION_DESC = "MEX_ORIENTATION_DESC.TXT"
SPACECRAFT_POINTING_MODE = ACROSSTRACK
^MEX_POINTING_DESC = "MEX_POINTING_DESC.TXT"
RIGHT_ASCENSION = -1e+32
DECLINATION = -1e+32
OFFSET_ANGLE = 0.14
SPACECRAFT_SOLAR_DISTANCE = 2.07995e+08
TARGET_NAME = MARS
/* CAMERA DATA ELEMENTS */
DETECTOR_TEMPERATURE = 17.7588
FOCAL_PLANE_TEMPERATURE = 10.0106
INST_CMPRS_NAME = "DISCRETE COSINE TRANSFORMATION (DCT)"
INST_CMPRS_RATIO = 6.81667
INST_CMPRS_QUALITY = 0
INST_CMPRS_QUANTZ_TBL_ID = 0
INSTRUMENT_TEMPERATURE = 11.6418
LENS_TEMPERATURE = 10.2145
MACROPIXEL_SIZE = 2
MISSING_FRAMES = 0
PIXEL_SUBSAMPLING_FLAG = N
SIGNAL_CHAIN_ID = 1
/* RADIOMETRIC DATA ELEMENTS */
BANDWIDTH = 180.0
CENTER_FILTER_WAVELENGTH = 677.0
RADIANCE_OFFSET = 5.96736
RADIANCE_SCALING_FACTOR = 0.016771
REFLECTANCE_SCALING_FACTOR = 0.000378535
MEX:REFLECTANCE_OFFSET = 0.134688
/* IMAGE OBJECT DEFINITIONS */
OBJECT = IMAGE
  INTERCHANGE_FORMAT = BINARY
  LINES = 37048
  LINE_SAMPLES = 2901
  SAMPLE_TYPE = UNSIGNED_INTEGER
  SAMPLE_BITS = 8
  BANDS = 1
  BAND_STORAGE_TYPE = BAND_SEQUENTIAL
  MAXIMUM = 315
  MEAN = 265.803
  MINIMUM = 171
  STANDARD_DEVIATION = 23.4755
END_OBJECT = IMAGE
/* MAP OBJECT DEFINITIONS */
OBJECT = IMAGE_MAP_PROJECTION
  ^DATA_SET_MAP_PROJECTION_CATALOG= "DSMAP.CAT"
  A_AXIS_RADIUS = 3396.0
  B_AXIS_RADIUS = 3396.0
  C_AXIS_RADIUS = 3396.0
  CENTER_LATITUDE = 0.0
  CENTER_LONGITUDE = 126.0
  COORDINATE_SYSTEM_NAME = PLANETOGRAPHIC
  COORDINATE_SYSTEM_TYPE = "BODY-FIXED ROTATING"
  EASTERNMOST_LONGITUDE = 126.462
  FIRST_STANDARD_PARALLEL = "N/A"
  LINE_FIRST_PIXEL = 1
  LINE_LAST_PIXEL = 37048
  LINE_PROJECTION_OFFSET = 24586.25
  MAP_PROJECTION_ROTATION = 0.0
  MAP_PROJECTION_TYPE = SINUSOIDAL
  MAP_RESOLUTION = 2370.85521546667
  MAP_SCALE = 0.025
  MAXIMUM_LATITUDE = 10.3407
  MINIMUM_LATITUDE = -5.25099
  POSITIVE_LONGITUDE_DIRECTION = EAST
  REFERENCE_LATITUDE = "N/A"
  REFERENCE_LONGITUDE = "N/A"
  SAMPLE_FIRST_PIXEL = 1
  SAMPLE_LAST_PIXEL = 2901
  SAMPLE_PROJECTION_OFFSET = 1819.25
  SECOND_STANDARD_PARALLEL = "N/A"
  WESTERNMOST_LONGITUDE = 125.234
END_OBJECT = IMAGE_MAP_PROJECTION
/* The JPEG2000 image data file associated with this label. */
OBJECT = COMPRESSED_FILE
  FILE_NAME = "H2059_0000_S13.JP2"
  RECORD_TYPE = UNDEFINED
  FILE_RECORDS = UNK
  ENCODING_TYPE = "JP2"
  INTERCHANGE_FORMAT = BINARY
  UNCOMPRESSED_FILE_NAME = "H2059_0000_S13.IMG"
  REQUIRED_STORAGE_BYTES = "107499456"
  ^DESCRIPTION = "JP2INFO.TXT"
END_OBJECT = COMPRESSED_FILE
END
