PDS_VERSION_ID = PDS3
/* FILE DATA ELEMENTS */
RECORD_TYPE = STREAM
/* POINTERS TO DATA OBJECTS */
^COMPRESSED_FILE = "H2060_0007_SR3.JP2"
/* IDENTIFICATION DATA ELEMENTS */
DATA_SET_ID = "MEX-M-HRSC-5-REFDR-MAPPROJECTED-V3.0"
DATA_SET_NAME = "MARS EXPRESS HRSC MAP PROJECTED REFDR V3.0"
DETECTOR_ID = MEX_HRSC_SRC
EVENT_TYPE = "MARS-LOCAL-STEREO-Lc-La-At"
INSTRUMENT_HOST_ID = MEX
INSTRUMENT_HOST_NAME = "MARS EXPRESS"
INSTRUMENT_ID = HRSC
INSTRUMENT_NAME = "HIGH RESOLUTION STEREO CAMERA"
MISSION_NAME = "MARS EXPRESS"
MISSION_PHASE_NAME = MR_Phase_7
PROCESSING_LEVEL_ID = 3
PRODUCT_CREATION_TIME = 2016-03-10T10:27:20.000Z
PRODUCT_ID = "H2060_0007_SR3.JP2"
RELEASE_ID = 0026
REVISION_ID = 0000
/* QUALITY DATA ELEMENTS */
DATA_QUALITY_ID = 1
DATA_QUALITY_DESC = "Data calculated based on original SPICE kernels"
/* TIME DATA ELEMENTS */
SPACECRAFT_CLOCK_START_COUNT = "1/0072797589.57322"
SPACECRAFT_CLOCK_STOP_COUNT = "1/0072797762.57373"
IMAGE_TIME = 2005-08-22T13:34:37.970Z
START_TIME = 2005-08-22T13:34:37.967Z
STOP_TIME = 2005-08-22T13:34:37.972Z
/* ORBITAL DATA ELEMENTS */
ASCENDING_NODE_LONGITUDE = 185.07
MAXIMUM_RESOLUTION = 2.731
FOOTPRINT_POINT_LATITUDE = (1.96744,1.96859,1.97011,1.97228, 1.97472,1.9774,1.97952,1.98118,1.98284, 1.98529,1.9869,1.9881,1.98981,1.99119, 1.99327,1.99553,1.99701,1.99876,2.00148 ,2.00402,2.0067,2.00836,2.0097,2.01122, 2.01316,2.01353,2.01353,2.01354,2.01354 ,2.01354,2.01355,2.01355,2.01355, 2.01356,2.01356,2.01356,2.01357,2.01357 ,2.01357,2.01358,2.01358,2.01358, 2.01359,2.01359,2.01359,2.0136,2.0136, 2.0136,2.01361,2.01361,2.01177,2.01053, 2.00785,2.0056,2.00366,2.00177,2.00053, 1.99906,1.99689,1.99537,1.99348,1.99201 ,1.99049,1.98901,1.98781,1.98616, 1.98431,1.98229,1.9809,1.97929,1.97703, 1.97432,1.97252,1.97012,1.96722,1.96721 ,1.96721,1.9672,1.9672,1.96719,1.96718, 1.96718,1.96717,1.96717,1.96716,1.96715 ,1.96715,1.96714,1.96713,1.96713, 1.96712,1.96712,1.96711,1.9671,1.9671, 1.96709,1.96709,1.96708,1.96707, 1.96744)
FOOTPRINT_POINT_LONGITUDE = (27.0093,27.0093,27.0093,27.0093, 27.0093,27.0093,27.0092,27.0092,27.0092 ,27.0092,27.0092,27.0092,27.0092, 27.0092,27.0092,27.0092,27.0092,27.0092 ,27.0092,27.0092,27.0092,27.0091, 27.0091,27.0091,27.0091,27.011,27.0129, 27.0148,27.0167,27.0185,27.0204,27.0223 ,27.0241,27.026,27.0279,27.0297,27.0316 ,27.0335,27.0353,27.0372,27.0391,27.041 ,27.0428,27.0447,27.0466,27.0484, 27.0503,27.0522,27.054,27.0559,27.0566, 27.0566,27.0567,27.0567,27.0567,27.0567 ,27.0567,27.0567,27.0567,27.0567, 27.0567,27.0567,27.0567,27.0567,27.0567 ,27.0567,27.0567,27.0567,27.0567, 27.0567,27.0568,27.0568,27.0568,27.0568 ,27.0563,27.0544,27.0525,27.0507, 27.0488,27.0469,27.0451,27.0432,27.0413 ,27.0395,27.0376,27.0357,27.0339,27.032 ,27.0301,27.0283,27.0264,27.0245, 27.0227,27.0208,27.0189,27.0171,27.0152 ,27.0133,27.0114,27.0093)
ORBIT_NUMBER = 2060
ORBITAL_ECCENTRICITY = 0.573
ORBITAL_INCLINATION = 86.61
ORBITAL_SEMIMAJOR_AXIS = 8627.47
PERIAPSIS_ALTITUDE = 290.06
PERIAPSIS_ARGUMENT_ANGLE = 356.4
PERIAPSIS_TIME = 2005-08-22T13:33:14.000Z
SPACECRAFT_ORIENTATION = (0.0,1.0,0.0)
^MEX_ORIENTATION_DESC = "MEX_ORIENTATION_DESC.TXT"
SPACECRAFT_POINTING_MODE = ACROSSTRACK
^MEX_POINTING_DESC = "MEX_POINTING_DESC.TXT"
RIGHT_ASCENSION = -1e+32
DECLINATION = -1e+32
OFFSET_ANGLE = 0.73
SPACECRAFT_SOLAR_DISTANCE = 2.08016e+08
TARGET_NAME = MARS
/* CAMERA DATA ELEMENTS */
BUFFER_MODE_ID = BUFFER_8
EXPOSURE_DURATION = 5.04
INST_CMPRS_NAME = NONE
INST_CMPRS_RATIO = 1.0
INST_CMPRS_QUALITY = -2147483648
INST_CMPRS_QUANTZ_TBL_ID = -2147483648
INSTRUMENT_TEMPERATURE = 11.2121
MISSING_FRAMES = 0
START_BIT = 0
/* RADIOMETRIC DATA ELEMENTS */
BANDWIDTH = 250.0
CENTER_FILTER_WAVELENGTH = 600.0
RADIANCE_OFFSET = -9.99e+31
RADIANCE_SCALING_FACTOR = -9.99e+31
REFLECTANCE_SCALING_FACTOR = -9.99e+31
MEX:REFLECTANCE_OFFSET = -9.99e+31
/* IMAGE OBJECT DEFINITIONS */
OBJECT = IMAGE
  INTERCHANGE_FORMAT = BINARY
  LINES = 1144
  LINE_SAMPLES = 1169
  SAMPLE_TYPE = UNSIGNED_INTEGER
  SAMPLE_BITS = 8
  BANDS = 1
  BAND_STORAGE_TYPE = BAND_SEQUENTIAL
  MAXIMUM = 8967
  MEAN = 8430.28
  MINIMUM = 7217
  STANDARD_DEVIATION = 123.181
END_OBJECT = IMAGE
/* MAP OBJECT DEFINITIONS */
OBJECT = IMAGE_MAP_PROJECTION
  ^DATA_SET_MAP_PROJECTION_CATALOG= "DSMAP.CAT"
  A_AXIS_RADIUS = 3396.19
  B_AXIS_RADIUS = 3396.19
  C_AXIS_RADIUS = 3396.19
  CENTER_LATITUDE = 0.0
  CENTER_LONGITUDE = 27.0
  COORDINATE_SYSTEM_NAME = PLANETOGRAPHIC
  COORDINATE_SYSTEM_TYPE = "BODY-FIXED ROTATING"
  EASTERNMOST_LONGITUDE = 27.0568
  FIRST_STANDARD_PARALLEL = "N/A"
  LINE_FIRST_PIXEL = 1
  LINE_LAST_PIXEL = 1144
  LINE_PROJECTION_OFFSET = 47761.0
  MAP_PROJECTION_ROTATION = 0.0
  MAP_PROJECTION_TYPE = SINUSOIDAL
  MAP_RESOLUTION = 23709.8786048756
  MAP_SCALE = 0.0025
  MAXIMUM_LATITUDE = 2.01361
  MINIMUM_LATITUDE = 1.96707
  POSITIVE_LONGITUDE_DIRECTION = EAST
  REFERENCE_LATITUDE = "N/A"
  REFERENCE_LONGITUDE = "N/A"
  SAMPLE_FIRST_PIXEL = 1
  SAMPLE_LAST_PIXEL = 1169
  SAMPLE_PROJECTION_OFFSET = -208.0
  SECOND_STANDARD_PARALLEL = "N/A"
  WESTERNMOST_LONGITUDE = 27.0091
END_OBJECT = IMAGE_MAP_PROJECTION
/* The JPEG2000 image data file associated with this label. */
OBJECT = COMPRESSED_FILE
  FILE_NAME = "H2060_0007_SR3.JP2"
  RECORD_TYPE = UNDEFINED
  FILE_RECORDS = UNK
  ENCODING_TYPE = "JP2"
  INTERCHANGE_FORMAT = BINARY
  UNCOMPRESSED_FILE_NAME = "H2060_0007_SR3.IMG"
  REQUIRED_STORAGE_BYTES = "1356040"
  ^DESCRIPTION = "JP2INFO.TXT"
END_OBJECT = COMPRESSED_FILE
END
