PDS_VERSION_ID = PDS3
/* FILE DATA ELEMENTS */
RECORD_TYPE = STREAM
/* POINTERS TO DATA OBJECTS */
^COMPRESSED_FILE = "H2064_0000_RE3.JP2"
/* IDENTIFICATION DATA ELEMENTS */
DATA_SET_ID = "MEX-M-HRSC-5-REFDR-MAPPROJECTED-V3.0"
DATA_SET_NAME = "MARS EXPRESS HRSC MAP PROJECTED REFDR V3.0"
DETECTOR_ID = MEX_HRSC_RED
EVENT_TYPE = "MARS-LOCAL-CARTOGRAPHY-Tc-Ot-Ts"
INSTRUMENT_HOST_ID = MEX
INSTRUMENT_HOST_NAME = "MARS EXPRESS"
INSTRUMENT_ID = HRSC
INSTRUMENT_NAME = "HIGH RESOLUTION STEREO CAMERA"
MISSION_NAME = "MARS EXPRESS"
MISSION_PHASE_NAME = MR_Phase_7
PROCESSING_LEVEL_ID = 3
PRODUCT_CREATION_TIME = 2016-03-10T10:27:20.000Z
PRODUCT_ID = "H2064_0000_RE3.JP2"
RELEASE_ID = 0026
REVISION_ID = 0000
/* QUALITY DATA ELEMENTS */
DATA_QUALITY_ID = 1
DATA_QUALITY_DESC = "Data calculated based on original SPICE kernels"
/* TIME DATA ELEMENTS */
SPACECRAFT_CLOCK_START_COUNT = "1/0072894277.57303"
SPACECRAFT_CLOCK_STOP_COUNT = "1/0072894453.15582"
START_TIME = 2005-08-23T16:24:49.563Z
STOP_TIME = 2005-08-23T16:26:50.257Z
/* ORBITAL DATA ELEMENTS */
ASCENDING_NODE_LONGITUDE = 184.99
MAXIMUM_RESOLUTION = 48.8
FOOTPRINT_POINT_LATITUDE = (-6.05781,-6.0583,-6.05876,-6.05894, -6.0586,-6.04804,-5.81079,-5.57389, -5.41601,-5.25816,-5.10048,-4.94231, -4.78462,-4.54681,-4.30864,-4.14986, -3.99051,-3.83268,-3.67458,-3.4354, -3.1968,-3.03752,-2.7997,-2.56175, -2.40306,-2.16466,-1.92588,-1.68686, -1.52747,-1.2884,-1.12897,-0.889813, -0.730265,-0.570786,-0.410492,-0.25075, -0.0915735,0.0679319,0.227636,0.387561, 0.547221,0.707111,0.867109,1.02694, 1.18695,1.42772,1.66699,1.8273,1.96506, 1.96416,1.96416,1.96438,1.96475,1.96472 ,1.80475,1.64471,1.48487,1.32462, 1.16486,1.00479,0.764831,0.524798, 0.36503,0.205496,0.0459274,-0.113769, -0.27329,-0.512433,-0.672277,-0.831888, -0.991174,-1.15057,-1.30997,-1.4695, -1.62883,-1.78817,-2.027,-2.26588, -2.42518,-2.58435,-2.74325,-2.90202, -3.06067,-3.29885,-3.45802,-3.69624, -3.85509,-4.09273,-4.33045,-4.48905, -4.64748,-4.8058,-4.96404,-5.12205, -5.28064,-5.43579,-5.59688,-5.75471, -5.9128,-6.05781)
FOOTPRINT_POINT_LONGITUDE = (355.227,355.083,354.892,354.653, 354.375,354.235,354.235,354.236,354.236 ,354.236,354.236,354.236,354.237, 354.237,354.236,354.236,354.236,354.236 ,354.236,354.236,354.235,354.235, 354.235,354.234,354.234,354.234,354.233 ,354.233,354.232,354.231,354.231,354.23 ,354.229,354.229,354.228,354.227, 354.227,354.226,354.225,354.225,354.224 ,354.223,354.222,354.222,354.221, 354.219,354.218,354.217,354.216,354.419 ,354.69,354.874,355.038,355.254,355.254 ,355.254,355.254,355.254,355.254, 355.253,355.253,355.253,355.253,355.253 ,355.253,355.253,355.253,355.254, 355.254,355.254,355.254,355.254,355.254 ,355.254,355.255,355.255,355.255, 355.256,355.256,355.256,355.257,355.257 ,355.258,355.258,355.259,355.259,355.26 ,355.261,355.261,355.262,355.262, 355.263,355.264,355.264,355.265,355.267 ,355.266,355.267,355.268,355.227)
ORBIT_NUMBER = 2064
ORBITAL_ECCENTRICITY = 0.572
ORBITAL_INCLINATION = 86.61
ORBITAL_SEMIMAJOR_AXIS = 8622.2
PERIAPSIS_ALTITUDE = 290.02
PERIAPSIS_ARGUMENT_ANGLE = 355.65
PERIAPSIS_TIME = 2005-08-23T16:25:37.000Z
SPACECRAFT_ORIENTATION = (0.0,1.0,0.0)
^MEX_ORIENTATION_DESC = "MEX_ORIENTATION_DESC.TXT"
SPACECRAFT_POINTING_MODE = NADIR
^MEX_POINTING_DESC = "MEX_POINTING_DESC.TXT"
RIGHT_ASCENSION = -1e+32
DECLINATION = -1e+32
OFFSET_ANGLE = -1e+32
SPACECRAFT_SOLAR_DISTANCE = 2.08102e+08
TARGET_NAME = MARS
/* CAMERA DATA ELEMENTS */
DETECTOR_TEMPERATURE = 19.1861
FOCAL_PLANE_TEMPERATURE = 10.8262
INST_CMPRS_NAME = "DISCRETE COSINE TRANSFORMATION (DCT)"
INST_CMPRS_RATIO = 19.4221
INST_CMPRS_QUALITY = 0
INST_CMPRS_QUANTZ_TBL_ID = 0
INSTRUMENT_TEMPERATURE = 11.8457
LENS_TEMPERATURE = 10.8262
MACROPIXEL_SIZE = 4
MISSING_FRAMES = 0
PIXEL_SUBSAMPLING_FLAG = N
SIGNAL_CHAIN_ID = 2
/* RADIOMETRIC DATA ELEMENTS */
BANDWIDTH = 48.0
CENTER_FILTER_WAVELENGTH = 748.0
RADIANCE_OFFSET = 1.1975
RADIANCE_SCALING_FACTOR = 0.00583836
REFLECTANCE_SCALING_FACTOR = 0.000576992
MEX:REFLECTANCE_OFFSET = 0.118346
/* IMAGE OBJECT DEFINITIONS */
OBJECT = IMAGE
  INTERCHANGE_FORMAT = BINARY
  LINES = 9503
  LINE_SAMPLES = 1332
  SAMPLE_TYPE = UNSIGNED_INTEGER
  SAMPLE_BITS = 8
  BANDS = 1
  BAND_STORAGE_TYPE = BAND_SEQUENTIAL
  MAXIMUM = 175
  MEAN = 111.851
  MINIMUM = 72
  STANDARD_DEVIATION = 24.6662
END_OBJECT = IMAGE
/* MAP OBJECT DEFINITIONS */
OBJECT = IMAGE_MAP_PROJECTION
  ^DATA_SET_MAP_PROJECTION_CATALOG= "DSMAP.CAT"
  A_AXIS_RADIUS = 3396.0
  B_AXIS_RADIUS = 3396.0
  C_AXIS_RADIUS = 3396.0
  CENTER_LATITUDE = 0.0
  CENTER_LONGITUDE = 355.0
  COORDINATE_SYSTEM_NAME = PLANETOGRAPHIC
  COORDINATE_SYSTEM_TYPE = "BODY-FIXED ROTATING"
  EASTERNMOST_LONGITUDE = 355.268
  FIRST_STANDARD_PARALLEL = "N/A"
  LINE_FIRST_PIXEL = 1
  LINE_LAST_PIXEL = 9503
  LINE_PROJECTION_OFFSET = 2316.625
  MAP_PROJECTION_ROTATION = 0.0
  MAP_PROJECTION_TYPE = SINUSOIDAL
  MAP_RESOLUTION = 1185.42760773333
  MAP_SCALE = 0.05
  MAXIMUM_LATITUDE = 1.96506
  MINIMUM_LATITUDE = -6.05894
  POSITIVE_LONGITUDE_DIRECTION = EAST
  REFERENCE_LATITUDE = "N/A"
  REFERENCE_LONGITUDE = "N/A"
  SAMPLE_FIRST_PIXEL = 1
  SAMPLE_LAST_PIXEL = 1332
  SAMPLE_PROJECTION_OFFSET = 975.125
  SECOND_STANDARD_PARALLEL = "N/A"
  WESTERNMOST_LONGITUDE = 354.216
END_OBJECT = IMAGE_MAP_PROJECTION
/* The JPEG2000 image data file associated with this label. */
OBJECT = COMPRESSED_FILE
  FILE_NAME = "H2064_0000_RE3.JP2"
  RECORD_TYPE = UNDEFINED
  FILE_RECORDS = UNK
  ENCODING_TYPE = "JP2"
  INTERCHANGE_FORMAT = BINARY
  UNCOMPRESSED_FILE_NAME = "H2064_0000_RE3.IMG"
  REQUIRED_STORAGE_BYTES = "12677976"
  ^DESCRIPTION = "JP2INFO.TXT"
END_OBJECT = COMPRESSED_FILE
END
