PDS_VERSION_ID = PDS3
/* FILE DATA ELEMENTS */
RECORD_TYPE = STREAM
/* POINTERS TO DATA OBJECTS */
^COMPRESSED_FILE = "H2064_0000_S23.JP2"
/* IDENTIFICATION DATA ELEMENTS */
DATA_SET_ID = "MEX-M-HRSC-5-REFDR-MAPPROJECTED-V3.0"
DATA_SET_NAME = "MARS EXPRESS HRSC MAP PROJECTED REFDR V3.0"
DETECTOR_ID = MEX_HRSC_S2
EVENT_TYPE = "MARS-LOCAL-CARTOGRAPHY-Tc-Ot-Ts"
INSTRUMENT_HOST_ID = MEX
INSTRUMENT_HOST_NAME = "MARS EXPRESS"
INSTRUMENT_ID = HRSC
INSTRUMENT_NAME = "HIGH RESOLUTION STEREO CAMERA"
MISSION_NAME = "MARS EXPRESS"
MISSION_PHASE_NAME = MR_Phase_7
PROCESSING_LEVEL_ID = 3
PRODUCT_CREATION_TIME = 2016-03-10T10:27:20.000Z
PRODUCT_ID = "H2064_0000_S23.JP2"
RELEASE_ID = 0026
REVISION_ID = 0000
/* QUALITY DATA ELEMENTS */
DATA_QUALITY_ID = 1
DATA_QUALITY_DESC = "Data calculated based on original SPICE kernels"
/* TIME DATA ELEMENTS */
SPACECRAFT_CLOCK_START_COUNT = "1/0072894277.57303"
SPACECRAFT_CLOCK_STOP_COUNT = "1/0072894453.15582"
START_TIME = 2005-08-23T16:24:45.039Z
STOP_TIME = 2005-08-23T16:26:46.049Z
/* ORBITAL DATA ELEMENTS */
ASCENDING_NODE_LONGITUDE = 184.99
MAXIMUM_RESOLUTION = 24.9
FOOTPRINT_POINT_LATITUDE = (-6.06336,-6.06407,-6.0642,-6.06404, -6.06366,-6.05138,-5.81235,-5.57374, -5.33515,-5.17613,-4.93775,-4.77886, -4.53915,-4.299,-4.13891,-3.97811, -3.7392,-3.58013,-3.4185,-3.17781, -3.01709,-2.77734,-2.53743,-2.37742, -2.13694,-1.89601,-1.65477,-1.49389, -1.25259,-1.09159,-0.930683,-0.769612, -0.527742,-0.366124,-0.204769, -0.0441603,0.116832,0.278256,0.439857, 0.601128,0.76274,1.00508,1.16678, 1.32886,1.4911,1.7328,1.89491,1.98065, 1.97971,1.97942,1.97956,1.97978,1.98028 ,1.98066,1.8997,1.73794,1.57641,1.41451 ,1.17214,1.01036,0.767888,0.52534, 0.363956,0.202966,0.0417048,-0.199994, -0.361197,-0.522022,-0.683461,-0.844611 ,-1.0858,-1.24668,-1.40774,-1.56855, -1.72938,-1.89003,-2.05072,-2.29173, -2.45246,-2.61302,-2.77314,-3.01316, -3.25335,-3.41394,-3.57408,-3.73416, -3.89432,-4.05389,-4.2935,-4.4534, -4.61308,-4.77263,-4.93207,-5.09124, -5.25098,-5.40684,-5.56973,-5.72869, -5.96717,-6.06336)
FOOTPRINT_POINT_LONGITUDE = (355.138,354.878,354.698,354.538, 354.368,354.231,354.232,354.232,354.232 ,354.233,354.233,354.233,354.233, 354.233,354.233,354.233,354.233,354.233 ,354.232,354.232,354.232,354.231, 354.231,354.231,354.231,354.23,354.23, 354.229,354.228,354.228,354.227,354.227 ,354.226,354.225,354.224,354.224, 354.223,354.223,354.222,354.221,354.22, 354.219,354.218,354.217,354.216,354.215 ,354.214,354.284,354.415,354.587, 354.738,354.929,355.08,355.181,355.255, 355.255,355.255,355.255,355.255,355.254 ,355.254,355.254,355.254,355.254, 355.254,355.255,355.255,355.255,355.255 ,355.255,355.255,355.256,355.256, 355.256,355.256,355.257,355.257,355.257 ,355.258,355.258,355.259,355.259,355.26 ,355.26,355.261,355.261,355.262,355.263 ,355.263,355.264,355.265,355.265, 355.266,355.267,355.267,355.269,355.268 ,355.269,355.27,355.138)
ORBIT_NUMBER = 2064
ORBITAL_ECCENTRICITY = 0.572
ORBITAL_INCLINATION = 86.61
ORBITAL_SEMIMAJOR_AXIS = 8622.2
PERIAPSIS_ALTITUDE = 290.02
PERIAPSIS_ARGUMENT_ANGLE = 355.65
PERIAPSIS_TIME = 2005-08-23T16:25:37.000Z
SPACECRAFT_ORIENTATION = (0.0,1.0,0.0)
^MEX_ORIENTATION_DESC = "MEX_ORIENTATION_DESC.TXT"
SPACECRAFT_POINTING_MODE = NADIR
^MEX_POINTING_DESC = "MEX_POINTING_DESC.TXT"
RIGHT_ASCENSION = -1e+32
DECLINATION = -1e+32
OFFSET_ANGLE = -1e+32
SPACECRAFT_SOLAR_DISTANCE = 2.08102e+08
TARGET_NAME = MARS
/* CAMERA DATA ELEMENTS */
DETECTOR_TEMPERATURE = 19.1861
FOCAL_PLANE_TEMPERATURE = 10.8262
INST_CMPRS_NAME = "DISCRETE COSINE TRANSFORMATION (DCT)"
INST_CMPRS_RATIO = 10.843
INST_CMPRS_QUALITY = 0
INST_CMPRS_QUANTZ_TBL_ID = 0
INSTRUMENT_TEMPERATURE = 11.8457
LENS_TEMPERATURE = 10.8262
MACROPIXEL_SIZE = 2
MISSING_FRAMES = 0
PIXEL_SUBSAMPLING_FLAG = N
SIGNAL_CHAIN_ID = 1
/* RADIOMETRIC DATA ELEMENTS */
BANDWIDTH = 178.0
CENTER_FILTER_WAVELENGTH = 679.0
RADIANCE_OFFSET = 4.80489
RADIANCE_SCALING_FACTOR = 0.0197508
REFLECTANCE_SCALING_FACTOR = 0.000452966
MEX:REFLECTANCE_OFFSET = 0.110196
/* IMAGE OBJECT DEFINITIONS */
OBJECT = IMAGE
  INTERCHANGE_FORMAT = BINARY
  LINES = 19006
  LINE_SAMPLES = 2664
  SAMPLE_TYPE = UNSIGNED_INTEGER
  SAMPLE_BITS = 8
  BANDS = 1
  BAND_STORAGE_TYPE = BAND_SEQUENTIAL
  MAXIMUM = 178
  MEAN = 120.746
  MINIMUM = 80
  STANDARD_DEVIATION = 22.3437
END_OBJECT = IMAGE
/* MAP OBJECT DEFINITIONS */
OBJECT = IMAGE_MAP_PROJECTION
  ^DATA_SET_MAP_PROJECTION_CATALOG= "DSMAP.CAT"
  A_AXIS_RADIUS = 3396.0
  B_AXIS_RADIUS = 3396.0
  C_AXIS_RADIUS = 3396.0
  CENTER_LATITUDE = 0.0
  CENTER_LONGITUDE = 355.0
  COORDINATE_SYSTEM_NAME = PLANETOGRAPHIC
  COORDINATE_SYSTEM_TYPE = "BODY-FIXED ROTATING"
  EASTERNMOST_LONGITUDE = 355.27
  FIRST_STANDARD_PARALLEL = "N/A"
  LINE_FIRST_PIXEL = 1
  LINE_LAST_PIXEL = 19006
  LINE_PROJECTION_OFFSET = 4633.75
  MAP_PROJECTION_ROTATION = 0.0
  MAP_PROJECTION_TYPE = SINUSOIDAL
  MAP_RESOLUTION = 2370.85521546667
  MAP_SCALE = 0.025
  MAXIMUM_LATITUDE = 1.98066
  MINIMUM_LATITUDE = -6.0642
  POSITIVE_LONGITUDE_DIRECTION = EAST
  REFERENCE_LATITUDE = "N/A"
  REFERENCE_LONGITUDE = "N/A"
  SAMPLE_FIRST_PIXEL = 1
  SAMPLE_LAST_PIXEL = 2664
  SAMPLE_PROJECTION_OFFSET = 1950.75
  SECOND_STANDARD_PARALLEL = "N/A"
  WESTERNMOST_LONGITUDE = 354.214
END_OBJECT = IMAGE_MAP_PROJECTION
/* The JPEG2000 image data file associated with this label. */
OBJECT = COMPRESSED_FILE
  FILE_NAME = "H2064_0000_S23.JP2"
  RECORD_TYPE = UNDEFINED
  FILE_RECORDS = UNK
  ENCODING_TYPE = "JP2"
  INTERCHANGE_FORMAT = BINARY
  UNCOMPRESSED_FILE_NAME = "H2064_0000_S23.IMG"
  REQUIRED_STORAGE_BYTES = "50653296"
  ^DESCRIPTION = "JP2INFO.TXT"
END_OBJECT = COMPRESSED_FILE
END
